{"text_format":"1","workbook":"xlsx","n_sheets":2,"sheets":["Munka1","DAX Lot számláló"],"not_rendered":{"charts":4,"images":0,"macros":1,"external_links":0,"defined_names":3,"comments":0,"pivot_tables":0},"unopened":[],"bounds":{"document_bytes":16777216,"sheet_cells":100000,"rows_first":2000,"rows_last":500,"rows_between":2000,"halvings":0,"cell_chars":16384,"cell_head_chars":4096},"cells_cut":0,"cells_raw":0,"read":"whole","date_system":"1900"}

{"sheet":"Munka1","index":0,"n_rows":1951,"n_cols":127,"rows_kept":1125,"cut":true,"hidden":false,"merged":[[0,0,0,7],[0,38,0,40],[27,79,27,83],[23,100,26,101],[0,32,0,34],[0,35,0,37],[0,8,0,24],[2,23,2,24],[12,10,12,19],[11,10,11,19],[11,23,11,24],[30,109,30,110],[31,109,31,110],[0,41,0,54],[17,102,17,103],[14,104,14,105],[15,104,15,105]],"bounds":{"rows_first":500,"rows_last":125,"rows_between":500,"halvings":2}}
[null,null,null,null,null,null,null,null,"P O R T F Ó L I Ó"]
[null,null,null,null,null,null,null,null,"Számla egyenleg",{"$f":"X2+J3","v":5000},"Hozam (nettó)",null,null,null,null,null,null,null,null,{"$f":"(X2/J3)","v":0},null,null,null,{"$f":"SUBTOTAL(9,(table1[Nettó hozam]))","v":0},{"$f":"SUBTOTAL(9,(table1[R hozam]))","v":0},null,null,null,null,null,null,null,null,null,null,null,null,null,null,null,null,null,null,null,null,null,null,null,null,null,null,null,null,null,null,null,null,null,null,null,null,null,null,null,null,null,null,null,null,null,null,null,null,null,null,null,null,null,null,null,null,null,"R","db","hányados",null,null,null,"hányados","db","R"]
[null,null,null,null,null,null,null,null,"Kezdő Egyenleg",5000,"MAXIMÁLIS DD",null,null,null,null,null,null,null,null,{"$f":"MIN(AO30:AO32)","v":0},null,null,null,{"$f":"VLOOKUP(AO36,AO30:AP32,2,FALSE)","v":""},null,null,null,null,null,null,null,null,null,null,null,null,null,null,null,null,null,null,null,null,null,null,null,null,null,null,null,null,null,null,null,null,null,null,null,null,null,null,null,null,null,null,null,null,null,null,null,null,null,null,null,null,null,null,null,null,null,"Hétfő",{"$f":"SUBTOTAL(9,CF30:CF32)","v":0},{"$f":"SUBTOTAL(9,CE30:CE32)","v":0},{"$f":"CE3/CF3","v":{"$error":"#DIV/0!"}},null,null,8,{"$f":"CM3/CL3","v":{"$error":"#DIV/0!"}},{"$f":"SUMIF(CR30:CR32,\">0,51\")","v":0},{"$f":"SUBTOTAL(9,CS30:CS32)","v":0}]
[null,null,null,null,null,null,null,null,"Találati Arány (0-val)",{"$f":"J8/(J8+J9+J10)","v":0},"Max nyerő széria",null,null,null,null,null,null,null,null,{"$f":"MAX(BJ30:BJ32)","v":0},null,null,null,{"$f":"MAX(BN50:BN1951)","v":0},{"$f":"VLOOKUP(BL48,BN50:BO1951,2,FALSE)","v":0},null,null,null,null,null,null,null,null,null,null,null,null,null,null,null,null,null,null,null,null,null,null,null,null,null,null,null,null,null,null,null,null,null,null,null,null,null,null,null,null,null,null,null,null,null,null,null,null,null,null,null,null,null,null,null,null,"kedd",{"$f":"SUBTOTAL(9,CH30:CH32)","v":0},{"$f":"SUBTOTAL(9,CG30:CG32)","v":0},{"$f":"CE4/CF4","v":{"$error":"#DIV/0!"}},null,null,9,{"$error":"#DIV/0!"},{"$f":"SUMIF(CT30:CT32,\">0,51\")","v":0},{"$f":"SUBTOTAL(9,CU30:CU33)","v":0}]
[null,null,null,null,null,null,null,null,"Találati Arány ",{"$f":"J8/(J8+J9)","v":{"$error":"#DIV/0!"}},"Max vesztő széria",null,null,null,null,null,null,null,null,{"$f":"MIN(BB30:BB32)","v":0},null,null,null,{"$f":"MIN(BA50:BA1951)","v":0},{"$f":"VLOOKUP(BF48,BA50:BG1951,7,FALSE)","v":0},null,null,null,null,null,null,null,null,null,null,null,null,null,null,null,null,null,null,null,null,null,null,null,null,null,null,null,null,null,null,null,null,null,null,null,null,null,null,null,null,null,null,null,null,null,null,null,null,null,null,null,null,null,null,null,null,"Szerda",{"$f":"SUBTOTAL(9,CJ30:CJ32)","v":0},{"$f":"SUBTOTAL(9,CI30:CI32)","v":0},{"$f":"CE5/CF5","v":{"$error":"#DIV/0!"}},null,null,10,{"$error":"#DIV/0!"},{"$f":"SUMIF(CV30:CV32,\">0,51\")","v":0},{"$f":"SUBTOTAL(9,CW30:CW33)","v":0}]
[null,null,null,null,null,null,null,null,"Profit Faktor",{"$f":"Y10/ABS(Y11)","v":{"$error":"#DIV/0!"}},"Átlagos nyerő",null,null,null,null,null,null,null,null,{"$f":"SUBTOTAL(1,BW30:BW32)","v":{"$error":"#DIV/0!"}},null,null,null,{"$f":"X10/J8","v":{"$error":"#DIV/0!"}},{"$f":"Y10/J8","v":{"$error":"#DIV/0!"}},null,null,null,null,null,null,null,null,null,null,null,null,null,null,null,null,null,null,null,null,null,null,null,null,null,null,null,null,100,null,null,null,null,null,null,null,null,null,null,null,null,null,null,null,null,null,null,null,null,null,null,null,null,null,null,null,"Csütörtök",{"$f":"SUBTOTAL(9,CL30:CL32)","v":0},{"$f":"SUBTOTAL(9,CK30:CK32)","v":0},{"$f":"CE6/CF6","v":{"$error":"#DIV/0!"}},null,null,11,{"$error":"#DIV/0!"},{"$f":"SUMIF(CX30:CX32,\">0,51\")","v":0},{"$f":"SUBTOTAL(9,CY30:CY32)","v":0}]
[null,null,null,null,null,null,null,null,"PayoffRatio",{"$f":"(Y6/Y7)*-1","v":{"$error":"#DIV/0!"}},"Átlagos Vesztő",null,null,null,null,null,null,null,null,{"$f":"SUBTOTAL(1,BX30:BX32)","v":{"$error":"#DIV/0!"}},null,null,null,{"$f":"X11/J9","v":{"$error":"#DIV/0!"}},{"$f":"Y11/J9","v":{"$error":"#DIV/0!"}},null,null,null,null,null,null,null,null,null,null,null,null,null,null,null,null,null,null,null,null,null,null,null,null,null,null,null,null,1000,null,null,null,null,null,null,null,null,null,null,null,null,null,null,null,null,null,null,null,null,null,null,null,null,null,null,null,"Péntek",{"$f":"SUBTOTAL(9,CN30:CN32)","v":0},{"$f":"SUBTOTAL(9,CM30:CM32)","v":0},{"$f":"CE7/CF7","v":{"$error":"#DIV/0!"}},null,null,12,{"$error":"#DIV/0!"},{"$f":"SUMIF(CZ30:CZ32,\">0,51\")","v":0},{"$f":"SUBTOTAL(9,DA30:DA32)","v":0}]
[null,null,null,null,null,null,null,null,"Összes Nyerő",{"$f":"SUBTOTAL(2,BY30:BY32)","v":0},"Legnagyobb nyerő",null,null,null,null,null,null,null,null,{"$f":"SUBTOTAL(4,BU30:BU32)","v":0},null,null,null,{"$f":"SUBTOTAL(4,table1[Nettó hozam])","v":0},{"$f":"SUBTOTAL(4,table1[R hozam])","v":0},null,null,null,null,null,null,null,null,null,null,null,null,null,null,null,null,null,null,null,null,null,null,null,null,null,null,null,null,100000,null,null,null,null,null,null,null,null,null,null,null,null,null,null,null,null,null,null,null,null,null,null,null,null,null,null,null,null,null,null,null,null,null,13,{"$error":"#DIV/0!"},{"$f":"SUMIF(DB30:DB32,\">0,51\")","v":0},{"$f":"SUBTOTAL(9,DC30:DC32)","v":0}]
[null,null,null,null,null,null,null,null,"Összes Vesztő",{"$f":"SUBTOTAL(2,BZ30:BZ32)","v":0},"Legnagyobb vesztő",null,null,null,null,null,null,null,null,{"$f":"SUBTOTAL(5,BU30:BU32)","v":0},null,null,null,{"$f":"SUBTOTAL(5,table1[Nettó hozam])","v":0},{"$f":"SUBTOTAL(5,table1[R hozam])","v":0},null,null,null,null,null,null,null,null,null,null,null,null,null,null,null,null,null,null,null,null,null,null,null,null,null,null,null,null,null,null,null,null,null,null,null,null,null,null,null,null,null,null,null,null,null,null,null,null,null,null,null,null,null,null,null,null,null,null,null,null,null,null,14,{"$error":"#DIV/0!"},{"$f":"SUMIF(DD30:DD32,\">0,51\")","v":0},{"$f":"SUBTOTAL(9,DE30:DE32)","v":0}]
[null,null,null,null,null,null,null,null,"Összes Nullás",{"$f":"SUBTOTAL(2,CC30:CC32)","v":2},"Összes hozam",null,null,null,null,null,null,null,null,{"$f":"X10/J3","v":0},null,null,null,{"$f":"SUBTOTAL(9,BQ30:BQ32)","v":0},{"$f":"SUBTOTAL(9,BS30:BS32)","v":0},null,null,null,null,null,null,null,null,null,null,null,null,null,null,null,null,null,null,null,null,null,null,null,null,null,null,null,null,null,null,null,null,null,null,null,null,null,null,null,null,null,null,null,null,null,null,null,null,null,null,null,null,null,null,null,null,null,null,null,null,null,null,15,{"$error":"#DIV/0!"},{"$f":"SUMIF(DF30:DF32,\">0,51\")","v":0},{"$f":"SUBTOTAL(9,DH30:DH32)","v":0}]
[null,null,null,null,null,null,null,null,"Összes Trade",{"$f":"SUBTOTAL(2,table1[Nettó hozam])","v":0},"Összes Veszteség",null,null,null,null,null,null,null,null,{"$f":"X11/J3","v":0},null,null,null,{"$f":"SUBTOTAL(9,BR30:BR32)","v":0},{"$f":"SUBTOTAL(9,BT30:BT32)","v":0},null,null,null,null,null,null,null,null,null,null,null,null,null,null,null,null,null,null,null,null,null,null,null,null,null,null,null,null,null,null,null,null,null,null,null,null,null,null,null,null,null,null,null,null,null,null,null,null,null,null,null,null,null,null,null,null,null,null,null,null,null,null,16,{"$error":"#DIV/0!"},{"$f":"SUMIF(DJ30:DJ32,\">0,51\")","v":0},{"$f":"SUBTOTAL(9,DK30:DK32)","v":0}]
[null,null,null,null,null,null,null,null,"nyerő tradek átl. ideje",{"$f":"CP29","v":{"$error":"#DIV/0!"}},"N Y I T O T T  P O Z Í C I Ó K",null,null,null,null,null,null,null,null,null,null,null,null,{"$f":"COUNT(T16:T30)","v":1},null,null,null,null,null,null,null,null,null,null,null,null,null,null,null,null,null,null,null,null,null,null,null,null,null,null,null,null,null,null,null,null,null,null,null,null,null,null,null,null,null,null,null,null,null,null,null,null,null,null,null,null,null,null,null,null,null,null,null,null,null,null,null,17,{"$error":"#DIV/0!"},{"$f":"SUMIF(DL30:DL32,\">0,51\")","v":0},{"$f":"SUBTOTAL(9,DM30:DM32)","v":0}]
[null,null,null,null,null,null,null,null,"vesztő tradek átl. ideje",{"$f":"CQ29","v":{"$error":"#DIV/0!"}},"L E B E G Ő  K O C K Á Z A T",null,null,null,null,null,null,null,null,null,null,null,null,{"$f":"SUM(Y13/J2)","v":-1.0800000000000001E-2},{"$f":"SUM(T16:T30)","v":-54},null,null,null,null,null,null,null,null,null,null,null,null,null,null,null,null,null,null,null,null,null,null,null,null,null,null,null,null,null,null,null,null,null,null,null,null,null,null,null,null,null,null,null,null,null,null,null,null,null,null,null,null,null,null,null,null,null,null,null,null,null,null,18,{"$error":"#DIV/0!"},{"$f":"SUMIF(DN30:DN32,\">0,51\")","v":0},{"$f":"SUBTOTAL(9,DO30:DO32)","v":0}]
[null,null,null,null,null,null,null,null,null,null,null,null,null,null,null,null,null,null,null,null,null,null,null,null,null,null,null,null,null,null,null,null,null,null,null,null,null,null,null,null,null,null,null,null,null,null,null,null,null,null,null,null,null,null,null,null,null,null,null,null,null,null,null,null,null,null,null,null,null,null,null,null,null,null,null,null,null,null,null,null,null,null,null,null,null,null,null,19,{"$error":"#DIV/0!"},{"$f":"SUMIF(DP30:DP32,\">0,51\")","v":0},{"$f":"SUBTOTAL(9,DQ30:DQ32)","v":0}]
[null,null,null,null,{"$f":"D15","v":0},{"$f":"TIME(C15,D15,E15)","v":"00:00:00"},{"$f":"B15+F15","v":"00:00:00"},null,null,null,null,{"$f":"IF(K15=\"long\",1,IF(K15=\"short\",-1,\"\"))","v":""},null,null,null,null,{"$f":"IF(H15=\"arany\",100,IF(H15=\"GBPJPY\",1000,IF(H15=\"EURUSD\",100000,IF(H15=\"eurjpy\",1000,IF(H15=\"EURCAD\",100000,IF(H15=\"EURAUD\",100000,IF(H15=\"EURCHF\",100000,IF(H15=\"EURHUF\",1000,IF(H15=\"GBPUSD\",100000,IF(H15=\"GBPCAD\",100000,IF(H15=\"GBPAUD\",100000,IF(H15=\"GBPCHF\",100000,IF(H15=\"GBPNZD\",100000,IF(H15=\"EURNZD\",100000,IF(H15=\"AUDUSD\",100000,IF(H15=\"AUDJPY\",1000,IF(H15=\"AUDCHF\",100000,IF(H15=\"USDCAD\",100000,IF(H15=\"USDHUF\",1000,IF(H15=\"CHFJPY\",1000,IF(H15=\"NZDJPY\",1000,IF(H15=\"EURGBP\",100000,IF(H15=\"AUDCAD\",100000,IF(H15=\"AUDNZD\",100000,IF(H15=\"USDCHF\",100000,IF(H15=\"CADJPY\",1000,IF(H15=\"USDJPY\",1000,IF(H15=\"NZDUSD\",100000,IF(H15=\"NZDCHF\",100000,\"\")))))))))))))))))))))))))))))","v":""},{"$f":"ABS((M15-N15)*Q15*L15*P15)*-1","v":{"$error":"#VALUE!"}},{"$f":"ISERR(R15)","v":true},null,{"$f":"R15/$J$2","v":{"$error":"#VALUE!"}},{"$f":"ISERR(U15)","v":true},{"$f":"IF(V15=FALSE,U15)","v":false},null,null,null,null,{"$f":"AA15","v":0},{"$f":"IF(AB15=\"\",\"\",TIME(Z15,AA15,AB15))","v":"00:00:00"},{"$f":"IF(AC15=\"\",\"\",Y15+AC15)","v":"00:00:00"},{"$f":"IF(AD15=\"\",\"\",AD15-G15)","v":"00:00:00"},null,null,null,null,null,null,null,null,null,null,null,null,null,null,null,null,null,null,null,null,null,null,null,null,null,null,null,null,null,null,null,null,null,null,null,null,null,null,null,null,null,null,null,null,null,null,null,null,null,null,null,null,null,null,null,null,20,{"$error":"#DIV/0!"},{"$f":"SUMIF(DR30:DR32,\">0,51\")","v":0},{"$f":"SUBTOTAL(9,DS30:DS32)","v":0}]
["Új Trade…","Dátum","Óra","Perc","MP","Óra formátum","dátum + óra","Instrumentum","Nyitó stratégia","KK-%","Irány","irány","Nyitó ár","Stop ár","Célár","Lot","Multiplikátor","risk $","hiba.e","RISK $","risk %","hiba.e","RISK %","Kilépési stratégia","Zárás dátuma","Óra","Perc","Mp","Óra formátum",null,"Trade időtartama","R hozam","Nettó hozam","Megjegyzés",null,null,null,null,null,null,null,null,null,null,null,null,null,null,null,null,null,null,null,null,null,null,null,null,null,null,null,null,null,null,null,null,null,null,null,null,null,null,null,null,null,null,null,null,null,null,null,null,null,null,null,null,null,20,{"$error":"#DIV/0!"},{"$f":"SUMIF(DR30:DR32,\">0,51\")","v":0},{"$f":"SUBTOTAL(9,DS30:DS32)","v":0}]
[null,null,null,null,{"$f":"D17","v":0},{"$f":"TIME(C17,D17,E17)","v":"00:00:00"},{"$f":"B17+F17","v":"00:00:00"},null,null,null,null,{"$f":"IF(K17=\"long\",1,IF(K17=\"short\",-1,\"\"))","v":""},null,null,null,null,{"$f":"IF(H17=\"arany\",100,IF(H17=\"GBPJPY\",1000,IF(H17=\"EURUSD\",100000,IF(H17=\"eurjpy\",1000,IF(H17=\"EURCAD\",100000,IF(H17=\"EURAUD\",100000,IF(H17=\"EURCHF\",100000,IF(H17=\"EURHUF\",1000,IF(H17=\"GBPUSD\",100000,IF(H17=\"GBPCAD\",100000,IF(H17=\"GBPAUD\",100000,IF(H17=\"GBPCHF\",100000,IF(H17=\"GBPNZD\",100000,IF(H17=\"EURNZD\",100000,IF(H17=\"AUDUSD\",100000,IF(H17=\"AUDJPY\",1000,IF(H17=\"AUDCHF\",100000,IF(H17=\"USDCAD\",100000,IF(H17=\"USDHUF\",1000,IF(H17=\"CHFJPY\",1000,IF(H17=\"NZDJPY\",1000,IF(H17=\"EURGBP\",100000,IF(H17=\"AUDCAD\",100000,IF(H17=\"AUDNZD\",100000,IF(H17=\"USDCHF\",100000,IF(H17=\"CADJPY\",1000,IF(H17=\"USDJPY\",1000,IF(H17=\"NZDUSD\",100000,IF(H17=\"NZDCHF\",100000,\"\")))))))))))))))))))))))))))))","v":""},{"$f":"ABS((M17-N17)*Q17*L17*P17)*-1","v":{"$error":"#VALUE!"}},{"$f":"ISERR(R17)","v":true},null,{"$f":"R17/$J$2","v":{"$error":"#VALUE!"}},{"$f":"ISERR(U17)","v":true},{"$f":"IF(V17=FALSE,U17)","v":false},null,null,null,null,{"$f":"AA17","v":0},{"$f":"IF(AB17=\"\",\"\",TIME(Z17,AA17,AB17))","v":"00:00:00"},{"$f":"IF(AC17=\"\",\"\",Y17+AC17)","v":"00:00:00"},{"$f":"IF(AD17=\"\",\"\",AD17-G17)","v":"00:00:00"},null,null,null,null,null,null,null,null,null,null,null,null,null,null,null,null,null,null,null,null,null,null,null,null,null,null,null,null,null,null,null,null,null,null,null,null,null,null,null,null,null,null,null,null,null,null,null,null,null,null,null,null,null,null,null,null,21,{"$f":"CM17/CL17","v":{"$error":"#DIV/0!"}},{"$f":"SUMIF(DT30:DT32,\">0,51\")","v":0},{"$f":"SUBTOTAL(9,DU30:DU32)","v":0}]
[null,null,null,null,{"$f":"D18","v":0},{"$f":"TIME(C18,D18,E18)","v":"00:00:00"},{"$f":"B18+F18","v":"00:00:00"},null,null,null,null,{"$f":"IF(K18=\"long\",1,IF(K18=\"short\",-1,\"\"))","v":""},null,null,null,null,{"$f":"IF(H18=\"arany\",100,IF(H18=\"GBPJPY\",1000,IF(H18=\"EURUSD\",100000,IF(H18=\"eurjpy\",1000,IF(H18=\"EURCAD\",100000,IF(H18=\"EURAUD\",100000,IF(H18=\"EURCHF\",100000,IF(H18=\"EURHUF\",1000,IF(H18=\"GBPUSD\",100000,IF(H18=\"GBPCAD\",100000,IF(H18=\"GBPAUD\",100000,IF(H18=\"GBPCHF\",100000,IF(H18=\"GBPNZD\",100000,IF(H18=\"EURNZD\",100000,IF(H18=\"AUDUSD\",100000,IF(H18=\"AUDJPY\",1000,IF(H18=\"AUDCHF\",100000,IF(H18=\"USDCAD\",100000,IF(H18=\"USDHUF\",1000,IF(H18=\"CHFJPY\",1000,IF(H18=\"NZDJPY\",1000,IF(H18=\"EURGBP\",100000,IF(H18=\"AUDCAD\",100000,IF(H18=\"AUDNZD\",100000,IF(H18=\"USDCHF\",100000,IF(H18=\"CADJPY\",1000,IF(H18=\"USDJPY\",1000,IF(H18=\"NZDUSD\",100000,IF(H18=\"NZDCHF\",100000,\"\")))))))))))))))))))))))))))))","v":""},{"$f":"ABS((M18-N18)*Q18*L18*P18)*-1","v":{"$error":"#VALUE!"}},{"$f":"ISERR(R18)","v":true},null,{"$f":"R18/$J$2","v":{"$error":"#VALUE!"}},{"$f":"ISERR(U18)","v":true},{"$f":"IF(V18=FALSE,U18)","v":false},null,null,null,null,{"$f":"AA18","v":0},{"$f":"IF(AB18=\"\",\"\",TIME(Z18,AA18,AB18))","v":"00:00:00"},{"$f":"IF(AC18=\"\",\"\",Y18+AC18)","v":"00:00:00"},{"$f":"IF(AD18=\"\",\"\",AD18-G18)","v":"00:00:00"},null,null,null,null,null,null,null,null,null,null,null,null,null,null,null,null,null,null,null,null,null,null,null,null,null,null,null,null,null,null,null,null,null,null,null,null,null,null,null,null,null,null,null,null,null,null,null,null,null,null,null,null,null,null,null,null,22,{"$f":"CM18/CL18","v":{"$error":"#DIV/0!"}},{"$f":"SUMIF(DV30:DV32,\">0,51\")","v":0},{"$f":"SUBTOTAL(9,DW30:DW32)","v":0}]
[null,null,null,null,{"$f":"D19","v":0},{"$f":"TIME(C19,D19,E19)","v":"00:00:00"},{"$f":"B19+F19","v":"00:00:00"},null,null,null,null,{"$f":"IF(K19=\"long\",1,IF(K19=\"short\",-1,\"\"))","v":""},null,null,null,null,{"$f":"IF(H19=\"arany\",100,IF(H19=\"GBPJPY\",1000,IF(H19=\"EURUSD\",100000,IF(H19=\"eurjpy\",1000,IF(H19=\"EURCAD\",100000,IF(H19=\"EURAUD\",100000,IF(H19=\"EURCHF\",100000,IF(H19=\"EURHUF\",1000,IF(H19=\"GBPUSD\",100000,IF(H19=\"GBPCAD\",100000,IF(H19=\"GBPAUD\",100000,IF(H19=\"GBPCHF\",100000,IF(H19=\"GBPNZD\",100000,IF(H19=\"EURNZD\",100000,IF(H19=\"AUDUSD\",100000,IF(H19=\"AUDJPY\",1000,IF(H19=\"AUDCHF\",100000,IF(H19=\"USDCAD\",100000,IF(H19=\"USDHUF\",1000,IF(H19=\"CHFJPY\",1000,IF(H19=\"NZDJPY\",1000,IF(H19=\"EURGBP\",100000,IF(H19=\"AUDCAD\",100000,IF(H19=\"AUDNZD\",100000,IF(H19=\"USDCHF\",100000,IF(H19=\"CADJPY\",1000,IF(H19=\"USDJPY\",1000,IF(H19=\"NZDUSD\",100000,IF(H19=\"NZDCHF\",100000,\"\")))))))))))))))))))))))))))))","v":""},{"$f":"ABS((M19-N19)*Q19*L19*P19)*-1","v":{"$error":"#VALUE!"}},{"$f":"ISERR(R19)","v":true},null,{"$f":"R19/$J$2","v":{"$error":"#VALUE!"}},{"$f":"ISERR(U19)","v":true},{"$f":"IF(V19=FALSE,U19)","v":false},null,null,null,null,{"$f":"AA19","v":0},{"$f":"IF(AB19=\"\",\"\",TIME(Z19,AA19,AB19))","v":"00:00:00"},{"$f":"IF(AC19=\"\",\"\",Y19+AC19)","v":"00:00:00"},{"$f":"IF(AD19=\"\",\"\",AD19-G19)","v":"00:00:00"}]
[null,null,null,null,0,"00:00:00","00:00:00",null,null,null,null,"",null,null,null,null,"",{"$error":"#VALUE!"},true,null,{"$error":"#VALUE!"},true,false,null,null,null,null,0,"00:00:00","00:00:00","00:00:00"]
[null,null,null,null,{"$f":"D21","v":0},{"$f":"TIME(C21,D21,E21)","v":"00:00:00"},{"$f":"B21+F21","v":"00:00:00"},null,null,null,null,{"$f":"IF(K21=\"long\",1,IF(K21=\"short\",-1,\"\"))","v":""},null,null,null,null,{"$f":"IF(H21=\"arany\",100,IF(H21=\"GBPJPY\",1000,IF(H21=\"EURUSD\",100000,IF(H21=\"eurjpy\",1000,IF(H21=\"EURCAD\",100000,IF(H21=\"EURAUD\",100000,IF(H21=\"EURCHF\",100000,IF(H21=\"EURHUF\",1000,IF(H21=\"GBPUSD\",100000,IF(H21=\"GBPCAD\",100000,IF(H21=\"GBPAUD\",100000,IF(H21=\"GBPCHF\",100000,IF(H21=\"GBPNZD\",100000,IF(H21=\"EURNZD\",100000,IF(H21=\"AUDUSD\",100000,IF(H21=\"AUDJPY\",1000,IF(H21=\"AUDCHF\",100000,IF(H21=\"USDCAD\",100000,IF(H21=\"USDHUF\",1000,IF(H21=\"CHFJPY\",1000,IF(H21=\"NZDJPY\",1000,IF(H21=\"EURGBP\",100000,IF(H21=\"AUDCAD\",100000,IF(H21=\"AUDNZD\",100000,IF(H21=\"USDCHF\",100000,IF(H21=\"CADJPY\",1000,IF(H21=\"USDJPY\",1000,IF(H21=\"NZDUSD\",100000,IF(H21=\"NZDCHF\",100000,\"\")))))))))))))))))))))))))))))","v":""},{"$f":"ABS((M21-N21)*Q21*L21*P21)*-1","v":{"$error":"#VALUE!"}},{"$f":"ISERR(R21)","v":true},null,{"$f":"R21/$J$2","v":{"$error":"#VALUE!"}},{"$f":"ISERR(U21)","v":true},{"$f":"IF(V21=FALSE,U21)","v":false},null,null,null,null,{"$f":"AA21","v":0},{"$f":"IF(AB21=\"\",\"\",TIME(Z21,AA21,AB21))","v":"00:00:00"},{"$f":"IF(AC21=\"\",\"\",Y21+AC21)","v":"00:00:00"},{"$f":"IF(AD21=\"\",\"\",AD21-G21)","v":"00:00:00"}]
[null,null,null,null,{"$f":"D22","v":0},{"$f":"TIME(C22,D22,E22)","v":"00:00:00"},{"$f":"B22+F22","v":"00:00:00"},null,null,null,null,"",null,null,null,null,{"$f":"IF(H22=\"arany\",100,IF(H22=\"GBPJPY\",1000,IF(H22=\"EURUSD\",100000,IF(H22=\"eurjpy\",1000,IF(H22=\"EURCAD\",100000,IF(H22=\"EURAUD\",100000,IF(H22=\"EURCHF\",100000,IF(H22=\"EURHUF\",1000,IF(H22=\"GBPUSD\",100000,IF(H22=\"GBPCAD\",100000,IF(H22=\"GBPAUD\",100000,IF(H22=\"GBPCHF\",100000,IF(H22=\"GBPNZD\",100000,IF(H22=\"EURNZD\",100000,IF(H22=\"AUDUSD\",100000,IF(H22=\"AUDJPY\",1000,IF(H22=\"AUDCHF\",100000,IF(H22=\"USDCAD\",100000,IF(H22=\"USDHUF\",1000,IF(H22=\"CHFJPY\",1000,IF(H22=\"NZDJPY\",1000,IF(H22=\"EURGBP\",100000,IF(H22=\"AUDCAD\",100000,IF(H22=\"AUDNZD\",100000,IF(H22=\"USDCHF\",100000,IF(H22=\"CADJPY\",1000,IF(H22=\"USDJPY\",1000,IF(H22=\"NZDUSD\",100000,IF(H22=\"NZDCHF\",100000,\"\")))))))))))))))))))))))))))))","v":""},{"$f":"ABS((M22-N22)*Q22*L22*P22)*-1","v":{"$error":"#VALUE!"}},true,null,{"$f":"R22/$J$2","v":{"$error":"#VALUE!"}},{"$f":"ISERR(U22)","v":true},{"$f":"IF(V22=FALSE,U22)","v":false},null,null,null,null,{"$f":"AA22","v":0},{"$f":"IF(AB22=\"\",\"\",TIME(Z22,AA22,AB22))","v":"00:00:00"},{"$f":"IF(AC22=\"\",\"\",Y22+AC22)","v":"00:00:00"},{"$f":"IF(AD22=\"\",\"\",AD22-G22)","v":"00:00:00"}]
[null,null,null,null,0,"00:00:00","00:00:00",null,null,null,null,"",null,null,null,null,"",{"$error":"#VALUE!"},true,null,{"$error":"#VALUE!"},true,false,null,null,null,null,0,"00:00:00","00:00:00","00:00:00"]
[null,null,null,null,{"$f":"D24","v":0},{"$f":"TIME(C24,D24,E24)","v":"00:00:00"},{"$f":"B24+F24","v":"00:00:00"},null,null,null,null,"",null,null,null,null,{"$f":"IF(H24=\"arany\",100,IF(H24=\"GBPJPY\",1000,IF(H24=\"EURUSD\",100000,IF(H24=\"eurjpy\",1000,IF(H24=\"EURCAD\",100000,IF(H24=\"EURAUD\",100000,IF(H24=\"EURCHF\",100000,IF(H24=\"EURHUF\",1000,IF(H24=\"GBPUSD\",100000,IF(H24=\"GBPCAD\",100000,IF(H24=\"GBPAUD\",100000,IF(H24=\"GBPCHF\",100000,IF(H24=\"GBPNZD\",100000,IF(H24=\"EURNZD\",100000,IF(H24=\"AUDUSD\",100000,IF(H24=\"AUDJPY\",1000,IF(H24=\"AUDCHF\",100000,IF(H24=\"USDCAD\",100000,IF(H24=\"USDHUF\",1000,IF(H24=\"CHFJPY\",1000,IF(H24=\"NZDJPY\",1000,IF(H24=\"EURGBP\",100000,IF(H24=\"AUDCAD\",100000,IF(H24=\"AUDNZD\",100000,IF(H24=\"USDCHF\",100000,IF(H24=\"CADJPY\",1000,IF(H24=\"USDJPY\",1000,IF(H24=\"NZDUSD\",100000,IF(H24=\"NZDCHF\",100000,\"\")))))))))))))))))))))))))))))","v":""},{"$f":"ABS((M24-N24)*Q24*L24*P24)*-1","v":{"$error":"#VALUE!"}},true,null,{"$f":"R24/$J$2","v":{"$error":"#VALUE!"}},{"$f":"ISERR(U24)","v":true},{"$f":"IF(V24=FALSE,U24)","v":false},null,null,null,null,{"$f":"AA24","v":0},{"$f":"IF(AB24=\"\",\"\",TIME(Z24,AA24,AB24))","v":"00:00:00"},{"$f":"IF(AC24=\"\",\"\",Y24+AC24)","v":"00:00:00"},{"$f":"IF(AD24=\"\",\"\",AD24-G24)","v":"00:00:00"}]
[null,null,null,null,0,"00:00:00","00:00:00",null,null,null,null,"",null,null,null,null,"",{"$error":"#VALUE!"},true,null,{"$error":"#VALUE!"},true,false,null,null,null,null,0,"00:00:00","00:00:00","00:00:00"]
[null,null,null,null,0,"00:00:00","00:00:00",null,null,null,null,"",null,null,null,null,"",{"$error":"#VALUE!"},true,null,{"$error":"#VALUE!"},true,false,null,null,null,null,0,"00:00:00","00:00:00","00:00:00"]
[null,41781,20,null,{"$f":"D27","v":0},{"$f":"TIME(C27,D27,E27)","v":"20:00:00"},{"$f":"B27+F27","v":"2014-05-22T20:00:00"},"Arany","Csatornatörés",1,"short",{"$f":"IF(K27=\"long\",1,IF(K27=\"short\",-1,\"\"))","v":-1},null,null,null,null,{"$f":"IF(H27=\"arany\",100,IF(H27=\"GBPJPY\",1000,IF(H27=\"EURUSD\",100000,IF(H27=\"eurjpy\",1000,IF(H27=\"EURCAD\",100000,IF(H27=\"EURAUD\",100000,IF(H27=\"EURCHF\",100000,IF(H27=\"EURHUF\",1000,IF(H27=\"GBPUSD\",100000,IF(H27=\"GBPCAD\",100000,IF(H27=\"GBPAUD\",100000,IF(H27=\"GBPCHF\",100000,IF(H27=\"GBPNZD\",100000,IF(H27=\"EURNZD\",100000,IF(H27=\"AUDUSD\",100000,IF(H27=\"AUDJPY\",1000,IF(H27=\"AUDCHF\",100000,IF(H27=\"USDCAD\",100000,IF(H27=\"USDHUF\",1000,IF(H27=\"CHFJPY\",1000,IF(H27=\"NZDJPY\",1000,IF(H27=\"EURGBP\",100000,IF(H27=\"AUDCAD\",100000,IF(H27=\"AUDNZD\",100000,IF(H27=\"USDCHF\",100000,IF(H27=\"CADJPY\",1000,IF(H27=\"USDJPY\",1000,IF(H27=\"NZDUSD\",100000,IF(H27=\"NZDCHF\",100000,\"\")))))))))))))))))))))))))))))","v":100},{"$f":"ABS((M27-N27)*Q27*L27*P27)*-1","v":0},{"$f":"ISERR(R27)","v":false},-54,{"$f":"R27/$J$2","v":0},{"$f":"ISERR(U27)","v":false},{"$f":"IF(V27=FALSE,U27)","v":0},"KK-ban kistopolt",41781,22,null,{"$f":"AA27","v":0},{"$f":"IF(AB27=\"\",\"\",TIME(Z27,AA27,AB27))","v":"22:00:00"},{"$f":"IF(AC27=\"\",\"\",Y27+AC27)","v":"2014-05-22T22:00:00"},{"$f":"IF(AD27=\"\",\"\",AD27-G27)","v":"02:00:00"},0,0,null,null,null,null,null,null,null,null,null,null,null,null,null,null,null,null,null,null,null,null,null,null,null,null,null,null,null,null,null,null,null,null,null,null,null,null,null,null,null,null,null,null,null,null,null,null,null,null,null,null,null,"db nyerő","db vesztő",null,"db nullás"]
[null,null,null,null,null,null,null,null,null,null,null,null,null,null,null,null,null,null,null,null,null,null,null,null,null,null,null,null,null,null,null,null,null,null,null,null,null,null,"szum részösz",{"$f":"SUBTOTAL(9,table1[Nettó hozam])","v":0},null,null,null,null,null,null,null,null,null,null,null,null,null,null,null,null,null,null,null,null,null,null,null,null,null,null,null,null,null,null,null,null,null,null,null,null,null,null,null,null,null,null,null,null,{"$f":"SUBTOTAL(9,BY30:BY32)","v":0},{"$f":"SUBTOTAL(9,BZ30:BZ32)","v":0}]
[null,null,null,null,null,null,null,null,null,null,null,null,null,null,null,null,null,null,null,null,null,null,null,null,null,null,null,null,null,null,null,null,{"$f":"SUBTOTAL(9,table1[Nettó hozam])","v":0},null,null,null,null,"kell???",null,null,"DD %","DD $",null,null,null,null,null,null,null,null,"mindenkori min",null,null,null,null,null,null,null,null,null,null,null,null,null,null,null,null,null,null,null,null,null,null,">0,29",null,null,null,null,null,null,null,null,null,null,null,null,null,null,null,null,null,null,null,{"$f":"SUBTOTAL(1,$CP$30:CP32)","v":{"$error":"#DIV/0!"}},{"$f":"SUBTOTAL(1,CQ30:CQ32)","v":{"$error":"#DIV/0!"}}]
["Sorszám","Dátum","Óra","Perc","Másodperc","ÓRA PERC ÖSSZEADVA","DÁTUM ÓRA SZUM","Instrumentum","Nyitó stratégia","               KK-%","Irány","irány2","Nyitó ár","Stop ár","Célár","Lot","Multiplikátor","risk ($)","hiba.e","RISK $","risk (%)","hiba.e2","RISK %","Kilépési stratégia","Zárás ideje","ÓRA.","Perc.","MP","ÓRA formátum","ÓRA + perc","Trade időtartama","R hozam","Nettó hozam","Megjegyzés","halmozott","Napok","Hozam","számla egyenleg","sorszám",{"$f":"J2","v":5000},null,"Drawdown $",null,null,null,null,null,null,null,null,null,null,null,null,null,null,null,null,null,null,null,null,null,null,null,null,null,"számla e","összes hozam","összes veszteség","összes + R","összes - R","leg. % ny/v",null,"átl ny %","átl v %","db nyerő","db vesztő","db vesztő","db 0",null,"nap","hétfő","H szum","kedd","K szum","szerda","Sz szum","cs","Csütörtök","p","Péntek",null,"nyerő t átlag","vesztő t átlag","8 óra","8 óra szum","9 óra","9 szum","10 óra","10 szum","11 óra",null,"12 óra",null,"13 óra",null,"14 óra",null,"15 óra",null,null,null,"16 óra",null,"17 óra",null,"18 óra",null,"19 óra",null,"20 óra",null,"21 óra",null,"22 óra"]
[{"$f":"1+A32","v":2},null,null,null,{"$f":"D31","v":0},{"$f":"TIME(C31,D31,E31)","v":"00:00:00"},{"$f":"B31+F31","v":"00:00:00"},null,"A FEJLÉC SZÜRKE CELLÁI KÉZZEL KITÖLTENDŐEK!",null,null,{"$f":"IF(K31=\"long\",1,IF(K31=\"short\",-1,\"\"))","v":""},null,null,null,null,{"$f":"IF(H31=\"arany\",100,IF(H31=\"GBPJPY\",1000,IF(H31=\"EURUSD\",100000,IF(H31=\"eurjpy\",1000,IF(H31=\"EURCAD\",100000,IF(H31=\"EURAUD\",100000,IF(H31=\"EURCHF\",100000,IF(H31=\"EURHUF\",1000,IF(H31=\"GBPUSD\",100000,IF(H31=\"GBPCAD\",100000,IF(H31=\"GBPAUD\",100000,IF(H31=\"GBPCHF\",100000,IF(H31=\"GBPNZD\",100000,IF(H31=\"EURNZD\",100000,IF(H31=\"AUDUSD\",100000,IF(H31=\"AUDJPY\",1000,IF(H31=\"AUDCHF\",100000,IF(H31=\"USDCAD\",100000,IF(H31=\"USDHUF\",1000,IF(H31=\"CHFJPY\",1000,IF(H31=\"NZDJPY\",1000,IF(H31=\"EURGBP\",100000,IF(H31=\"AUDCAD\",100000,IF(H31=\"AUDNZD\",100000,IF(H31=\"USDCHF\",100000,IF(H31=\"CADJPY\",1000,IF(H31=\"USDJPY\",1000,IF(H31=\"NZDUSD\",100000,IF(H31=\"NZDCHF\",100000,\"\")))))))))))))))))))))))))))))","v":""},{"$f":"ABS((M31-N31)*Q31*L31*P31)*-1","v":{"$error":"#VALUE!"}},{"$f":"ISERR(R31)","v":true},{"$f":"IF(S31=FALSE,R31)","v":false},{"$f":"R31/$J$2","v":{"$error":"#VALUE!"}},{"$f":"ISERR(U31)","v":true},{"$f":"IF(V31=FALSE,U31)","v":false},null,null,null,null,{"$f":"AA31","v":0},{"$f":"IF(AB31=\"\",\"\",TIME(Z31,AA31,AB31))","v":"00:00:00"},{"$f":"IF(AC31=\"\",\"\",Y31+AC31)","v":"00:00:00"},{"$f":"IF(AD31=\"\",\"\",AD31-G31)","v":"00:00:00"},null,null,null,{"$f":"SUM(AI32+table1[[#This Row],[Nettó hozam]])","v":5000},{"$f":"TEXT(WEEKDAY(table1[[#This Row],[Dátum]]),\"nnnn\")","v":"szombat"},{"$f":"SUBTOTAL(9,AG31:AG$33)","v":0},{"$f":"IF(AM31=0,AM32,IF(table1[[#This Row],[Nettó hozam]]=\"\",\"\",AL32+table1[[#This Row],[Nettó hozam]]))","v":""},{"$f":"SUBTOTAL(9,table1[[#This Row],[Sorszám]])","v":2},{"$f":"$AL$33+(AK31)","v":5000},{"$f":"IF(AN31=\" \",\" \",IF(AG31=\" \",\" \",AN31/MAX(AN31:$AN$32)-1))","v":0},{"$f":"IF(AN31=\"\",\"\",IF(AG31=\"\",\"\",AN31-MAX(AN31:$AN$33)))","v":""},{"$f":"SUBTOTAL(9,AF7:AF$33)","v":0},null,{"$f":"SUBTOTAL(9,AF31:AF$33)","v":0},{"$f":"IF(AN31<MAX(AN31:$AN$33),IF(AS31=\"\",\"\",IF(AF31=\"\",\"\",AS31-MAX(AS31:$AS$33))))","v":false},null,{"$f":"IF(AM31=0,AV32,IF(AO31<0,IF(AO31<AO32,AV32-1,IF(AO31=AO32,AV32,IF(AO31>AO32,AV32)))))","v":false},{"$f":"IF(AM31=0,AW32,IF(AO31<0,IF(AV31<AV32,table1[[#This Row],[R hozam]],IF(AV31=AV32,0,IF(AV31>AV32,0)))))","v":false},{"$f":"IF(AM31=0,AX32,IF(AW31<=0,AW31+AX32))","v":false},{"$f":"IF(AO31<0,MIN($AO31:AO$32))","v":false},{"$f":"IF(AM31=0,AZ32,IF(table1[[#This Row],[R hozam]]<0.29,IF(table1[[#This Row],[R hozam]]<0,-1,0),\"nyerő\"))","v":0},{"$f":"IF(AM31=0,BA32,IF(table1[[#This Row],[R hozam]]<0.3,IF(table1[[#This Row],[R hozam]]<0,IF(table1[[#This Row],[R hozam]]<-0.01,-1),0)))","v":0},{"$f":"IF(AM31=0,BB32,IF(BA31<0,BA31+BB32,IF(BA31=0,BB32+0)))","v":0},{"$f":"IF(AM31=0,BC32,IF(BA31<0,table1[[#This Row],[Nettó hozam]],IF(BA31=0,0)))","v":0},{"$f":"IF(AM31=0,BD32,IF(BC31<=0,BC31+BD32))","v":0},{"$f":"IF(AM31=0,AZ32,IF(table1[[#This Row],[R hozam]]<-0.1,IF(AZ32<0,AZ32-1,-1),IF(table1[[#This Row],[R hozam]]=0,AZ32,1)))","v":0},{"$f":"IF(AM31=0,BF32,IF(BA31=-1,table1[[#This Row],[R hozam]],IF(BA31=0,0)))","v":0},{"$f":"IF(AM31=0,BG32,IF(BF31<=0,BF31+BG32))","v":0},{"$f":"IF(AM31=0,BH32,IF(table1[[#This Row],[R hozam]]>0.29,IF(BH32>0,BH32+1,1),IF(table1[[#This Row],[R hozam]]=0,BH32,IF(table1[[#This Row],[R hozam]]=0.1,BH32,IF(table1[[#This Row],[R hozam]]=0.2,BH32,-1)))))","v":{"$error":"#REF!"}},{"$f":"IF(AM31=0,BI32,IF(table1[[#This Row],[R hozam]]>-0.31,IF(table1[[#This Row],[R hozam]]>0,IF(table1[[#This Row],[R hozam]]>0.29,1,0),0),-1))","v":0},{"$f":"IF(AM31=0,BJ32,IF(BI31>=0,IF(BJ32>=0,BI31+BJ32,IF(BI31=-1,-1))))","v":0},{"$f":"IF(AM31=0,BK32,IF(BI31>0,table1[[#This Row],[Nettó hozam]],IF(BI31=0,0,-1)))","v":0},{"$f":"IF(AM31=0,BL32,IF(BK31>=0,BK31+BL32))","v":0},{"$f":"IF(AM31=0,BI32,IF(table1[[#This Row],[R hozam]]>0.29,IF(BI32>0,BI32+1,1),IF(table1[[#This Row],[R hozam]]=0,BI32,0)))","v":0},{"$f":"IF(AM31=0,BN32,IF(BI31=1,table1[[#This Row],[R hozam]],IF(BI31=0,0,-1)))","v":0},{"$f":"IF(AM31=0,BO32,IF(BN31>=0,BN31+BO32))","v":0},{"$f":"SUM(BP32+AG31)","v":5000},{"$f":"IF(table1[[#This Row],[Nettó hozam]]>0,table1[[#This Row],[Nettó hozam]],0)","v":0},{"$f":"IF(table1[[#This Row],[Nettó hozam]]<0,table1[[#This Row],[Nettó hozam]],0)","v":0},{"$f":"IF(table1[[#This Row],[R hozam]]>0,table1[[#This Row],[R hozam]],0)","v":0},{"$f":"IF(table1[[#This Row],[R hozam]]<0,table1[[#This Row],[R hozam]],0)","v":0},{"$f":"table1[[#This Row],[Nettó hozam]]/AN32","v":0},{"$f":"IF(table1[[#This Row],[R hozam]]>0.29,1,-1)","v":-1},{"$f":"IF(BU31>0,IF(BV31=1,BU31,\" \"))","v":false},{"$f":"IF(BU31<0,BU31,\" \")","v":" "},{"$f":"IF(table1[[#This Row],[R hozam]]=\" \",\" \",IF(table1[[#This Row],[R hozam]]>0.29,1,\" \"))","v":" "},{"$f":"IF(table1[[#This Row],[Nettó hozam]]=\" \",\" \",IF(table1[[#This Row],[Nettó hozam]]<0,1,\" \"))","v":" "},{"$f":"IF(table1[[#This Row],[Nettó hozam]]=\" \",\" \",IF(table1[[#This Row],[Nettó hozam]]<0,1,\" \"))","v":" "},{"$f":"IF(table1[[#This Row],[R hozam]]=\" \",\" \",AND(table1[[#This Row],[R hozam]]<0.29,table1[[#This Row],[R hozam]]>-0.1,1))","v":true},{"$f":"IF(CB31=TRUE,1)","v":1},{"$f":"TEXT(WEEKDAY(table1[[#This Row],[Dátum]]),\"nnnn\")","v":"szombat"},{"$f":"IF(CD31=\"hétfő\",1,0)","v":0},{"$f":"IF(CD31=\"hétfő\",table1[R hozam],\" \")","v":" "},{"$f":"IF(CD31=\"kedd\",1,0)","v":0},{"$f":"IF(CD31=\"kedd\",table1[R hozam],\" \")","v":" "},{"$f":"IF(CD31=\"szerda\",1,0)","v":0},{"$f":"IF(CD31=\"szerda\",table1[R hozam],\" \")","v":" "},{"$f":"IF(CD31=\"csütörtök\",1,0)","v":0},{"$f":"IF(CD31=\"csütörtök\",table1[R hozam],\" \")","v":" "},{"$f":"IF(CD31=\"péntek\",1,0)","v":0},{"$f":"IF(CD31=\"péntek\",table1[R hozam],\" \")","v":" "},null,{"$f":"IF(table1[[#This Row],[R hozam]]>0.29,table1[[#This Row],[Trade időtartama]])","v":false},{"$f":"IF(table1[[#This Row],[R hozam]]<-0.1,table1[[#This Row],[Trade időtartama]])","v":false},{"$f":"IF(table1[Óra]=8,1,0)","v":0},{"$f":"IF(CR31=1,table1[[#This Row],[R hozam]],\" \")","v":" "},{"$f":"IF(table1[Óra]=9,1,0)","v":0},{"$f":"IF(CT31=1,table1[[#This Row],[R hozam]],\" \")","v":" "},{"$f":"IF(table1[Óra]=10,1,0)","v":0},{"$f":"IF(CV31=1,table1[[#This Row],[R hozam]],\" \")","v":" "},{"$f":"IF(table1[Óra]=11,1,0)","v":0},{"$f":"IF(CX31=1,table1[[#This Row],[R hozam]],\" \")","v":" "},{"$f":"IF(table1[Óra]=12,1,0)","v":0},{"$f":"IF(CZ31=1,table1[[#This Row],[R hozam]],\" \")","v":" "},{"$f":"IF(table1[Óra]=13,1,0)","v":0},{"$f":"IF(DB31=1,table1[[#This Row],[R hozam]],\" \")","v":" "},{"$f":"IF(table1[Óra]=14,1,0)","v":0},{"$f":"IF(DD31=1,table1[[#This Row],[R hozam]],\" \")","v":" "},{"$f":"IF(table1[Óra]=15,1,0)","v":0},null,{"$f":"IF(DF31=1,table1[[#This Row],[R hozam]],\" \")","v":" "},null,{"$f":"IF(table1[Óra]=16,1,0)","v":0},{"$f":"IF(DJ31=1,table1[[#This Row],[R hozam]],\" \")","v":" "},{"$f":"IF(table1[Óra]=17,1,0)","v":0},{"$f":"IF(DL31=1,table1[[#This Row],[R hozam]],\" \")","v":" "},{"$f":"IF(table1[Óra]=18,1,0)","v":0},{"$f":"IF(DN31=1,table1[[#This Row],[R hozam]],\" \")","v":" "},{"$f":"IF(table1[Óra]=19,1,0)","v":0},{"$f":"IF(DP31=1,table1[[#This Row],[R hozam]],\" \")","v":" "},{"$f":"IF(table1[Óra]=20,1,0)","v":0},{"$f":"IF(DR31=1,table1[[#This Row],[R hozam]],\" \")","v":" "},{"$f":"IF(table1[Óra]=21,1,0)","v":0},{"$f":"IF(DT31=1,table1[[#This Row],[R hozam]],\" \")","v":" "},{"$f":"IF(table1[Óra]=22,1,0)","v":0},{"$f":"IF(DV31=1,table1[[#This Row],[R hozam]],\" \")","v":" "}]
[1,null,null,null,{"$f":"D32","v":0},{"$f":"TIME(C32,D32,E32)","v":"00:00:00"},{"$f":"B32+F32","v":"00:00:00"},null,"A FEJLÉC SZÜRKE CELLÁI KÉZZEL KITÖLTENDŐEK!",null,null,"",null,null,null,null,{"$f":"IF(H32=\"arany\",100,IF(H32=\"GBPJPY\",1000,IF(H32=\"EURUSD\",100000,IF(H32=\"eurjpy\",1000,IF(H32=\"EURCAD\",100000,IF(H32=\"EURAUD\",100000,IF(H32=\"EURCHF\",100000,IF(H32=\"EURHUF\",1000,IF(H32=\"GBPUSD\",100000,IF(H32=\"GBPCAD\",100000,IF(H32=\"GBPAUD\",100000,IF(H32=\"GBPCHF\",100000,IF(H32=\"GBPNZD\",100000,IF(H32=\"EURNZD\",100000,IF(H32=\"AUDUSD\",100000,IF(H32=\"AUDJPY\",1000,IF(H32=\"AUDCHF\",100000,IF(H32=\"USDCAD\",100000,IF(H32=\"USDHUF\",1000,IF(H32=\"CHFJPY\",1000,IF(H32=\"NZDJPY\",1000,IF(H32=\"EURGBP\",100000,IF(H32=\"AUDCAD\",100000,IF(H32=\"AUDNZD\",100000,IF(H32=\"USDCHF\",100000,IF(H32=\"CADJPY\",1000,IF(H32=\"USDJPY\",1000,IF(H32=\"NZDUSD\",100000,IF(H32=\"NZDCHF\",100000,\"\")))))))))))))))))))))))))))))","v":""},{"$f":"ABS((M32-N32)*Q32*L32*P32)*-1","v":{"$error":"#VALUE!"}},true,false,{"$f":"R32/$J$2","v":{"$error":"#VALUE!"}},{"$f":"ISERR(U32)","v":true},{"$f":"IF(V32=FALSE,U32)","v":false},null,null,null,null,{"$f":"AA32","v":0},{"$f":"IF(AB32=\"\",\"\",TIME(Z32,AA32,AB32))","v":"00:00:00"},{"$f":"IF(AC32=\"\",\"\",Y32+AC32)","v":"00:00:00"},{"$f":"IF(AD32=\"\",\"\",AD32-G32)","v":"00:00:00"},null,null,null,{"$f":"J3+table1[[#This Row],[Nettó hozam]]","v":5000},{"$f":"TEXT(WEEKDAY(table1[[#This Row],[Dátum]]),\"nnnn\")","v":"szombat"},{"$f":"SUBTOTAL(9,AG32:AG$33)","v":0},{"$f":"IF(AM32=0,AM33,IF(table1[[#This Row],[Nettó hozam]]=\"\",\"\",AL33+table1[[#This Row],[Nettó hozam]]))","v":""},{"$f":"SUBTOTAL(9,table1[[#This Row],[Sorszám]])","v":1},{"$f":"$AL$33+(AK32)","v":5000},{"$f":"IF(AN32=\" \",\" \",IF(AG32=\" \",\" \",AN32/MAX($J$3)-1))","v":0},{"$f":"IF(AN32=\"\",\"\",IF(AG32=\"\",\"\",AN32-MAX(AN32:$AN$33)))","v":""},{"$f":"SUBTOTAL(9,AF8:AF$33)","v":0},null,{"$f":"SUBTOTAL(9,AF32:AF$33)","v":0},{"$f":"IF(AN32<MAX(AN32:$AN$33),IF(AS32=\"\",\"\",IF(AF32=\"\",\"\",AS32-MAX(AS32:$AS$33))))","v":false},null,{"$f":"IF(AM32=0,#REF!,IF(AO32<0,IF(AO32<#REF!,#REF!-1,IF(AO32=#REF!,#REF!,IF(AO32>#REF!,#REF!)))))","v":false},{"$f":"IF(AM32=0,#REF!,IF(AO32<0,IF(AV32<#REF!,table1[[#This Row],[R hozam]],IF(AV32=#REF!,0,IF(AV32>#REF!,0)))))","v":false},{"$f":"IF(AM32=0,#REF!,IF(AW32<=0,AW32+#REF!))","v":false},{"$f":"IF(AO32<0,MIN($AO32:AO$32))","v":false},{"$f":"IF(AM32=0,#REF!,IF(table1[[#This Row],[R hozam]]<0.29,IF(table1[[#This Row],[R hozam]]<0,-1,0),\"nyerő\"))","v":0},{"$f":"IF(AM32=0,BA33,IF(table1[[#This Row],[R hozam]]<0.3,IF(table1[[#This Row],[R hozam]]<0,IF(table1[[#This Row],[R hozam]]<-0.01,-1),0)))","v":0},0,{"$f":"IF(AM32=0,BC33,IF(BA32<0,table1[[#This Row],[Nettó hozam]],IF(BA32=0,0)))","v":0},0,{"$f":"IF(AM32=0,#REF!,IF(table1[[#This Row],[R hozam]]<-0.1,IF(#REF!<0,#REF!-1,-1),IF(table1[[#This Row],[R hozam]]=0,#REF!,1)))","v":{"$error":"#REF!"}},{"$f":"IF(AM32=0,BF33,IF(BA32=-1,table1[[#This Row],[R hozam]],IF(BA32=0,0)))","v":0},0,{"$f":"IF(AM32=0,#REF!,IF(table1[[#This Row],[R hozam]]>0.29,IF(#REF!>0,#REF!+1,1),IF(table1[[#This Row],[R hozam]]=0,#REF!,IF(table1[[#This Row],[R hozam]]=0.1,#REF!,IF(table1[[#This Row],[R hozam]]=0.2,#REF!,-1)))))","v":{"$error":"#REF!"}},{"$f":"IF(AM32=0,BI33,IF(table1[[#This Row],[R hozam]]>-0.31,IF(table1[[#This Row],[R hozam]]>0,IF(table1[[#This Row],[R hozam]]>0.29,1,0),0),-1))","v":0},0,{"$f":"IF(AM32=0,BK33,IF(BI32>0,table1[[#This Row],[Nettó hozam]],IF(BI32=0,0,-1)))","v":0},0,{"$f":"IF(AM32=0,#REF!,IF(table1[[#This Row],[R hozam]]>0.29,IF(#REF!>0,#REF!+1,1),IF(table1[[#This Row],[R hozam]]=0,#REF!,0)))","v":{"$error":"#REF!"}},{"$f":"IF(AM32=0,BN33,IF(BI32=1,table1[[#This Row],[R hozam]],IF(BI32=0,0,-1)))","v":0},0,{"$f":"SUM(J3+AG32)","v":5000},{"$f":"IF(table1[[#This Row],[Nettó hozam]]>0,table1[[#This Row],[Nettó hozam]],0)","v":0},{"$f":"IF(table1[[#This Row],[Nettó hozam]]<0,table1[[#This Row],[Nettó hozam]],0)","v":0},{"$f":"IF(table1[[#This Row],[R hozam]]>0,table1[[#This Row],[R hozam]],0)","v":0},{"$f":"IF(table1[[#This Row],[R hozam]]<0,table1[[#This Row],[R hozam]],0)","v":0},{"$f":"table1[[#This Row],[Nettó hozam]]/AN33","v":0},{"$f":"IF(table1[[#This Row],[R hozam]]>0.29,1,-1)","v":-1},false," ",{"$f":"IF(table1[[#This Row],[R hozam]]=\" \",\" \",IF(table1[[#This Row],[R hozam]]>0.29,1,\" \"))","v":" "},{"$f":"IF(table1[[#This Row],[Nettó hozam]]=\" \",\" \",IF(table1[[#This Row],[Nettó hozam]]<0,1,\" \"))","v":" "},{"$f":"IF(table1[[#This Row],[Nettó hozam]]=\" \",\" \",IF(table1[[#This Row],[Nettó hozam]]<0,1,\" \"))","v":" "},{"$f":"IF(table1[[#This Row],[R hozam]]=\" \",\" \",AND(table1[[#This Row],[R hozam]]<0.29,table1[[#This Row],[R hozam]]>-0.1,1))","v":true},1,{"$f":"TEXT(WEEKDAY(table1[[#This Row],[Dátum]]),\"nnnn\")","v":"szombat"},0,{"$f":"IF(CD32=\"hétfő\",table1[R hozam],\" \")","v":" "},0,{"$f":"IF(CD32=\"kedd\",table1[R hozam],\" \")","v":" "},0,{"$f":"IF(CD32=\"szerda\",table1[R hozam],\" \")","v":" "},0,{"$f":"IF(CD32=\"csütörtök\",table1[R hozam],\" \")","v":" "},0,{"$f":"IF(CD32=\"péntek\",table1[R hozam],\" \")","v":" "},null,{"$f":"IF(table1[[#This Row],[R hozam]]>0.29,table1[[#This Row],[Trade időtartama]])","v":false},{"$f":"IF(table1[[#This Row],[R hozam]]<-0.1,table1[[#This Row],[Trade időtartama]])","v":false},{"$f":"IF(table1[Óra]=8,1,0)","v":0},{"$f":"IF(CR32=1,table1[[#This Row],[R hozam]],\" \")","v":" "},{"$f":"IF(table1[Óra]=9,1,0)","v":0},{"$f":"IF(CT32=1,table1[[#This Row],[R hozam]],\" \")","v":" "},{"$f":"IF(table1[Óra]=10,1,0)","v":0},{"$f":"IF(CV32=1,table1[[#This Row],[R hozam]],\" \")","v":" "},{"$f":"IF(table1[Óra]=11,1,0)","v":0},{"$f":"IF(CX32=1,table1[[#This Row],[R hozam]],\" \")","v":" "},{"$f":"IF(table1[Óra]=12,1,0)","v":0},{"$f":"IF(CZ32=1,table1[[#This Row],[R hozam]],\" \")","v":" "},{"$f":"IF(table1[Óra]=13,1,0)","v":0},{"$f":"IF(DB32=1,table1[[#This Row],[R hozam]],\" \")","v":" "},{"$f":"IF(table1[Óra]=14,1,0)","v":0},{"$f":"IF(DD32=1,table1[[#This Row],[R hozam]],\" \")","v":" "},{"$f":"IF(table1[Óra]=15,1,0)","v":0},null,{"$f":"IF(DF32=1,table1[[#This Row],[R hozam]],\" \")","v":" "},null,{"$f":"IF(table1[Óra]=16,1,0)","v":0},{"$f":"IF(DJ32=1,table1[[#This Row],[R hozam]],\" \")","v":" "},{"$f":"IF(table1[Óra]=17,1,0)","v":0},{"$f":"IF(DL32=1,table1[[#This Row],[R hozam]],\" \")","v":" "},{"$f":"IF(table1[Óra]=18,1,0)","v":0},{"$f":"IF(DN32=1,table1[[#This Row],[R hozam]],\" \")","v":" "},{"$f":"IF(table1[Óra]=19,1,0)","v":0},{"$f":"IF(DP32=1,table1[[#This Row],[R hozam]],\" \")","v":" "},{"$f":"IF(table1[Óra]=20,1,0)","v":0},{"$f":"IF(DR32=1,table1[[#This Row],[R hozam]],\" \")","v":" "},{"$f":"IF(table1[Óra]=21,1,0)","v":0},{"$f":"IF(DT32=1,table1[[#This Row],[R hozam]],\" \")","v":" "},{"$f":"IF(table1[Óra]=22,1,0)","v":0},{"$f":"IF(DV32=1,table1[[#This Row],[R hozam]],\" \")","v":" "}]
[null,null,null,null,{"$f":"D33","v":0},{"$f":"TIME(C33,D33,E33)","v":"00:00:00"},{"$f":"B33+F33","v":"00:00:00"},null,null,null,null,"",null,null,null,null,null,null,false,0,{"$f":"R33/$J$2","v":0},{"$f":"ISERR(U33)","v":false},{"$f":"IF(V33=FALSE,U33)","v":0},null,null,null,{"$f":"Y33-B33","v":0},{"$f":"AA33","v":0},{"$f":"IF(AB33=\"\",\"\",TIME(Z33,AA33,AB33))","v":"00:00:00"},{"$f":"IF(AC33=\"\",\"\",Y33+AC33)","v":"00:00:00"},{"$f":"IF(AD33=\"\",\"\",AD33-G33)","v":"00:00:00"},null,null,null,{"$f":"J3","v":5000},{"$f":"TEXT(WEEKDAY(table1[[#This Row],[Dátum]]),\"nnnn\")","v":"szombat"},null,{"$f":"J3","v":5000},null,{"$f":"AL33","v":5000},{"$f":"IF(AN33=\" \",\" \",IF(AG33=\" \",\" \",AN33/MAX($J$3)-1))","v":0},null,null,null,null,null,null,null,null,null,null,null,null,null,null,null,null,null,null,null,null,null,null,null,null,null,null,null,null,null,null,null,null,null,null,null,null,null,null,null,null,null,null,{"$f":"IF(CE33=\"hétfő\",table1[R hozam],\" \")","v":" "}]
[]
[null,null,null,null,null,null,null,null,null,null,null,null,null,null,null,null,null,null,null,null,null,null,null,null,null,null,null,null,null,null,null,null,null,null,null,null,null,null,null,null,"DRAWDOWN %","DD $"]
[null,null,null,null,null,null,null,null,null,null,null,null,null,null,null,null,null,null,null,null,null,null,null,null,null,null,null,null,null,null,null,null,null,null,null,null,null,null,null,null,{"$f":"MIN(AO30:AO32)","v":0},{"$f":"VLOOKUP(AO36,AO30:AP32,2,FALSE)","v":""},null,null,null,null,null,{"$f":"VLOOKUP(AO36,AO30:AX32,5,FALSE)","v":0},{"$f":"VLOOKUP(AO36,AO30:AX32,3,FALSE)*-1","v":0},null,null,null,null,null,null,null,null,"vesztő R","vesztő R szum"]
[]
[]
[]
[]
[]
[]
[]
[]
[]
[]
[null,null,null,null,null,null,null,null,null,null,null,null,null,null,null,null,null,null,null,null,null,null,null,null,null,null,null,null,null,null,null,null,null,null,null,null,null,null,null,null,null,null,null,null,null,null,null,null,null,null,null,null,null,null,null,"vesztő széria","db","$","R",null,null,null,"db","$","R"]
[null,null,null,null,null,null,null,null,null,null,null,null,null,null,null,null,null,null,null,null,null,null,null,null,null,null,null,null,null,null,null,null,null,null,null,null,null,null,null,null,null,null,null,null,null,null,null,null,null,null,null,null,null,null,null,null,{"$f":"MIN(BB30:BB32)","v":0},{"$f":"MIN(BA50:BA1951)","v":0},{"$f":"VLOOKUP(BF48,BA50:BG1951,7,FALSE)","v":0},null,null,null,{"$f":"MAX(BJ30:BJ32)","v":0},{"$f":"MAX(BN50:BN1951)","v":0},{"$f":"VLOOKUP(BL48,BN50:BO1951,2,FALSE)","v":0}]
[null,null,null,null,null,null,null,null,null,null,null,null,null,null,null,null,null,null,null,null,null,null,null,null,null,null,null,null,null,null,null,null,null,null,null,null,null,null,null,null,null,null,null,null,null,null,null,null,null,null,null,null,null,"hiba.e","max db","előfordulás","táblázat sora","$","R","nyerő széria db","előfordulás","táblázat sora","$","R","hiba"]
[null,null,null,null,null,null,null,null,null,null,null,null,null,null,null,null,null,null,null,null,null,null,null,null,null,null,null,null,null,null,null,null,null,null,null,null,null,null,null,null,null,null,null,null,null,null,null,null,null,null,null,null,{"$f":"IF(BB50=FALSE,BF50)","v":0},{"$f":"ISERR(BF50)","v":false},{"$f":"MIN($BB$29:$BB$32)","v":0},1,{"$f":"SMALL(IF($BB$30:$BB$32<>BC50,\"\",ROW($BB$30:$BB$32)),BD50)-29","v":1},{"$f":"INDEX($BD$30:$BD$32,BE50)","v":0},{"$f":"INDEX($BG$30:$BG$32,BE50)","v":0},{"$f":"MAX($BJ$29:$BJ$32)","v":0},1,{"$f":"SMALL(IF($BJ$30:$BJ$32<>BH50,\"\",ROW($BJ$30:$BJ$32)),BI50)-29","v":1},{"$f":"INDEX($BL$30:$BL$32,BJ50)","v":0},{"$f":"INDEX($BO$30:$BO$32,BJ50)","v":0},{"$f":"ISERR(BK50)","v":false},{"$f":"IF(BM50=FALSE,BK50)","v":0},{"$f":"BL50","v":0}]
[null,null,null,null,null,null,null,null,null,null,null,null,null,null,null,null,null,null,null,null,null,null,null,null,null,null,null,null,null,null,null,null,null,null,null,null,null,null,null,null,null,null,null,null,null,null,null,null,null,null,null,null,{"$f":"IF(BB51=FALSE,BF51)","v":0},{"$f":"ISERR(BF51)","v":false},0,2,{"$f":"SMALL(IF($BB$30:$BB$32<>BC51,\"\",ROW($BB$30:$BB$32)),BD51)-29","v":2},0,0,0,2,{"$f":"SMALL(IF($BJ$30:$BJ$32<>BH51,\"\",ROW($BJ$30:$BJ$32)),BI51)-29","v":2},0,0,{"$f":"ISERR(BK51)","v":false},{"$f":"IF(BM51=FALSE,BK51)","v":0},{"$f":"BL51","v":0}]
[null,null,null,null,null,null,null,null,null,null,null,null,null,null,null,null,null,null,null,null,null,null,null,null,null,null,null,null,null,null,null,null,null,null,null,null,null,null,null,null,null,null,null,null,null,null,null,null,null,null,null,null,0,false,0,3,{"$f":"SMALL(IF($BB$30:$BB$32<>BC52,\"\",ROW($BB$30:$BB$32)),BD52)-29","v":3},0,0,0,3,{"$f":"SMALL(IF($BJ$30:$BJ$32<>BH52,\"\",ROW($BJ$30:$BJ$32)),BI52)-29","v":3},0,0,false,0,0]
[null,null,null,null,null,null,null,null,null,null,null,null,null,null,null,null,null,null,null,null,null,null,null,null,null,null,null,null,null,null,null,null,null,null,null,null,null,null,null,null,null,null,null,null,null,null,null,null,null,null,null,null,false,true,0,4,{"$f":"SMALL(IF($BB$30:$BB$32<>BC53,\"\",ROW($BB$30:$BB$32)),BD53)-29","v":{"$error":"#NUM!"}},{"$error":"#NUM!"},{"$error":"#NUM!"},0,4,{"$f":"SMALL(IF($BJ$30:$BJ$32<>BH53,\"\",ROW($BJ$30:$BJ$32)),BI53)-29","v":{"$error":"#NUM!"}},{"$error":"#NUM!"},{"$error":"#NUM!"},true,false,{"$error":"#NUM!"}]
[null,null,null,null,null,null,null,null,null,null,null,null,null,null,null,null,null,null,null,null,null,null,null,null,null,null,null,null,null,null,null,null,null,null,null,null,null,null,null,null,null,null,null,null,null,null,null,null,null,null,null,null,false,true,0,5,{"$f":"SMALL(IF($BB$30:$BB$32<>BC54,\"\",ROW($BB$30:$BB$32)),BD54)-29","v":{"$error":"#NUM!"}},{"$error":"#NUM!"},{"$error":"#NUM!"},0,5,{"$f":"SMALL(IF($BJ$30:$BJ$32<>BH54,\"\",ROW($BJ$30:$BJ$32)),BI54)-29","v":{"$error":"#NUM!"}},{"$error":"#NUM!"},{"$error":"#NUM!"},true,false,{"$error":"#NUM!"}]
[null,null,null,null,null,null,null,null,null,null,null,null,null,null,null,null,null,null,null,null,null,null,null,null,null,null,null,null,null,null,null,null,null,null,null,null,null,null,null,null,null,null,null,null,null,null,null,null,null,null,null,null,false,true,0,6,{"$f":"SMALL(IF($BB$30:$BB$32<>BC55,\"\",ROW($BB$30:$BB$32)),BD55)-29","v":{"$error":"#NUM!"}},{"$error":"#NUM!"},{"$error":"#NUM!"},0,6,{"$f":"SMALL(IF($BJ$30:$BJ$32<>BH55,\"\",ROW($BJ$30:$BJ$32)),BI55)-29","v":{"$error":"#NUM!"}},{"$error":"#NUM!"},{"$error":"#NUM!"},true,false,{"$error":"#NUM!"}]
[null,null,null,null,null,null,null,null,null,null,null,null,null,null,null,null,null,null,null,null,null,null,null,null,null,null,null,null,null,null,null,null,null,null,null,null,null,null,null,null,null,null,null,null,null,null,null,null,null,null,null,null,false,true,0,7,{"$f":"SMALL(IF($BB$30:$BB$32<>BC56,\"\",ROW($BB$30:$BB$32)),BD56)-29","v":{"$error":"#NUM!"}},{"$error":"#NUM!"},{"$error":"#NUM!"},0,7,{"$f":"SMALL(IF($BJ$30:$BJ$32<>BH56,\"\",ROW($BJ$30:$BJ$32)),BI56)-29","v":{"$error":"#NUM!"}},{"$error":"#NUM!"},{"$error":"#NUM!"},true,false,{"$error":"#NUM!"}]
[null,null,null,null,null,null,null,null,null,null,null,null,null,null,null,null,null,null,null,null,null,null,null,null,null,null,null,null,null,null,null,null,null,null,null,null,null,null,null,null,null,null,null,null,null,null,null,null,null,null,null,null,false,true,0,8,{"$f":"SMALL(IF($BB$30:$BB$32<>BC57,\"\",ROW($BB$30:$BB$32)),BD57)-29","v":{"$error":"#NUM!"}},{"$error":"#NUM!"},{"$error":"#NUM!"},0,8,{"$f":"SMALL(IF($BJ$30:$BJ$32<>BH57,\"\",ROW($BJ$30:$BJ$32)),BI57)-29","v":{"$error":"#NUM!"}},{"$error":"#NUM!"},{"$error":"#NUM!"},true,false,{"$error":"#NUM!"}]
[null,null,null,null,null,null,null,null,null,null,null,null,null,null,null,null,null,null,null,null,null,null,null,null,null,null,null,null,null,null,null,null,null,null,null,null,null,null,null,null,null,null,null,null,null,null,null,null,null,null,null,null,false,true,0,9,{"$f":"SMALL(IF($BB$30:$BB$32<>BC58,\"\",ROW($BB$30:$BB$32)),BD58)-29","v":{"$error":"#NUM!"}},{"$error":"#NUM!"},{"$error":"#NUM!"},0,9,{"$f":"SMALL(IF($BJ$30:$BJ$32<>BH58,\"\",ROW($BJ$30:$BJ$32)),BI58)-29","v":{"$error":"#NUM!"}},{"$error":"#NUM!"},{"$error":"#NUM!"},true,false,{"$error":"#NUM!"}]
[null,null,null,null,null,null,null,null,null,null,null,null,null,null,null,null,null,null,null,null,null,null,null,null,null,null,null,null,null,null,null,null,null,null,null,null,null,null,null,null,null,null,null,null,null,null,null,null,null,null,null,null,false,true,0,10,{"$f":"SMALL(IF($BB$30:$BB$32<>BC59,\"\",ROW($BB$30:$BB$32)),BD59)-29","v":{"$error":"#NUM!"}},{"$error":"#NUM!"},{"$error":"#NUM!"},0,10,{"$f":"SMALL(IF($BJ$30:$BJ$32<>BH59,\"\",ROW($BJ$30:$BJ$32)),BI59)-29","v":{"$error":"#NUM!"}},{"$error":"#NUM!"},{"$error":"#NUM!"},true,false,{"$error":"#NUM!"}]
[null,null,null,null,null,null,null,null,null,null,null,null,null,null,null,null,null,null,null,null,null,null,null,null,null,null,null,null,null,null,null,null,null,null,null,null,null,null,null,null,null,null,null,null,null,null,null,null,null,null,null,null,false,true,0,11,{"$f":"SMALL(IF($BB$30:$BB$32<>BC60,\"\",ROW($BB$30:$BB$32)),BD60)-29","v":{"$error":"#NUM!"}},{"$error":"#NUM!"},{"$error":"#NUM!"},0,11,{"$f":"SMALL(IF($BJ$30:$BJ$32<>BH60,\"\",ROW($BJ$30:$BJ$32)),BI60)-29","v":{"$error":"#NUM!"}},{"$error":"#NUM!"},{"$error":"#NUM!"},true,false,{"$error":"#NUM!"}]
[null,null,null,null,null,null,null,null,null,null,null,null,null,null,null,null,null,null,null,null,null,null,null,null,null,null,null,null,null,null,null,null,null,null,null,null,null,null,null,null,null,null,null,null,null,null,null,null,null,null,null,null,false,true,0,12,{"$f":"SMALL(IF($BB$30:$BB$32<>BC61,\"\",ROW($BB$30:$BB$32)),BD61)-29","v":{"$error":"#NUM!"}},{"$error":"#NUM!"},{"$error":"#NUM!"},0,12,{"$f":"SMALL(IF($BJ$30:$BJ$32<>BH61,\"\",ROW($BJ$30:$BJ$32)),BI61)-29","v":{"$error":"#NUM!"}},{"$error":"#NUM!"},{"$error":"#NUM!"},true,false,{"$error":"#NUM!"}]
[null,null,null,null,null,null,null,null,null,null,null,null,null,null,null,null,null,null,null,null,null,null,null,null,null,null,null,null,null,null,null,null,null,null,null,null,null,null,null,null,null,null,null,null,null,null,null,null,null,null,null,null,false,true,0,13,{"$f":"SMALL(IF($BB$30:$BB$32<>BC62,\"\",ROW($BB$30:$BB$32)),BD62)-29","v":{"$error":"#NUM!"}},{"$error":"#NUM!"},{"$error":"#NUM!"},0,13,{"$f":"SMALL(IF($BJ$30:$BJ$32<>BH62,\"\",ROW($BJ$30:$BJ$32)),BI62)-29","v":{"$error":"#NUM!"}},{"$error":"#NUM!"},{"$error":"#NUM!"},true,false,{"$error":"#NUM!"}]
[null,null,null,null,null,null,null,null,null,null,null,null,null,null,null,null,null,null,null,null,null,null,null,null,null,null,null,null,null,null,null,null,null,null,null,null,null,null,null,null,null,null,null,null,null,null,null,null,null,null,null,null,false,true,0,14,{"$f":"SMALL(IF($BB$30:$BB$32<>BC63,\"\",ROW($BB$30:$BB$32)),BD63)-29","v":{"$error":"#NUM!"}},{"$error":"#NUM!"},{"$error":"#NUM!"},0,14,{"$f":"SMALL(IF($BJ$30:$BJ$32<>BH63,\"\",ROW($BJ$30:$BJ$32)),BI63)-29","v":{"$error":"#NUM!"}},{"$error":"#NUM!"},{"$error":"#NUM!"},true,false,{"$error":"#NUM!"}]
[null,null,null,null,null,null,null,null,null,null,null,null,null,null,null,null,null,null,null,null,null,null,null,null,null,null,null,null,null,null,null,null,null,null,null,null,null,null,null,null,null,null,null,null,null,null,null,null,null,null,null,null,false,true,0,15,{"$f":"SMALL(IF($BB$30:$BB$32<>BC64,\"\",ROW($BB$30:$BB$32)),BD64)-29","v":{"$error":"#NUM!"}},{"$error":"#NUM!"},{"$error":"#NUM!"},0,15,{"$f":"SMALL(IF($BJ$30:$BJ$32<>BH64,\"\",ROW($BJ$30:$BJ$32)),BI64)-29","v":{"$error":"#NUM!"}},{"$error":"#NUM!"},{"$error":"#NUM!"},true,false,{"$error":"#NUM!"}]
[null,null,null,null,null,null,null,null,null,null,null,null,null,null,null,null,null,null,null,null,null,null,null,null,null,null,null,null,null,null,null,null,null,null,null,null,null,null,null,null,null,null,null,null,null,null,null,null,null,null,null,null,false,true,0,16,{"$f":"SMALL(IF($BB$30:$BB$32<>BC65,\"\",ROW($BB$30:$BB$32)),BD65)-29","v":{"$error":"#NUM!"}},{"$error":"#NUM!"},{"$error":"#NUM!"},0,16,{"$f":"SMALL(IF($BJ$30:$BJ$32<>BH65,\"\",ROW($BJ$30:$BJ$32)),BI65)-29","v":{"$error":"#NUM!"}},{"$error":"#NUM!"},{"$error":"#NUM!"},true,false,{"$error":"#NUM!"}]
[null,null,null,null,null,null,null,null,null,null,null,null,null,null,null,null,null,null,null,null,null,null,null,null,null,null,null,null,null,null,null,null,null,null,null,null,null,null,null,null,null,null,null,null,null,null,null,null,null,null,null,null,false,true,0,17,{"$f":"SMALL(IF($BB$30:$BB$32<>BC66,\"\",ROW($BB$30:$BB$32)),BD66)-29","v":{"$error":"#NUM!"}},{"$error":"#NUM!"},{"$error":"#NUM!"},0,17,{"$f":"SMALL(IF($BJ$30:$BJ$32<>BH66,\"\",ROW($BJ$30:$BJ$32)),BI66)-29","v":{"$error":"#NUM!"}},{"$error":"#NUM!"},{"$error":"#NUM!"},true,false,{"$error":"#NUM!"}]
[null,null,null,null,null,null,null,null,null,null,null,null,null,null,null,null,null,null,null,null,null,null,null,null,null,null,null,null,null,null,null,null,null,null,null,null,null,null,null,null,null,null,null,null,null,null,null,null,null,null,null,null,false,true,0,18,{"$f":"SMALL(IF($BB$30:$BB$32<>BC67,\"\",ROW($BB$30:$BB$32)),BD67)-29","v":{"$error":"#NUM!"}},{"$error":"#NUM!"},{"$error":"#NUM!"},0,18,{"$f":"SMALL(IF($BJ$30:$BJ$32<>BH67,\"\",ROW($BJ$30:$BJ$32)),BI67)-29","v":{"$error":"#NUM!"}},{"$error":"#NUM!"},{"$error":"#NUM!"},true,false,{"$error":"#NUM!"}]
[null,null,null,null,null,null,null,null,null,null,null,null,null,null,null,null,null,null,null,null,null,null,null,null,null,null,null,null,null,null,null,null,null,null,null,null,null,null,null,null,null,null,null,null,null,null,null,null,null,null,null,null,false,true,0,19,{"$f":"SMALL(IF($BB$30:$BB$32<>BC68,\"\",ROW($BB$30:$BB$32)),BD68)-29","v":{"$error":"#NUM!"}},{"$error":"#NUM!"},{"$error":"#NUM!"},0,19,{"$f":"SMALL(IF($BJ$30:$BJ$32<>BH68,\"\",ROW($BJ$30:$BJ$32)),BI68)-29","v":{"$error":"#NUM!"}},{"$error":"#NUM!"},{"$error":"#NUM!"},true,false,{"$error":"#NUM!"}]
[null,null,null,null,null,null,null,null,null,null,null,null,null,null,null,null,null,null,null,null,null,null,null,null,null,null,null,null,null,null,null,null,null,null,null,null,null,null,null,null,null,null,null,null,null,null,null,null,null,null,null,null,false,true,0,20,{"$f":"SMALL(IF($BB$30:$BB$32<>BC69,\"\",ROW($BB$30:$BB$32)),BD69)-29","v":{"$error":"#NUM!"}},{"$error":"#NUM!"},{"$error":"#NUM!"},0,20,{"$f":"SMALL(IF($BJ$30:$BJ$32<>BH69,\"\",ROW($BJ$30:$BJ$32)),BI69)-29","v":{"$error":"#NUM!"}},{"$error":"#NUM!"},{"$error":"#NUM!"},true,false,{"$error":"#NUM!"}]
[null,null,null,null,null,null,null,null,null,null,null,null,null,null,null,null,null,null,null,null,null,null,null,null,null,null,null,null,null,null,null,null,null,null,null,null,null,null,null,null,null,null,null,null,null,null,null,null,null,null,null,null,false,true,0,21,{"$f":"SMALL(IF($BB$30:$BB$32<>BC70,\"\",ROW($BB$30:$BB$32)),BD70)-29","v":{"$error":"#NUM!"}},{"$error":"#NUM!"},{"$error":"#NUM!"},0,21,{"$f":"SMALL(IF($BJ$30:$BJ$32<>BH70,\"\",ROW($BJ$30:$BJ$32)),BI70)-29","v":{"$error":"#NUM!"}},{"$error":"#NUM!"},{"$error":"#NUM!"},true,false,{"$error":"#NUM!"}]
[null,null,null,null,null,null,null,null,null,null,null,null,null,null,null,null,null,null,null,null,null,null,null,null,null,null,null,null,null,null,null,null,null,null,null,null,null,null,null,null,null,null,null,null,null,null,null,null,null,null,null,null,false,true,0,22,{"$f":"SMALL(IF($BB$30:$BB$32<>BC71,\"\",ROW($BB$30:$BB$32)),BD71)-29","v":{"$error":"#NUM!"}},{"$error":"#NUM!"},{"$error":"#NUM!"},0,22,{"$f":"SMALL(IF($BJ$30:$BJ$32<>BH71,\"\",ROW($BJ$30:$BJ$32)),BI71)-29","v":{"$error":"#NUM!"}},{"$error":"#NUM!"},{"$error":"#NUM!"},true,false,{"$error":"#NUM!"}]
[null,null,null,null,null,null,null,null,null,null,null,null,null,null,null,null,null,null,null,null,null,null,null,null,null,null,null,null,null,null,null,null,null,null,null,null,null,null,null,null,null,null,null,null,null,null,null,null,null,null,null,null,false,true,0,23,{"$f":"SMALL(IF($BB$30:$BB$32<>BC72,\"\",ROW($BB$30:$BB$32)),BD72)-29","v":{"$error":"#NUM!"}},{"$error":"#NUM!"},{"$error":"#NUM!"},0,23,{"$f":"SMALL(IF($BJ$30:$BJ$32<>BH72,\"\",ROW($BJ$30:$BJ$32)),BI72)-29","v":{"$error":"#NUM!"}},{"$error":"#NUM!"},{"$error":"#NUM!"},true,false,{"$error":"#NUM!"}]
[null,null,null,null,null,null,null,null,null,null,null,null,null,null,null,null,null,null,null,null,null,null,null,null,null,null,null,null,null,null,null,null,null,null,null,null,null,null,null,null,null,null,null,null,null,null,null,null,null,null,null,null,false,true,0,24,{"$f":"SMALL(IF($BB$30:$BB$32<>BC73,\"\",ROW($BB$30:$BB$32)),BD73)-29","v":{"$error":"#NUM!"}},{"$error":"#NUM!"},{"$error":"#NUM!"},0,24,{"$f":"SMALL(IF($BJ$30:$BJ$32<>BH73,\"\",ROW($BJ$30:$BJ$32)),BI73)-29","v":{"$error":"#NUM!"}},{"$error":"#NUM!"},{"$error":"#NUM!"},true,false,{"$error":"#NUM!"}]
[null,null,null,null,null,null,null,null,null,null,null,null,null,null,null,null,null,null,null,null,null,null,null,null,null,null,null,null,null,null,null,null,null,null,null,null,null,null,null,null,null,null,null,null,null,null,null,null,null,null,null,null,false,true,0,25,{"$f":"SMALL(IF($BB$30:$BB$32<>BC74,\"\",ROW($BB$30:$BB$32)),BD74)-29","v":{"$error":"#NUM!"}},{"$error":"#NUM!"},{"$error":"#NUM!"},0,25,{"$f":"SMALL(IF($BJ$30:$BJ$32<>BH74,\"\",ROW($BJ$30:$BJ$32)),BI74)-29","v":{"$error":"#NUM!"}},{"$error":"#NUM!"},{"$error":"#NUM!"},true,false,{"$error":"#NUM!"}]
[null,null,null,null,null,null,null,null,null,null,null,null,null,null,null,null,null,null,null,null,null,null,null,null,null,null,null,null,null,null,null,null,null,null,null,null,null,null,null,null,null,null,null,null,null,null,null,null,null,null,null,null,false,true,0,26,{"$f":"SMALL(IF($BB$30:$BB$32<>BC75,\"\",ROW($BB$30:$BB$32)),BD75)-29","v":{"$error":"#NUM!"}},{"$error":"#NUM!"},{"$error":"#NUM!"},0,26,{"$f":"SMALL(IF($BJ$30:$BJ$32<>BH75,\"\",ROW($BJ$30:$BJ$32)),BI75)-29","v":{"$error":"#NUM!"}},{"$error":"#NUM!"},{"$error":"#NUM!"},true,false,{"$error":"#NUM!"}]
[null,null,null,null,null,null,null,null,null,null,null,null,null,null,null,null,null,null,null,null,null,null,null,null,null,null,null,null,null,null,null,null,null,null,null,null,null,null,null,null,null,null,null,null,null,null,null,null,null,null,null,null,false,true,0,27,{"$f":"SMALL(IF($BB$30:$BB$32<>BC76,\"\",ROW($BB$30:$BB$32)),BD76)-29","v":{"$error":"#NUM!"}},{"$error":"#NUM!"},{"$error":"#NUM!"},0,27,{"$f":"SMALL(IF($BJ$30:$BJ$32<>BH76,\"\",ROW($BJ$30:$BJ$32)),BI76)-29","v":{"$error":"#NUM!"}},{"$error":"#NUM!"},{"$error":"#NUM!"},true,false,{"$error":"#NUM!"}]
[null,null,null,null,null,null,null,null,null,null,null,null,null,null,null,null,null,null,null,null,null,null,null,null,null,null,null,null,null,null,null,null,null,null,null,null,null,null,null,null,null,null,null,null,null,null,null,null,null,null,null,null,false,true,0,28,{"$f":"SMALL(IF($BB$30:$BB$32<>BC77,\"\",ROW($BB$30:$BB$32)),BD77)-29","v":{"$error":"#NUM!"}},{"$error":"#NUM!"},{"$error":"#NUM!"},0,28,{"$f":"SMALL(IF($BJ$30:$BJ$32<>BH77,\"\",ROW($BJ$30:$BJ$32)),BI77)-29","v":{"$error":"#NUM!"}},{"$error":"#NUM!"},{"$error":"#NUM!"},true,false,{"$error":"#NUM!"}]
[null,null,null,null,null,null,null,null,null,null,null,null,null,null,null,null,null,null,null,null,null,null,null,null,null,null,null,null,null,null,null,null,null,null,null,null,null,null,null,null,null,null,null,null,null,null,null,null,null,null,null,null,false,true,0,29,{"$f":"SMALL(IF($BB$30:$BB$32<>BC78,\"\",ROW($BB$30:$BB$32)),BD78)-29","v":{"$error":"#NUM!"}},{"$error":"#NUM!"},{"$error":"#NUM!"},0,29,{"$f":"SMALL(IF($BJ$30:$BJ$32<>BH78,\"\",ROW($BJ$30:$BJ$32)),BI78)-29","v":{"$error":"#NUM!"}},{"$error":"#NUM!"},{"$error":"#NUM!"},true,false,{"$error":"#NUM!"}]
[null,null,null,null,null,null,null,null,null,null,null,null,null,null,null,null,null,null,null,null,null,null,null,null,null,null,null,null,null,null,null,null,null,null,null,null,null,null,null,null,null,null,null,null,null,null,null,null,null,null,null,null,false,true,0,30,{"$f":"SMALL(IF($BB$30:$BB$32<>BC79,\"\",ROW($BB$30:$BB$32)),BD79)-29","v":{"$error":"#NUM!"}},{"$error":"#NUM!"},{"$error":"#NUM!"},0,30,{"$f":"SMALL(IF($BJ$30:$BJ$32<>BH79,\"\",ROW($BJ$30:$BJ$32)),BI79)-29","v":{"$error":"#NUM!"}},{"$error":"#NUM!"},{"$error":"#NUM!"},true,false,{"$error":"#NUM!"}]
[null,null,null,null,null,null,null,null,null,null,null,null,null,null,null,null,null,null,null,null,null,null,null,null,null,null,null,null,null,null,null,null,null,null,null,null,null,null,null,null,null,null,null,null,null,null,null,null,null,null,null,null,false,true,0,31,{"$f":"SMALL(IF($BB$30:$BB$32<>BC80,\"\",ROW($BB$30:$BB$32)),BD80)-29","v":{"$error":"#NUM!"}},{"$error":"#NUM!"},{"$error":"#NUM!"},0,31,{"$f":"SMALL(IF($BJ$30:$BJ$32<>BH80,\"\",ROW($BJ$30:$BJ$32)),BI80)-29","v":{"$error":"#NUM!"}},{"$error":"#NUM!"},{"$error":"#NUM!"},true,false,{"$error":"#NUM!"}]
[null,null,null,null,null,null,null,null,null,null,null,null,null,null,null,null,null,null,null,null,null,null,null,null,null,null,null,null,null,null,null,null,null,null,null,null,null,null,null,null,null,null,null,null,null,null,null,null,null,null,null,null,false,true,0,32,{"$f":"SMALL(IF($BB$30:$BB$32<>BC81,\"\",ROW($BB$30:$BB$32)),BD81)-29","v":{"$error":"#NUM!"}},{"$error":"#NUM!"},{"$error":"#NUM!"},0,32,{"$f":"SMALL(IF($BJ$30:$BJ$32<>BH81,\"\",ROW($BJ$30:$BJ$32)),BI81)-29","v":{"$error":"#NUM!"}},{"$error":"#NUM!"},{"$error":"#NUM!"},true,false,{"$error":"#NUM!"}]
[null,null,null,null,null,null,null,null,null,null,null,null,null,null,null,null,null,null,null,null,null,null,null,null,null,null,null,null,null,null,null,null,null,null,null,null,null,null,null,null,null,null,null,null,null,null,null,null,null,null,null,null,false,true,0,33,{"$f":"SMALL(IF($BB$30:$BB$32<>BC82,\"\",ROW($BB$30:$BB$32)),BD82)-29","v":{"$error":"#NUM!"}},{"$error":"#NUM!"},{"$error":"#NUM!"},0,33,{"$f":"SMALL(IF($BJ$30:$BJ$32<>BH82,\"\",ROW($BJ$30:$BJ$32)),BI82)-29","v":{"$error":"#NUM!"}},{"$error":"#NUM!"},{"$error":"#NUM!"},true,false,{"$error":"#NUM!"}]
[null,null,null,null,null,null,null,null,null,null,null,null,null,null,null,null,null,null,null,null,null,null,null,null,null,null,null,null,null,null,null,null,null,null,null,null,null,null,null,null,null,null,null,null,null,null,null,null,null,null,null,null,false,true,0,34,{"$f":"SMALL(IF($BB$30:$BB$32<>BC83,\"\",ROW($BB$30:$BB$32)),BD83)-29","v":{"$error":"#NUM!"}},{"$error":"#NUM!"},{"$error":"#NUM!"},0,34,{"$f":"SMALL(IF($BJ$30:$BJ$32<>BH83,\"\",ROW($BJ$30:$BJ$32)),BI83)-29","v":{"$error":"#NUM!"}},{"$error":"#NUM!"},{"$error":"#NUM!"},true,false,{"$error":"#NUM!"}]
[null,null,null,null,null,null,null,null,null,null,null,null,null,null,null,null,null,null,null,null,null,null,null,null,null,null,null,null,null,null,null,null,null,null,null,null,null,null,null,null,null,null,null,null,null,null,null,null,null,null,null,null,false,true,0,35,{"$f":"SMALL(IF($BB$30:$BB$32<>BC84,\"\",ROW($BB$30:$BB$32)),BD84)-29","v":{"$error":"#NUM!"}},{"$error":"#NUM!"},{"$error":"#NUM!"},0,35,{"$f":"SMALL(IF($BJ$30:$BJ$32<>BH84,\"\",ROW($BJ$30:$BJ$32)),BI84)-29","v":{"$error":"#NUM!"}},{"$error":"#NUM!"},{"$error":"#NUM!"},true,false,{"$error":"#NUM!"}]
[null,null,null,null,null,null,null,null,null,null,null,null,null,null,null,null,null,null,null,null,null,null,null,null,null,null,null,null,null,null,null,null,null,null,null,null,null,null,null,null,null,null,null,null,null,null,null,null,null,null,null,null,false,true,0,36,{"$f":"SMALL(IF($BB$30:$BB$32<>BC85,\"\",ROW($BB$30:$BB$32)),BD85)-29","v":{"$error":"#NUM!"}},{"$error":"#NUM!"},{"$error":"#NUM!"},0,36,{"$f":"SMALL(IF($BJ$30:$BJ$32<>BH85,\"\",ROW($BJ$30:$BJ$32)),BI85)-29","v":{"$error":"#NUM!"}},{"$error":"#NUM!"},{"$error":"#NUM!"},true,false,{"$error":"#NUM!"}]
[null,null,null,null,null,null,null,null,null,null,null,null,null,null,null,null,null,null,null,null,null,null,null,null,null,null,null,null,null,null,null,null,null,null,null,null,null,null,null,null,null,null,null,null,null,null,null,null,null,null,null,null,false,true,0,37,{"$f":"SMALL(IF($BB$30:$BB$32<>BC86,\"\",ROW($BB$30:$BB$32)),BD86)-29","v":{"$error":"#NUM!"}},{"$error":"#NUM!"},{"$error":"#NUM!"},0,37,{"$f":"SMALL(IF($BJ$30:$BJ$32<>BH86,\"\",ROW($BJ$30:$BJ$32)),BI86)-29","v":{"$error":"#NUM!"}},{"$error":"#NUM!"},{"$error":"#NUM!"},true,false,{"$error":"#NUM!"}]
[null,null,null,null,null,null,null,null,null,null,null,null,null,null,null,null,null,null,null,null,null,null,null,null,null,null,null,null,null,null,null,null,null,null,null,null,null,null,null,null,null,null,null,null,null,null,null,null,null,null,null,null,false,true,0,38,{"$f":"SMALL(IF($BB$30:$BB$32<>BC87,\"\",ROW($BB$30:$BB$32)),BD87)-29","v":{"$error":"#NUM!"}},{"$error":"#NUM!"},{"$error":"#NUM!"},0,38,{"$f":"SMALL(IF($BJ$30:$BJ$32<>BH87,\"\",ROW($BJ$30:$BJ$32)),BI87)-29","v":{"$error":"#NUM!"}},{"$error":"#NUM!"},{"$error":"#NUM!"},true,false,{"$error":"#NUM!"}]
[null,null,null,null,null,null,null,null,null,null,null,null,null,null,null,null,null,null,null,null,null,null,null,null,null,null,null,null,null,null,null,null,null,null,null,null,null,null,null,null,null,null,null,null,null,null,null,null,null,null,null,null,false,true,0,39,{"$f":"SMALL(IF($BB$30:$BB$32<>BC88,\"\",ROW($BB$30:$BB$32)),BD88)-29","v":{"$error":"#NUM!"}},{"$error":"#NUM!"},{"$error":"#NUM!"},0,39,{"$f":"SMALL(IF($BJ$30:$BJ$32<>BH88,\"\",ROW($BJ$30:$BJ$32)),BI88)-29","v":{"$error":"#NUM!"}},{"$error":"#NUM!"},{"$error":"#NUM!"},true,false,{"$error":"#NUM!"}]
[null,null,null,null,null,null,null,null,null,null,null,null,null,null,null,null,null,null,null,null,null,null,null,null,null,null,null,null,null,null,null,null,null,null,null,null,null,null,null,null,null,null,null,null,null,null,null,null,null,null,null,null,false,true,0,40,{"$f":"SMALL(IF($BB$30:$BB$32<>BC89,\"\",ROW($BB$30:$BB$32)),BD89)-29","v":{"$error":"#NUM!"}},{"$error":"#NUM!"},{"$error":"#NUM!"},0,40,{"$f":"SMALL(IF($BJ$30:$BJ$32<>BH89,\"\",ROW($BJ$30:$BJ$32)),BI89)-29","v":{"$error":"#NUM!"}},{"$error":"#NUM!"},{"$error":"#NUM!"},true,false,{"$error":"#NUM!"}]
[null,null,null,null,null,null,null,null,null,null,null,null,null,null,null,null,null,null,null,null,null,null,null,null,null,null,null,null,null,null,null,null,null,null,null,null,null,null,null,null,null,null,null,null,null,null,null,null,null,null,null,null,false,true,0,41,{"$f":"SMALL(IF($BB$30:$BB$32<>BC90,\"\",ROW($BB$30:$BB$32)),BD90)-29","v":{"$error":"#NUM!"}},{"$error":"#NUM!"},{"$error":"#NUM!"},0,41,{"$f":"SMALL(IF($BJ$30:$BJ$32<>BH90,\"\",ROW($BJ$30:$BJ$32)),BI90)-29","v":{"$error":"#NUM!"}},{"$error":"#NUM!"},{"$error":"#NUM!"},true,false,{"$error":"#NUM!"}]
[null,null,null,null,null,null,null,null,null,null,null,null,null,null,null,null,null,null,null,null,null,null,null,null,null,null,null,null,null,null,null,null,null,null,null,null,null,null,null,null,null,null,null,null,null,null,null,null,null,null,null,null,false,true,0,42,{"$f":"SMALL(IF($BB$30:$BB$32<>BC91,\"\",ROW($BB$30:$BB$32)),BD91)-29","v":{"$error":"#NUM!"}},{"$error":"#NUM!"},{"$error":"#NUM!"},0,42,{"$f":"SMALL(IF($BJ$30:$BJ$32<>BH91,\"\",ROW($BJ$30:$BJ$32)),BI91)-29","v":{"$error":"#NUM!"}},{"$error":"#NUM!"},{"$error":"#NUM!"},true,false,{"$error":"#NUM!"}]
[null,null,null,null,null,null,null,null,null,null,null,null,null,null,null,null,null,null,null,null,null,null,null,null,null,null,null,null,null,null,null,null,null,null,null,null,null,null,null,null,null,null,null,null,null,null,null,null,null,null,null,null,false,true,0,43,{"$f":"SMALL(IF($BB$30:$BB$32<>BC92,\"\",ROW($BB$30:$BB$32)),BD92)-29","v":{"$error":"#NUM!"}},{"$error":"#NUM!"},{"$error":"#NUM!"},0,43,{"$f":"SMALL(IF($BJ$30:$BJ$32<>BH92,\"\",ROW($BJ$30:$BJ$32)),BI92)-29","v":{"$error":"#NUM!"}},{"$error":"#NUM!"},{"$error":"#NUM!"},true,false,{"$error":"#NUM!"}]
[null,null,null,null,null,null,null,null,null,null,null,null,null,null,null,null,null,null,null,null,null,null,null,null,null,null,null,null,null,null,null,null,null,null,null,null,null,null,null,null,null,null,null,null,null,null,null,null,null,null,null,null,false,true,0,44,{"$f":"SMALL(IF($BB$30:$BB$32<>BC93,\"\",ROW($BB$30:$BB$32)),BD93)-29","v":{"$error":"#NUM!"}},{"$error":"#NUM!"},{"$error":"#NUM!"},0,44,{"$f":"SMALL(IF($BJ$30:$BJ$32<>BH93,\"\",ROW($BJ$30:$BJ$32)),BI93)-29","v":{"$error":"#NUM!"}},{"$error":"#NUM!"},{"$error":"#NUM!"},true,false,{"$error":"#NUM!"}]
[null,null,null,null,null,null,null,null,null,null,null,null,null,null,null,null,null,null,null,null,null,null,null,null,null,null,null,null,null,null,null,null,null,null,null,null,null,null,null,null,null,null,null,null,null,null,null,null,null,null,null,null,false,true,0,45,{"$f":"SMALL(IF($BB$30:$BB$32<>BC94,\"\",ROW($BB$30:$BB$32)),BD94)-29","v":{"$error":"#NUM!"}},{"$error":"#NUM!"},{"$error":"#NUM!"},0,45,{"$f":"SMALL(IF($BJ$30:$BJ$32<>BH94,\"\",ROW($BJ$30:$BJ$32)),BI94)-29","v":{"$error":"#NUM!"}},{"$error":"#NUM!"},{"$error":"#NUM!"},true,false,{"$error":"#NUM!"}]
[null,null,null,null,null,null,null,null,null,null,null,null,null,null,null,null,null,null,null,null,null,null,null,null,null,null,null,null,null,null,null,null,null,null,null,null,null,null,null,null,null,null,null,null,null,null,null,null,null,null,null,null,false,true,0,46,{"$f":"SMALL(IF($BB$30:$BB$32<>BC95,\"\",ROW($BB$30:$BB$32)),BD95)-29","v":{"$error":"#NUM!"}},{"$error":"#NUM!"},{"$error":"#NUM!"},0,46,{"$f":"SMALL(IF($BJ$30:$BJ$32<>BH95,\"\",ROW($BJ$30:$BJ$32)),BI95)-29","v":{"$error":"#NUM!"}},{"$error":"#NUM!"},{"$error":"#NUM!"},true,false,{"$error":"#NUM!"}]
[null,null,null,null,null,null,null,null,null,null,null,null,null,null,null,null,null,null,null,null,null,null,null,null,null,null,null,null,null,null,null,null,null,null,null,null,null,null,null,null,null,null,null,null,null,null,null,null,null,null,null,null,false,true,0,47,{"$f":"SMALL(IF($BB$30:$BB$32<>BC96,\"\",ROW($BB$30:$BB$32)),BD96)-29","v":{"$error":"#NUM!"}},{"$error":"#NUM!"},{"$error":"#NUM!"},0,47,{"$f":"SMALL(IF($BJ$30:$BJ$32<>BH96,\"\",ROW($BJ$30:$BJ$32)),BI96)-29","v":{"$error":"#NUM!"}},{"$error":"#NUM!"},{"$error":"#NUM!"},true,false,{"$error":"#NUM!"}]
[null,null,null,null,null,null,null,null,null,null,null,null,null,null,null,null,null,null,null,null,null,null,null,null,null,null,null,null,null,null,null,null,null,null,null,null,null,null,null,null,null,null,null,null,null,null,null,null,null,null,null,null,false,true,0,48,{"$f":"SMALL(IF($BB$30:$BB$32<>BC97,\"\",ROW($BB$30:$BB$32)),BD97)-29","v":{"$error":"#NUM!"}},{"$error":"#NUM!"},{"$error":"#NUM!"},0,48,{"$f":"SMALL(IF($BJ$30:$BJ$32<>BH97,\"\",ROW($BJ$30:$BJ$32)),BI97)-29","v":{"$error":"#NUM!"}},{"$error":"#NUM!"},{"$error":"#NUM!"},true,false,{"$error":"#NUM!"}]
[null,null,null,null,null,null,null,null,null,null,null,null,null,null,null,null,null,null,null,null,null,null,null,null,null,null,null,null,null,null,null,null,null,null,null,null,null,null,null,null,null,null,null,null,null,null,null,null,null,null,null,null,false,true,0,49,{"$f":"SMALL(IF($BB$30:$BB$32<>BC98,\"\",ROW($BB$30:$BB$32)),BD98)-29","v":{"$error":"#NUM!"}},{"$error":"#NUM!"},{"$error":"#NUM!"},0,49,{"$f":"SMALL(IF($BJ$30:$BJ$32<>BH98,\"\",ROW($BJ$30:$BJ$32)),BI98)-29","v":{"$error":"#NUM!"}},{"$error":"#NUM!"},{"$error":"#NUM!"},true,false,{"$error":"#NUM!"}]
[null,null,null,null,null,null,null,null,null,null,null,null,null,null,null,null,null,null,null,null,null,null,null,null,null,null,null,null,null,null,null,null,null,null,null,null,null,null,null,null,null,null,null,null,null,null,null,null,null,null,null,null,false,true,0,50,{"$f":"SMALL(IF($BB$30:$BB$32<>BC99,\"\",ROW($BB$30:$BB$32)),BD99)-29","v":{"$error":"#NUM!"}},{"$error":"#NUM!"},{"$error":"#NUM!"},0,50,{"$f":"SMALL(IF($BJ$30:$BJ$32<>BH99,\"\",ROW($BJ$30:$BJ$32)),BI99)-29","v":{"$error":"#NUM!"}},{"$error":"#NUM!"},{"$error":"#NUM!"},true,false,{"$error":"#NUM!"}]
[null,null,null,null,null,null,null,null,null,null,null,null,null,null,null,null,null,null,null,null,null,null,null,null,null,null,null,null,null,null,null,null,null,null,null,null,null,null,null,null,null,null,null,null,null,null,null,null,null,null,null,null,false,true,0,51,{"$f":"SMALL(IF($BB$30:$BB$32<>BC100,\"\",ROW($BB$30:$BB$32)),BD100)-29","v":{"$error":"#NUM!"}},{"$error":"#NUM!"},{"$error":"#NUM!"},0,51,{"$f":"SMALL(IF($BJ$30:$BJ$32<>BH100,\"\",ROW($BJ$30:$BJ$32)),BI100)-29","v":{"$error":"#NUM!"}},{"$error":"#NUM!"},{"$error":"#NUM!"},true,false,{"$error":"#NUM!"}]
[null,null,null,null,null,null,null,null,null,null,null,null,null,null,null,null,null,null,null,null,null,null,null,null,null,null,null,null,null,null,null,null,null,null,null,null,null,null,null,null,null,null,null,null,null,null,null,null,null,null,null,null,false,true,0,52,{"$f":"SMALL(IF($BB$30:$BB$32<>BC101,\"\",ROW($BB$30:$BB$32)),BD101)-29","v":{"$error":"#NUM!"}},{"$error":"#NUM!"},{"$error":"#NUM!"},0,52,{"$f":"SMALL(IF($BJ$30:$BJ$32<>BH101,\"\",ROW($BJ$30:$BJ$32)),BI101)-29","v":{"$error":"#NUM!"}},{"$error":"#NUM!"},{"$error":"#NUM!"},true,false,{"$error":"#NUM!"}]
[null,null,null,null,null,null,null,null,null,null,null,null,null,null,null,null,null,null,null,null,null,null,null,null,null,null,null,null,null,null,null,null,null,null,null,null,null,null,null,null,null,null,null,null,null,null,null,null,null,null,null,null,false,true,0,53,{"$f":"SMALL(IF($BB$30:$BB$32<>BC102,\"\",ROW($BB$30:$BB$32)),BD102)-29","v":{"$error":"#NUM!"}},{"$error":"#NUM!"},{"$error":"#NUM!"},0,53,{"$f":"SMALL(IF($BJ$30:$BJ$32<>BH102,\"\",ROW($BJ$30:$BJ$32)),BI102)-29","v":{"$error":"#NUM!"}},{"$error":"#NUM!"},{"$error":"#NUM!"},true,false,{"$error":"#NUM!"}]
[null,null,null,null,null,null,null,null,null,null,null,null,null,null,null,null,null,null,null,null,null,null,null,null,null,null,null,null,null,null,null,null,null,null,null,null,null,null,null,null,null,null,null,null,null,null,null,null,null,null,null,null,false,true,0,54,{"$f":"SMALL(IF($BB$30:$BB$32<>BC103,\"\",ROW($BB$30:$BB$32)),BD103)-29","v":{"$error":"#NUM!"}},{"$error":"#NUM!"},{"$error":"#NUM!"},0,54,{"$f":"SMALL(IF($BJ$30:$BJ$32<>BH103,\"\",ROW($BJ$30:$BJ$32)),BI103)-29","v":{"$error":"#NUM!"}},{"$error":"#NUM!"},{"$error":"#NUM!"},true,false,{"$error":"#NUM!"}]
[null,null,null,null,null,null,null,null,null,null,null,null,null,null,null,null,null,null,null,null,null,null,null,null,null,null,null,null,null,null,null,null,null,null,null,null,null,null,null,null,null,null,null,null,null,null,null,null,null,null,null,null,false,true,0,55,{"$f":"SMALL(IF($BB$30:$BB$32<>BC104,\"\",ROW($BB$30:$BB$32)),BD104)-29","v":{"$error":"#NUM!"}},{"$error":"#NUM!"},{"$error":"#NUM!"},0,55,{"$f":"SMALL(IF($BJ$30:$BJ$32<>BH104,\"\",ROW($BJ$30:$BJ$32)),BI104)-29","v":{"$error":"#NUM!"}},{"$error":"#NUM!"},{"$error":"#NUM!"},true,false,{"$error":"#NUM!"}]
[null,null,null,null,null,null,null,null,null,null,null,null,null,null,null,null,null,null,null,null,null,null,null,null,null,null,null,null,null,null,null,null,null,null,null,null,null,null,null,null,null,null,null,null,null,null,null,null,null,null,null,null,false,true,0,56,{"$f":"SMALL(IF($BB$30:$BB$32<>BC105,\"\",ROW($BB$30:$BB$32)),BD105)-29","v":{"$error":"#NUM!"}},{"$error":"#NUM!"},{"$error":"#NUM!"},0,56,{"$f":"SMALL(IF($BJ$30:$BJ$32<>BH105,\"\",ROW($BJ$30:$BJ$32)),BI105)-29","v":{"$error":"#NUM!"}},{"$error":"#NUM!"},{"$error":"#NUM!"},true,false,{"$error":"#NUM!"}]
[null,null,null,null,null,null,null,null,null,null,null,null,null,null,null,null,null,null,null,null,null,null,null,null,null,null,null,null,null,null,null,null,null,null,null,null,null,null,null,null,null,null,null,null,null,null,null,null,null,null,null,null,false,true,0,57,{"$f":"SMALL(IF($BB$30:$BB$32<>BC106,\"\",ROW($BB$30:$BB$32)),BD106)-29","v":{"$error":"#NUM!"}},{"$error":"#NUM!"},{"$error":"#NUM!"},0,57,{"$f":"SMALL(IF($BJ$30:$BJ$32<>BH106,\"\",ROW($BJ$30:$BJ$32)),BI106)-29","v":{"$error":"#NUM!"}},{"$error":"#NUM!"},{"$error":"#NUM!"},true,false,{"$error":"#NUM!"}]
[null,null,null,null,null,null,null,null,null,null,null,null,null,null,null,null,null,null,null,null,null,null,null,null,null,null,null,null,null,null,null,null,null,null,null,null,null,null,null,null,null,null,null,null,null,null,null,null,null,null,null,null,false,true,0,58,{"$f":"SMALL(IF($BB$30:$BB$32<>BC107,\"\",ROW($BB$30:$BB$32)),BD107)-29","v":{"$error":"#NUM!"}},{"$error":"#NUM!"},{"$error":"#NUM!"},0,58,{"$f":"SMALL(IF($BJ$30:$BJ$32<>BH107,\"\",ROW($BJ$30:$BJ$32)),BI107)-29","v":{"$error":"#NUM!"}},{"$error":"#NUM!"},{"$error":"#NUM!"},true,false,{"$error":"#NUM!"}]
[null,null,null,null,null,null,null,null,null,null,null,null,null,null,null,null,null,null,null,null,null,null,null,null,null,null,null,null,null,null,null,null,null,null,null,null,null,null,null,null,null,null,null,null,null,null,null,null,null,null,null,null,false,true,0,59,{"$f":"SMALL(IF($BB$30:$BB$32<>BC108,\"\",ROW($BB$30:$BB$32)),BD108)-29","v":{"$error":"#NUM!"}},{"$error":"#NUM!"},{"$error":"#NUM!"},0,59,{"$f":"SMALL(IF($BJ$30:$BJ$32<>BH108,\"\",ROW($BJ$30:$BJ$32)),BI108)-29","v":{"$error":"#NUM!"}},{"$error":"#NUM!"},{"$error":"#NUM!"},true,false,{"$error":"#NUM!"}]
[null,null,null,null,null,null,null,null,null,null,null,null,null,null,null,null,null,null,null,null,null,null,null,null,null,null,null,null,null,null,null,null,null,null,null,null,null,null,null,null,null,null,null,null,null,null,null,null,null,null,null,null,false,true,0,60,{"$f":"SMALL(IF($BB$30:$BB$32<>BC109,\"\",ROW($BB$30:$BB$32)),BD109)-29","v":{"$error":"#NUM!"}},{"$error":"#NUM!"},{"$error":"#NUM!"},0,60,{"$f":"SMALL(IF($BJ$30:$BJ$32<>BH109,\"\",ROW($BJ$30:$BJ$32)),BI109)-29","v":{"$error":"#NUM!"}},{"$error":"#NUM!"},{"$error":"#NUM!"},true,false,{"$error":"#NUM!"}]
[null,null,null,null,null,null,null,null,null,null,null,null,null,null,null,null,null,null,null,null,null,null,null,null,null,null,null,null,null,null,null,null,null,null,null,null,null,null,null,null,null,null,null,null,null,null,null,null,null,null,null,null,false,true,0,61,{"$f":"SMALL(IF($BB$30:$BB$32<>BC110,\"\",ROW($BB$30:$BB$32)),BD110)-29","v":{"$error":"#NUM!"}},{"$error":"#NUM!"},{"$error":"#NUM!"},0,61,{"$f":"SMALL(IF($BJ$30:$BJ$32<>BH110,\"\",ROW($BJ$30:$BJ$32)),BI110)-29","v":{"$error":"#NUM!"}},{"$error":"#NUM!"},{"$error":"#NUM!"},true,false,{"$error":"#NUM!"}]
[null,null,null,null,null,null,null,null,null,null,null,null,null,null,null,null,null,null,null,null,null,null,null,null,null,null,null,null,null,null,null,null,null,null,null,null,null,null,null,null,null,null,null,null,null,null,null,null,null,null,null,null,false,true,0,62,{"$f":"SMALL(IF($BB$30:$BB$32<>BC111,\"\",ROW($BB$30:$BB$32)),BD111)-29","v":{"$error":"#NUM!"}},{"$error":"#NUM!"},{"$error":"#NUM!"},0,62,{"$f":"SMALL(IF($BJ$30:$BJ$32<>BH111,\"\",ROW($BJ$30:$BJ$32)),BI111)-29","v":{"$error":"#NUM!"}},{"$error":"#NUM!"},{"$error":"#NUM!"},true,false,{"$error":"#NUM!"}]
[null,null,null,null,null,null,null,null,null,null,null,null,null,null,null,null,null,null,null,null,null,null,null,null,null,null,null,null,null,null,null,null,null,null,null,null,null,null,null,null,null,null,null,null,null,null,null,null,null,null,null,null,false,true,0,63,{"$f":"SMALL(IF($BB$30:$BB$32<>BC112,\"\",ROW($BB$30:$BB$32)),BD112)-29","v":{"$error":"#NUM!"}},{"$error":"#NUM!"},{"$error":"#NUM!"},0,63,{"$f":"SMALL(IF($BJ$30:$BJ$32<>BH112,\"\",ROW($BJ$30:$BJ$32)),BI112)-29","v":{"$error":"#NUM!"}},{"$error":"#NUM!"},{"$error":"#NUM!"},true,false,{"$error":"#NUM!"}]
[null,null,null,null,null,null,null,null,null,null,null,null,null,null,null,null,null,null,null,null,null,null,null,null,null,null,null,null,null,null,null,null,null,null,null,null,null,null,null,null,null,null,null,null,null,null,null,null,null,null,null,null,false,true,0,64,{"$f":"SMALL(IF($BB$30:$BB$32<>BC113,\"\",ROW($BB$30:$BB$32)),BD113)-29","v":{"$error":"#NUM!"}},{"$error":"#NUM!"},{"$error":"#NUM!"},0,64,{"$f":"SMALL(IF($BJ$30:$BJ$32<>BH113,\"\",ROW($BJ$30:$BJ$32)),BI113)-29","v":{"$error":"#NUM!"}},{"$error":"#NUM!"},{"$error":"#NUM!"},true,false,{"$error":"#NUM!"}]
[null,null,null,null,null,null,null,null,null,null,null,null,null,null,null,null,null,null,null,null,null,null,null,null,null,null,null,null,null,null,null,null,null,null,null,null,null,null,null,null,null,null,null,null,null,null,null,null,null,null,null,null,false,true,{"$f":"MIN($BB$29:$BB$32)","v":0},65,{"$f":"SMALL(IF($BB$30:$BB$32<>BC114,\"\",ROW($BB$30:$BB$32)),BD114)-29","v":{"$error":"#NUM!"}},{"$f":"INDEX($BD$30:$BD$32,BE114)","v":{"$error":"#NUM!"}},{"$f":"INDEX($BG$30:$BG$32,BE114)","v":{"$error":"#NUM!"}},{"$f":"MAX($BJ$29:$BJ$32)","v":0},65,{"$f":"SMALL(IF($BJ$30:$BJ$32<>BH114,\"\",ROW($BJ$30:$BJ$32)),BI114)-29","v":{"$error":"#NUM!"}},{"$f":"INDEX($BL$30:$BL$32,BJ114)","v":{"$error":"#NUM!"}},{"$f":"INDEX($BO$30:$BO$32,BJ114)","v":{"$error":"#NUM!"}},true,false,{"$error":"#NUM!"}]
[null,null,null,null,null,null,null,null,null,null,null,null,null,null,null,null,null,null,null,null,null,null,null,null,null,null,null,null,null,null,null,null,null,null,null,null,null,null,null,null,null,null,null,null,null,null,null,null,null,null,null,null,{"$f":"IF(BB115=FALSE,BF115)","v":false},{"$f":"ISERR(BF115)","v":true},0,66,{"$f":"SMALL(IF($BB$30:$BB$32<>BC115,\"\",ROW($BB$30:$BB$32)),BD115)-29","v":{"$error":"#NUM!"}},{"$error":"#NUM!"},{"$error":"#NUM!"},0,66,{"$f":"SMALL(IF($BJ$30:$BJ$32<>BH115,\"\",ROW($BJ$30:$BJ$32)),BI115)-29","v":{"$error":"#NUM!"}},{"$error":"#NUM!"},{"$error":"#NUM!"},{"$f":"ISERR(BK115)","v":true},{"$f":"IF(BM115=FALSE,BK115)","v":false},{"$f":"BL115","v":{"$error":"#NUM!"}}]
[null,null,null,null,null,null,null,null,null,null,null,null,null,null,null,null,null,null,null,null,null,null,null,null,null,null,null,null,null,null,null,null,null,null,null,null,null,null,null,null,null,null,null,null,null,null,null,null,null,null,null,null,false,true,0,67,{"$f":"SMALL(IF($BB$30:$BB$32<>BC116,\"\",ROW($BB$30:$BB$32)),BD116)-29","v":{"$error":"#NUM!"}},{"$error":"#NUM!"},{"$error":"#NUM!"},0,67,{"$f":"SMALL(IF($BJ$30:$BJ$32<>BH116,\"\",ROW($BJ$30:$BJ$32)),BI116)-29","v":{"$error":"#NUM!"}},{"$error":"#NUM!"},{"$error":"#NUM!"},true,false,{"$error":"#NUM!"}]
[null,null,null,null,null,null,null,null,null,null,null,null,null,null,null,null,null,null,null,null,null,null,null,null,null,null,null,null,null,null,null,null,null,null,null,null,null,null,null,null,null,null,null,null,null,null,null,null,null,null,null,null,false,true,0,68,{"$f":"SMALL(IF($BB$30:$BB$32<>BC117,\"\",ROW($BB$30:$BB$32)),BD117)-29","v":{"$error":"#NUM!"}},{"$error":"#NUM!"},{"$error":"#NUM!"},0,68,{"$f":"SMALL(IF($BJ$30:$BJ$32<>BH117,\"\",ROW($BJ$30:$BJ$32)),BI117)-29","v":{"$error":"#NUM!"}},{"$error":"#NUM!"},{"$error":"#NUM!"},true,false,{"$error":"#NUM!"}]
[null,null,null,null,null,null,null,null,null,null,null,null,null,null,null,null,null,null,null,null,null,null,null,null,null,null,null,null,null,null,null,null,null,null,null,null,null,null,null,null,null,null,null,null,null,null,null,null,null,null,null,null,false,true,0,69,{"$f":"SMALL(IF($BB$30:$BB$32<>BC118,\"\",ROW($BB$30:$BB$32)),BD118)-29","v":{"$error":"#NUM!"}},{"$error":"#NUM!"},{"$error":"#NUM!"},0,69,{"$f":"SMALL(IF($BJ$30:$BJ$32<>BH118,\"\",ROW($BJ$30:$BJ$32)),BI118)-29","v":{"$error":"#NUM!"}},{"$error":"#NUM!"},{"$error":"#NUM!"},true,false,{"$error":"#NUM!"}]
[null,null,null,null,null,null,null,null,null,null,null,null,null,null,null,null,null,null,null,null,null,null,null,null,null,null,null,null,null,null,null,null,null,null,null,null,null,null,null,null,null,null,null,null,null,null,null,null,null,null,null,null,false,true,0,70,{"$f":"SMALL(IF($BB$30:$BB$32<>BC119,\"\",ROW($BB$30:$BB$32)),BD119)-29","v":{"$error":"#NUM!"}},{"$error":"#NUM!"},{"$error":"#NUM!"},0,70,{"$f":"SMALL(IF($BJ$30:$BJ$32<>BH119,\"\",ROW($BJ$30:$BJ$32)),BI119)-29","v":{"$error":"#NUM!"}},{"$error":"#NUM!"},{"$error":"#NUM!"},true,false,{"$error":"#NUM!"}]
[null,null,null,null,null,null,null,null,null,null,null,null,null,null,null,null,null,null,null,null,null,null,null,null,null,null,null,null,null,null,null,null,null,null,null,null,null,null,null,null,null,null,null,null,null,null,null,null,null,null,null,null,false,true,0,71,{"$f":"SMALL(IF($BB$30:$BB$32<>BC120,\"\",ROW($BB$30:$BB$32)),BD120)-29","v":{"$error":"#NUM!"}},{"$error":"#NUM!"},{"$error":"#NUM!"},0,71,{"$f":"SMALL(IF($BJ$30:$BJ$32<>BH120,\"\",ROW($BJ$30:$BJ$32)),BI120)-29","v":{"$error":"#NUM!"}},{"$error":"#NUM!"},{"$error":"#NUM!"},true,false,{"$error":"#NUM!"}]
[null,null,null,null,null,null,null,null,null,null,null,null,null,null,null,null,null,null,null,null,null,null,null,null,null,null,null,null,null,null,null,null,null,null,null,null,null,null,null,null,null,null,null,null,null,null,null,null,null,null,null,null,false,true,0,72,{"$f":"SMALL(IF($BB$30:$BB$32<>BC121,\"\",ROW($BB$30:$BB$32)),BD121)-29","v":{"$error":"#NUM!"}},{"$error":"#NUM!"},{"$error":"#NUM!"},0,72,{"$f":"SMALL(IF($BJ$30:$BJ$32<>BH121,\"\",ROW($BJ$30:$BJ$32)),BI121)-29","v":{"$error":"#NUM!"}},{"$error":"#NUM!"},{"$error":"#NUM!"},true,false,{"$error":"#NUM!"}]
[null,null,null,null,null,null,null,null,null,null,null,null,null,null,null,null,null,null,null,null,null,null,null,null,null,null,null,null,null,null,null,null,null,null,null,null,null,null,null,null,null,null,null,null,null,null,null,null,null,null,null,null,false,true,0,73,{"$f":"SMALL(IF($BB$30:$BB$32<>BC122,\"\",ROW($BB$30:$BB$32)),BD122)-29","v":{"$error":"#NUM!"}},{"$error":"#NUM!"},{"$error":"#NUM!"},0,73,{"$f":"SMALL(IF($BJ$30:$BJ$32<>BH122,\"\",ROW($BJ$30:$BJ$32)),BI122)-29","v":{"$error":"#NUM!"}},{"$error":"#NUM!"},{"$error":"#NUM!"},true,false,{"$error":"#NUM!"}]
[null,null,null,null,null,null,null,null,null,null,null,null,null,null,null,null,null,null,null,null,null,null,null,null,null,null,null,null,null,null,null,null,null,null,null,null,null,null,null,null,null,null,null,null,null,null,null,null,null,null,null,null,false,true,0,74,{"$f":"SMALL(IF($BB$30:$BB$32<>BC123,\"\",ROW($BB$30:$BB$32)),BD123)-29","v":{"$error":"#NUM!"}},{"$error":"#NUM!"},{"$error":"#NUM!"},0,74,{"$f":"SMALL(IF($BJ$30:$BJ$32<>BH123,\"\",ROW($BJ$30:$BJ$32)),BI123)-29","v":{"$error":"#NUM!"}},{"$error":"#NUM!"},{"$error":"#NUM!"},true,false,{"$error":"#NUM!"}]
[null,null,null,null,null,null,null,null,null,null,null,null,null,null,null,null,null,null,null,null,null,null,null,null,null,null,null,null,null,null,null,null,null,null,null,null,null,null,null,null,null,null,null,null,null,null,null,null,null,null,null,null,false,true,0,75,{"$f":"SMALL(IF($BB$30:$BB$32<>BC124,\"\",ROW($BB$30:$BB$32)),BD124)-29","v":{"$error":"#NUM!"}},{"$error":"#NUM!"},{"$error":"#NUM!"},0,75,{"$f":"SMALL(IF($BJ$30:$BJ$32<>BH124,\"\",ROW($BJ$30:$BJ$32)),BI124)-29","v":{"$error":"#NUM!"}},{"$error":"#NUM!"},{"$error":"#NUM!"},true,false,{"$error":"#NUM!"}]
[null,null,null,null,null,null,null,null,null,null,null,null,null,null,null,null,null,null,null,null,null,null,null,null,null,null,null,null,null,null,null,null,null,null,null,null,null,null,null,null,null,null,null,null,null,null,null,null,null,null,null,null,false,true,0,76,{"$f":"SMALL(IF($BB$30:$BB$32<>BC125,\"\",ROW($BB$30:$BB$32)),BD125)-29","v":{"$error":"#NUM!"}},{"$error":"#NUM!"},{"$error":"#NUM!"},0,76,{"$f":"SMALL(IF($BJ$30:$BJ$32<>BH125,\"\",ROW($BJ$30:$BJ$32)),BI125)-29","v":{"$error":"#NUM!"}},{"$error":"#NUM!"},{"$error":"#NUM!"},true,false,{"$error":"#NUM!"}]
[null,null,null,null,null,null,null,null,null,null,null,null,null,null,null,null,null,null,null,null,null,null,null,null,null,null,null,null,null,null,null,null,null,null,null,null,null,null,null,null,null,null,null,null,null,null,null,null,null,null,null,null,false,true,0,77,{"$f":"SMALL(IF($BB$30:$BB$32<>BC126,\"\",ROW($BB$30:$BB$32)),BD126)-29","v":{"$error":"#NUM!"}},{"$error":"#NUM!"},{"$error":"#NUM!"},0,77,{"$f":"SMALL(IF($BJ$30:$BJ$32<>BH126,\"\",ROW($BJ$30:$BJ$32)),BI126)-29","v":{"$error":"#NUM!"}},{"$error":"#NUM!"},{"$error":"#NUM!"},true,false,{"$error":"#NUM!"}]
[null,null,null,null,null,null,null,null,null,null,null,null,null,null,null,null,null,null,null,null,null,null,null,null,null,null,null,null,null,null,null,null,null,null,null,null,null,null,null,null,null,null,null,null,null,null,null,null,null,null,null,null,false,true,0,78,{"$f":"SMALL(IF($BB$30:$BB$32<>BC127,\"\",ROW($BB$30:$BB$32)),BD127)-29","v":{"$error":"#NUM!"}},{"$error":"#NUM!"},{"$error":"#NUM!"},0,78,{"$f":"SMALL(IF($BJ$30:$BJ$32<>BH127,\"\",ROW($BJ$30:$BJ$32)),BI127)-29","v":{"$error":"#NUM!"}},{"$error":"#NUM!"},{"$error":"#NUM!"},true,false,{"$error":"#NUM!"}]
[null,null,null,null,null,null,null,null,null,null,null,null,null,null,null,null,null,null,null,null,null,null,null,null,null,null,null,null,null,null,null,null,null,null,null,null,null,null,null,null,null,null,null,null,null,null,null,null,null,null,null,null,false,true,0,79,{"$f":"SMALL(IF($BB$30:$BB$32<>BC128,\"\",ROW($BB$30:$BB$32)),BD128)-29","v":{"$error":"#NUM!"}},{"$error":"#NUM!"},{"$error":"#NUM!"},0,79,{"$f":"SMALL(IF($BJ$30:$BJ$32<>BH128,\"\",ROW($BJ$30:$BJ$32)),BI128)-29","v":{"$error":"#NUM!"}},{"$error":"#NUM!"},{"$error":"#NUM!"},true,false,{"$error":"#NUM!"}]
[null,null,null,null,null,null,null,null,null,null,null,null,null,null,null,null,null,null,null,null,null,null,null,null,null,null,null,null,null,null,null,null,null,null,null,null,null,null,null,null,null,null,null,null,null,null,null,null,null,null,null,null,false,true,0,80,{"$f":"SMALL(IF($BB$30:$BB$32<>BC129,\"\",ROW($BB$30:$BB$32)),BD129)-29","v":{"$error":"#NUM!"}},{"$error":"#NUM!"},{"$error":"#NUM!"},0,80,{"$f":"SMALL(IF($BJ$30:$BJ$32<>BH129,\"\",ROW($BJ$30:$BJ$32)),BI129)-29","v":{"$error":"#NUM!"}},{"$error":"#NUM!"},{"$error":"#NUM!"},true,false,{"$error":"#NUM!"}]
[null,null,null,null,null,null,null,null,null,null,null,null,null,null,null,null,null,null,null,null,null,null,null,null,null,null,null,null,null,null,null,null,null,null,null,null,null,null,null,null,null,null,null,null,null,null,null,null,null,null,null,null,false,true,0,81,{"$f":"SMALL(IF($BB$30:$BB$32<>BC130,\"\",ROW($BB$30:$BB$32)),BD130)-29","v":{"$error":"#NUM!"}},{"$error":"#NUM!"},{"$error":"#NUM!"},0,81,{"$f":"SMALL(IF($BJ$30:$BJ$32<>BH130,\"\",ROW($BJ$30:$BJ$32)),BI130)-29","v":{"$error":"#NUM!"}},{"$error":"#NUM!"},{"$error":"#NUM!"},true,false,{"$error":"#NUM!"}]
[null,null,null,null,null,null,null,null,null,null,null,null,null,null,null,null,null,null,null,null,null,null,null,null,null,null,null,null,null,null,null,null,null,null,null,null,null,null,null,null,null,null,null,null,null,null,null,null,null,null,null,null,false,true,0,82,{"$f":"SMALL(IF($BB$30:$BB$32<>BC131,\"\",ROW($BB$30:$BB$32)),BD131)-29","v":{"$error":"#NUM!"}},{"$error":"#NUM!"},{"$error":"#NUM!"},0,82,{"$f":"SMALL(IF($BJ$30:$BJ$32<>BH131,\"\",ROW($BJ$30:$BJ$32)),BI131)-29","v":{"$error":"#NUM!"}},{"$error":"#NUM!"},{"$error":"#NUM!"},true,false,{"$error":"#NUM!"}]
[null,null,null,null,null,null,null,null,null,null,null,null,null,null,null,null,null,null,null,null,null,null,null,null,null,null,null,null,null,null,null,null,null,null,null,null,null,null,null,null,null,null,null,null,null,null,null,null,null,null,null,null,false,true,0,83,{"$f":"SMALL(IF($BB$30:$BB$32<>BC132,\"\",ROW($BB$30:$BB$32)),BD132)-29","v":{"$error":"#NUM!"}},{"$error":"#NUM!"},{"$error":"#NUM!"},0,83,{"$f":"SMALL(IF($BJ$30:$BJ$32<>BH132,\"\",ROW($BJ$30:$BJ$32)),BI132)-29","v":{"$error":"#NUM!"}},{"$error":"#NUM!"},{"$error":"#NUM!"},true,false,{"$error":"#NUM!"}]
[null,null,null,null,null,null,null,null,null,null,null,null,null,null,null,null,null,null,null,null,null,null,null,null,null,null,null,null,null,null,null,null,null,null,null,null,null,null,null,null,null,null,null,null,null,null,null,null,null,null,null,null,false,true,0,84,{"$f":"SMALL(IF($BB$30:$BB$32<>BC133,\"\",ROW($BB$30:$BB$32)),BD133)-29","v":{"$error":"#NUM!"}},{"$error":"#NUM!"},{"$error":"#NUM!"},0,84,{"$f":"SMALL(IF($BJ$30:$BJ$32<>BH133,\"\",ROW($BJ$30:$BJ$32)),BI133)-29","v":{"$error":"#NUM!"}},{"$error":"#NUM!"},{"$error":"#NUM!"},true,false,{"$error":"#NUM!"}]
[null,null,null,null,null,null,null,null,null,null,null,null,null,null,null,null,null,null,null,null,null,null,null,null,null,null,null,null,null,null,null,null,null,null,null,null,null,null,null,null,null,null,null,null,null,null,null,null,null,null,null,null,false,true,0,85,{"$f":"SMALL(IF($BB$30:$BB$32<>BC134,\"\",ROW($BB$30:$BB$32)),BD134)-29","v":{"$error":"#NUM!"}},{"$error":"#NUM!"},{"$error":"#NUM!"},0,85,{"$f":"SMALL(IF($BJ$30:$BJ$32<>BH134,\"\",ROW($BJ$30:$BJ$32)),BI134)-29","v":{"$error":"#NUM!"}},{"$error":"#NUM!"},{"$error":"#NUM!"},true,false,{"$error":"#NUM!"}]
[null,null,null,null,null,null,null,null,null,null,null,null,null,null,null,null,null,null,null,null,null,null,null,null,null,null,null,null,null,null,null,null,null,null,null,null,null,null,null,null,null,null,null,null,null,null,null,null,null,null,null,null,false,true,0,86,{"$f":"SMALL(IF($BB$30:$BB$32<>BC135,\"\",ROW($BB$30:$BB$32)),BD135)-29","v":{"$error":"#NUM!"}},{"$error":"#NUM!"},{"$error":"#NUM!"},0,86,{"$f":"SMALL(IF($BJ$30:$BJ$32<>BH135,\"\",ROW($BJ$30:$BJ$32)),BI135)-29","v":{"$error":"#NUM!"}},{"$error":"#NUM!"},{"$error":"#NUM!"},true,false,{"$error":"#NUM!"}]
[null,null,null,null,null,null,null,null,null,null,null,null,null,null,null,null,null,null,null,null,null,null,null,null,null,null,null,null,null,null,null,null,null,null,null,null,null,null,null,null,null,null,null,null,null,null,null,null,null,null,null,null,false,true,0,87,{"$f":"SMALL(IF($BB$30:$BB$32<>BC136,\"\",ROW($BB$30:$BB$32)),BD136)-29","v":{"$error":"#NUM!"}},{"$error":"#NUM!"},{"$error":"#NUM!"},0,87,{"$f":"SMALL(IF($BJ$30:$BJ$32<>BH136,\"\",ROW($BJ$30:$BJ$32)),BI136)-29","v":{"$error":"#NUM!"}},{"$error":"#NUM!"},{"$error":"#NUM!"},true,false,{"$error":"#NUM!"}]
[null,null,null,null,null,null,null,null,null,null,null,null,null,null,null,null,null,null,null,null,null,null,null,null,null,null,null,null,null,null,null,null,null,null,null,null,null,null,null,null,null,null,null,null,null,null,null,null,null,null,null,null,false,true,0,88,{"$f":"SMALL(IF($BB$30:$BB$32<>BC137,\"\",ROW($BB$30:$BB$32)),BD137)-29","v":{"$error":"#NUM!"}},{"$error":"#NUM!"},{"$error":"#NUM!"},0,88,{"$f":"SMALL(IF($BJ$30:$BJ$32<>BH137,\"\",ROW($BJ$30:$BJ$32)),BI137)-29","v":{"$error":"#NUM!"}},{"$error":"#NUM!"},{"$error":"#NUM!"},true,false,{"$error":"#NUM!"}]
[null,null,null,null,null,null,null,null,null,null,null,null,null,null,null,null,null,null,null,null,null,null,null,null,null,null,null,null,null,null,null,null,null,null,null,null,null,null,null,null,null,null,null,null,null,null,null,null,null,null,null,null,false,true,0,89,{"$f":"SMALL(IF($BB$30:$BB$32<>BC138,\"\",ROW($BB$30:$BB$32)),BD138)-29","v":{"$error":"#NUM!"}},{"$error":"#NUM!"},{"$error":"#NUM!"},0,89,{"$f":"SMALL(IF($BJ$30:$BJ$32<>BH138,\"\",ROW($BJ$30:$BJ$32)),BI138)-29","v":{"$error":"#NUM!"}},{"$error":"#NUM!"},{"$error":"#NUM!"},true,false,{"$error":"#NUM!"}]
[null,null,null,null,null,null,null,null,null,null,null,null,null,null,null,null,null,null,null,null,null,null,null,null,null,null,null,null,null,null,null,null,null,null,null,null,null,null,null,null,null,null,null,null,null,null,null,null,null,null,null,null,false,true,0,90,{"$f":"SMALL(IF($BB$30:$BB$32<>BC139,\"\",ROW($BB$30:$BB$32)),BD139)-29","v":{"$error":"#NUM!"}},{"$error":"#NUM!"},{"$error":"#NUM!"},0,90,{"$f":"SMALL(IF($BJ$30:$BJ$32<>BH139,\"\",ROW($BJ$30:$BJ$32)),BI139)-29","v":{"$error":"#NUM!"}},{"$error":"#NUM!"},{"$error":"#NUM!"},true,false,{"$error":"#NUM!"}]
[null,null,null,null,null,null,null,null,null,null,null,null,null,null,null,null,null,null,null,null,null,null,null,null,null,null,null,null,null,null,null,null,null,null,null,null,null,null,null,null,null,null,null,null,null,null,null,null,null,null,null,null,false,true,0,91,{"$f":"SMALL(IF($BB$30:$BB$32<>BC140,\"\",ROW($BB$30:$BB$32)),BD140)-29","v":{"$error":"#NUM!"}},{"$error":"#NUM!"},{"$error":"#NUM!"},0,91,{"$f":"SMALL(IF($BJ$30:$BJ$32<>BH140,\"\",ROW($BJ$30:$BJ$32)),BI140)-29","v":{"$error":"#NUM!"}},{"$error":"#NUM!"},{"$error":"#NUM!"},true,false,{"$error":"#NUM!"}]
[null,null,null,null,null,null,null,null,null,null,null,null,null,null,null,null,null,null,null,null,null,null,null,null,null,null,null,null,null,null,null,null,null,null,null,null,null,null,null,null,null,null,null,null,null,null,null,null,null,null,null,null,false,true,0,92,{"$f":"SMALL(IF($BB$30:$BB$32<>BC141,\"\",ROW($BB$30:$BB$32)),BD141)-29","v":{"$error":"#NUM!"}},{"$error":"#NUM!"},{"$error":"#NUM!"},0,92,{"$f":"SMALL(IF($BJ$30:$BJ$32<>BH141,\"\",ROW($BJ$30:$BJ$32)),BI141)-29","v":{"$error":"#NUM!"}},{"$error":"#NUM!"},{"$error":"#NUM!"},true,false,{"$error":"#NUM!"}]
[null,null,null,null,null,null,null,null,null,null,null,null,null,null,null,null,null,null,null,null,null,null,null,null,null,null,null,null,null,null,null,null,null,null,null,null,null,null,null,null,null,null,null,null,null,null,null,null,null,null,null,null,false,true,0,93,{"$f":"SMALL(IF($BB$30:$BB$32<>BC142,\"\",ROW($BB$30:$BB$32)),BD142)-29","v":{"$error":"#NUM!"}},{"$error":"#NUM!"},{"$error":"#NUM!"},0,93,{"$f":"SMALL(IF($BJ$30:$BJ$32<>BH142,\"\",ROW($BJ$30:$BJ$32)),BI142)-29","v":{"$error":"#NUM!"}},{"$error":"#NUM!"},{"$error":"#NUM!"},true,false,{"$error":"#NUM!"}]
[null,null,null,null,null,null,null,null,null,null,null,null,null,null,null,null,null,null,null,null,null,null,null,null,null,null,null,null,null,null,null,null,null,null,null,null,null,null,null,null,null,null,null,null,null,null,null,null,null,null,null,null,false,true,0,94,{"$f":"SMALL(IF($BB$30:$BB$32<>BC143,\"\",ROW($BB$30:$BB$32)),BD143)-29","v":{"$error":"#NUM!"}},{"$error":"#NUM!"},{"$error":"#NUM!"},0,94,{"$f":"SMALL(IF($BJ$30:$BJ$32<>BH143,\"\",ROW($BJ$30:$BJ$32)),BI143)-29","v":{"$error":"#NUM!"}},{"$error":"#NUM!"},{"$error":"#NUM!"},true,false,{"$error":"#NUM!"}]
[null,null,null,null,null,null,null,null,null,null,null,null,null,null,null,null,null,null,null,null,null,null,null,null,null,null,null,null,null,null,null,null,null,null,null,null,null,null,null,null,null,null,null,null,null,null,null,null,null,null,null,null,false,true,0,95,{"$f":"SMALL(IF($BB$30:$BB$32<>BC144,\"\",ROW($BB$30:$BB$32)),BD144)-29","v":{"$error":"#NUM!"}},{"$error":"#NUM!"},{"$error":"#NUM!"},0,95,{"$f":"SMALL(IF($BJ$30:$BJ$32<>BH144,\"\",ROW($BJ$30:$BJ$32)),BI144)-29","v":{"$error":"#NUM!"}},{"$error":"#NUM!"},{"$error":"#NUM!"},true,false,{"$error":"#NUM!"}]
[null,null,null,null,null,null,null,null,null,null,null,null,null,null,null,null,null,null,null,null,null,null,null,null,null,null,null,null,null,null,null,null,null,null,null,null,null,null,null,null,null,null,null,null,null,null,null,null,null,null,null,null,false,true,0,96,{"$f":"SMALL(IF($BB$30:$BB$32<>BC145,\"\",ROW($BB$30:$BB$32)),BD145)-29","v":{"$error":"#NUM!"}},{"$error":"#NUM!"},{"$error":"#NUM!"},0,96,{"$f":"SMALL(IF($BJ$30:$BJ$32<>BH145,\"\",ROW($BJ$30:$BJ$32)),BI145)-29","v":{"$error":"#NUM!"}},{"$error":"#NUM!"},{"$error":"#NUM!"},true,false,{"$error":"#NUM!"}]
[null,null,null,null,null,null,null,null,null,null,null,null,null,null,null,null,null,null,null,null,null,null,null,null,null,null,null,null,null,null,null,null,null,null,null,null,null,null,null,null,null,null,null,null,null,null,null,null,null,null,null,null,false,true,0,97,{"$f":"SMALL(IF($BB$30:$BB$32<>BC146,\"\",ROW($BB$30:$BB$32)),BD146)-29","v":{"$error":"#NUM!"}},{"$error":"#NUM!"},{"$error":"#NUM!"},0,97,{"$f":"SMALL(IF($BJ$30:$BJ$32<>BH146,\"\",ROW($BJ$30:$BJ$32)),BI146)-29","v":{"$error":"#NUM!"}},{"$error":"#NUM!"},{"$error":"#NUM!"},true,false,{"$error":"#NUM!"}]
[null,null,null,null,null,null,null,null,null,null,null,null,null,null,null,null,null,null,null,null,null,null,null,null,null,null,null,null,null,null,null,null,null,null,null,null,null,null,null,null,null,null,null,null,null,null,null,null,null,null,null,null,false,true,0,98,{"$f":"SMALL(IF($BB$30:$BB$32<>BC147,\"\",ROW($BB$30:$BB$32)),BD147)-29","v":{"$error":"#NUM!"}},{"$error":"#NUM!"},{"$error":"#NUM!"},0,98,{"$f":"SMALL(IF($BJ$30:$BJ$32<>BH147,\"\",ROW($BJ$30:$BJ$32)),BI147)-29","v":{"$error":"#NUM!"}},{"$error":"#NUM!"},{"$error":"#NUM!"},true,false,{"$error":"#NUM!"}]
[null,null,null,null,null,null,null,null,null,null,null,null,null,null,null,null,null,null,null,null,null,null,null,null,null,null,null,null,null,null,null,null,null,null,null,null,null,null,null,null,null,null,null,null,null,null,null,null,null,null,null,null,false,true,0,99,{"$f":"SMALL(IF($BB$30:$BB$32<>BC148,\"\",ROW($BB$30:$BB$32)),BD148)-29","v":{"$error":"#NUM!"}},{"$error":"#NUM!"},{"$error":"#NUM!"},0,99,{"$f":"SMALL(IF($BJ$30:$BJ$32<>BH148,\"\",ROW($BJ$30:$BJ$32)),BI148)-29","v":{"$error":"#NUM!"}},{"$error":"#NUM!"},{"$error":"#NUM!"},true,false,{"$error":"#NUM!"}]
[null,null,null,null,null,null,null,null,null,null,null,null,null,null,null,null,null,null,null,null,null,null,null,null,null,null,null,null,null,null,null,null,null,null,null,null,null,null,null,null,null,null,null,null,null,null,null,null,null,null,null,null,false,true,0,100,{"$f":"SMALL(IF($BB$30:$BB$32<>BC149,\"\",ROW($BB$30:$BB$32)),BD149)-29","v":{"$error":"#NUM!"}},{"$error":"#NUM!"},{"$error":"#NUM!"},0,100,{"$f":"SMALL(IF($BJ$30:$BJ$32<>BH149,\"\",ROW($BJ$30:$BJ$32)),BI149)-29","v":{"$error":"#NUM!"}},{"$error":"#NUM!"},{"$error":"#NUM!"},true,false,{"$error":"#NUM!"}]
[null,null,null,null,null,null,null,null,null,null,null,null,null,null,null,null,null,null,null,null,null,null,null,null,null,null,null,null,null,null,null,null,null,null,null,null,null,null,null,null,null,null,null,null,null,null,null,null,null,null,null,null,false,true,0,101,{"$f":"SMALL(IF($BB$30:$BB$32<>BC150,\"\",ROW($BB$30:$BB$32)),BD150)-29","v":{"$error":"#NUM!"}},{"$error":"#NUM!"},{"$error":"#NUM!"},0,101,{"$f":"SMALL(IF($BJ$30:$BJ$32<>BH150,\"\",ROW($BJ$30:$BJ$32)),BI150)-29","v":{"$error":"#NUM!"}},{"$error":"#NUM!"},{"$error":"#NUM!"},true,false,{"$error":"#NUM!"}]
[null,null,null,null,null,null,null,null,null,null,null,null,null,null,null,null,null,null,null,null,null,null,null,null,null,null,null,null,null,null,null,null,null,null,null,null,null,null,null,null,null,null,null,null,null,null,null,null,null,null,null,null,false,true,0,102,{"$f":"SMALL(IF($BB$30:$BB$32<>BC151,\"\",ROW($BB$30:$BB$32)),BD151)-29","v":{"$error":"#NUM!"}},{"$error":"#NUM!"},{"$error":"#NUM!"},0,102,{"$f":"SMALL(IF($BJ$30:$BJ$32<>BH151,\"\",ROW($BJ$30:$BJ$32)),BI151)-29","v":{"$error":"#NUM!"}},{"$error":"#NUM!"},{"$error":"#NUM!"},true,false,{"$error":"#NUM!"}]
[null,null,null,null,null,null,null,null,null,null,null,null,null,null,null,null,null,null,null,null,null,null,null,null,null,null,null,null,null,null,null,null,null,null,null,null,null,null,null,null,null,null,null,null,null,null,null,null,null,null,null,null,false,true,0,103,{"$f":"SMALL(IF($BB$30:$BB$32<>BC152,\"\",ROW($BB$30:$BB$32)),BD152)-29","v":{"$error":"#NUM!"}},{"$error":"#NUM!"},{"$error":"#NUM!"},0,103,{"$f":"SMALL(IF($BJ$30:$BJ$32<>BH152,\"\",ROW($BJ$30:$BJ$32)),BI152)-29","v":{"$error":"#NUM!"}},{"$error":"#NUM!"},{"$error":"#NUM!"},true,false,{"$error":"#NUM!"}]
[null,null,null,null,null,null,null,null,null,null,null,null,null,null,null,null,null,null,null,null,null,null,null,null,null,null,null,null,null,null,null,null,null,null,null,null,null,null,null,null,null,null,null,null,null,null,null,null,null,null,null,null,false,true,0,104,{"$f":"SMALL(IF($BB$30:$BB$32<>BC153,\"\",ROW($BB$30:$BB$32)),BD153)-29","v":{"$error":"#NUM!"}},{"$error":"#NUM!"},{"$error":"#NUM!"},0,104,{"$f":"SMALL(IF($BJ$30:$BJ$32<>BH153,\"\",ROW($BJ$30:$BJ$32)),BI153)-29","v":{"$error":"#NUM!"}},{"$error":"#NUM!"},{"$error":"#NUM!"},true,false,{"$error":"#NUM!"}]
[null,null,null,null,null,null,null,null,null,null,null,null,null,null,null,null,null,null,null,null,null,null,null,null,null,null,null,null,null,null,null,null,null,null,null,null,null,null,null,null,null,null,null,null,null,null,null,null,null,null,null,null,false,true,0,105,{"$f":"SMALL(IF($BB$30:$BB$32<>BC154,\"\",ROW($BB$30:$BB$32)),BD154)-29","v":{"$error":"#NUM!"}},{"$error":"#NUM!"},{"$error":"#NUM!"},0,105,{"$f":"SMALL(IF($BJ$30:$BJ$32<>BH154,\"\",ROW($BJ$30:$BJ$32)),BI154)-29","v":{"$error":"#NUM!"}},{"$error":"#NUM!"},{"$error":"#NUM!"},true,false,{"$error":"#NUM!"}]
[null,null,null,null,null,null,null,null,null,null,null,null,null,null,null,null,null,null,null,null,null,null,null,null,null,null,null,null,null,null,null,null,null,null,null,null,null,null,null,null,null,null,null,null,null,null,null,null,null,null,null,null,false,true,0,106,{"$f":"SMALL(IF($BB$30:$BB$32<>BC155,\"\",ROW($BB$30:$BB$32)),BD155)-29","v":{"$error":"#NUM!"}},{"$error":"#NUM!"},{"$error":"#NUM!"},0,106,{"$f":"SMALL(IF($BJ$30:$BJ$32<>BH155,\"\",ROW($BJ$30:$BJ$32)),BI155)-29","v":{"$error":"#NUM!"}},{"$error":"#NUM!"},{"$error":"#NUM!"},true,false,{"$error":"#NUM!"}]
[null,null,null,null,null,null,null,null,null,null,null,null,null,null,null,null,null,null,null,null,null,null,null,null,null,null,null,null,null,null,null,null,null,null,null,null,null,null,null,null,null,null,null,null,null,null,null,null,null,null,null,null,false,true,0,107,{"$f":"SMALL(IF($BB$30:$BB$32<>BC156,\"\",ROW($BB$30:$BB$32)),BD156)-29","v":{"$error":"#NUM!"}},{"$error":"#NUM!"},{"$error":"#NUM!"},0,107,{"$f":"SMALL(IF($BJ$30:$BJ$32<>BH156,\"\",ROW($BJ$30:$BJ$32)),BI156)-29","v":{"$error":"#NUM!"}},{"$error":"#NUM!"},{"$error":"#NUM!"},true,false,{"$error":"#NUM!"}]
[null,null,null,null,null,null,null,null,null,null,null,null,null,null,null,null,null,null,null,null,null,null,null,null,null,null,null,null,null,null,null,null,null,null,null,null,null,null,null,null,null,null,null,null,null,null,null,null,null,null,null,null,false,true,0,108,{"$f":"SMALL(IF($BB$30:$BB$32<>BC157,\"\",ROW($BB$30:$BB$32)),BD157)-29","v":{"$error":"#NUM!"}},{"$error":"#NUM!"},{"$error":"#NUM!"},0,108,{"$f":"SMALL(IF($BJ$30:$BJ$32<>BH157,\"\",ROW($BJ$30:$BJ$32)),BI157)-29","v":{"$error":"#NUM!"}},{"$error":"#NUM!"},{"$error":"#NUM!"},true,false,{"$error":"#NUM!"}]
[null,null,null,null,null,null,null,null,null,null,null,null,null,null,null,null,null,null,null,null,null,null,null,null,null,null,null,null,null,null,null,null,null,null,null,null,null,null,null,null,null,null,null,null,null,null,null,null,null,null,null,null,false,true,0,109,{"$f":"SMALL(IF($BB$30:$BB$32<>BC158,\"\",ROW($BB$30:$BB$32)),BD158)-29","v":{"$error":"#NUM!"}},{"$error":"#NUM!"},{"$error":"#NUM!"},0,109,{"$f":"SMALL(IF($BJ$30:$BJ$32<>BH158,\"\",ROW($BJ$30:$BJ$32)),BI158)-29","v":{"$error":"#NUM!"}},{"$error":"#NUM!"},{"$error":"#NUM!"},true,false,{"$error":"#NUM!"}]
[null,null,null,null,null,null,null,null,null,null,null,null,null,null,null,null,null,null,null,null,null,null,null,null,null,null,null,null,null,null,null,null,null,null,null,null,null,null,null,null,null,null,null,null,null,null,null,null,null,null,null,null,false,true,0,110,{"$f":"SMALL(IF($BB$30:$BB$32<>BC159,\"\",ROW($BB$30:$BB$32)),BD159)-29","v":{"$error":"#NUM!"}},{"$error":"#NUM!"},{"$error":"#NUM!"},0,110,{"$f":"SMALL(IF($BJ$30:$BJ$32<>BH159,\"\",ROW($BJ$30:$BJ$32)),BI159)-29","v":{"$error":"#NUM!"}},{"$error":"#NUM!"},{"$error":"#NUM!"},true,false,{"$error":"#NUM!"}]
[null,null,null,null,null,null,null,null,null,null,null,null,null,null,null,null,null,null,null,null,null,null,null,null,null,null,null,null,null,null,null,null,null,null,null,null,null,null,null,null,null,null,null,null,null,null,null,null,null,null,null,null,false,true,0,111,{"$f":"SMALL(IF($BB$30:$BB$32<>BC160,\"\",ROW($BB$30:$BB$32)),BD160)-29","v":{"$error":"#NUM!"}},{"$error":"#NUM!"},{"$error":"#NUM!"},0,111,{"$f":"SMALL(IF($BJ$30:$BJ$32<>BH160,\"\",ROW($BJ$30:$BJ$32)),BI160)-29","v":{"$error":"#NUM!"}},{"$error":"#NUM!"},{"$error":"#NUM!"},true,false,{"$error":"#NUM!"}]
[null,null,null,null,null,null,null,null,null,null,null,null,null,null,null,null,null,null,null,null,null,null,null,null,null,null,null,null,null,null,null,null,null,null,null,null,null,null,null,null,null,null,null,null,null,null,null,null,null,null,null,null,false,true,0,112,{"$f":"SMALL(IF($BB$30:$BB$32<>BC161,\"\",ROW($BB$30:$BB$32)),BD161)-29","v":{"$error":"#NUM!"}},{"$error":"#NUM!"},{"$error":"#NUM!"},0,112,{"$f":"SMALL(IF($BJ$30:$BJ$32<>BH161,\"\",ROW($BJ$30:$BJ$32)),BI161)-29","v":{"$error":"#NUM!"}},{"$error":"#NUM!"},{"$error":"#NUM!"},true,false,{"$error":"#NUM!"}]
[null,null,null,null,null,null,null,null,null,null,null,null,null,null,null,null,null,null,null,null,null,null,null,null,null,null,null,null,null,null,null,null,null,null,null,null,null,null,null,null,null,null,null,null,null,null,null,null,null,null,null,null,false,true,0,113,{"$f":"SMALL(IF($BB$30:$BB$32<>BC162,\"\",ROW($BB$30:$BB$32)),BD162)-29","v":{"$error":"#NUM!"}},{"$error":"#NUM!"},{"$error":"#NUM!"},0,113,{"$f":"SMALL(IF($BJ$30:$BJ$32<>BH162,\"\",ROW($BJ$30:$BJ$32)),BI162)-29","v":{"$error":"#NUM!"}},{"$error":"#NUM!"},{"$error":"#NUM!"},true,false,{"$error":"#NUM!"}]
[null,null,null,null,null,null,null,null,null,null,null,null,null,null,null,null,null,null,null,null,null,null,null,null,null,null,null,null,null,null,null,null,null,null,null,null,null,null,null,null,null,null,null,null,null,null,null,null,null,null,null,null,false,true,0,114,{"$f":"SMALL(IF($BB$30:$BB$32<>BC163,\"\",ROW($BB$30:$BB$32)),BD163)-29","v":{"$error":"#NUM!"}},{"$error":"#NUM!"},{"$error":"#NUM!"},0,114,{"$f":"SMALL(IF($BJ$30:$BJ$32<>BH163,\"\",ROW($BJ$30:$BJ$32)),BI163)-29","v":{"$error":"#NUM!"}},{"$error":"#NUM!"},{"$error":"#NUM!"},true,false,{"$error":"#NUM!"}]
[null,null,null,null,null,null,null,null,null,null,null,null,null,null,null,null,null,null,null,null,null,null,null,null,null,null,null,null,null,null,null,null,null,null,null,null,null,null,null,null,null,null,null,null,null,null,null,null,null,null,null,null,false,true,0,115,{"$f":"SMALL(IF($BB$30:$BB$32<>BC164,\"\",ROW($BB$30:$BB$32)),BD164)-29","v":{"$error":"#NUM!"}},{"$error":"#NUM!"},{"$error":"#NUM!"},0,115,{"$f":"SMALL(IF($BJ$30:$BJ$32<>BH164,\"\",ROW($BJ$30:$BJ$32)),BI164)-29","v":{"$error":"#NUM!"}},{"$error":"#NUM!"},{"$error":"#NUM!"},true,false,{"$error":"#NUM!"}]
[null,null,null,null,null,null,null,null,null,null,null,null,null,null,null,null,null,null,null,null,null,null,null,null,null,null,null,null,null,null,null,null,null,null,null,null,null,null,null,null,null,null,null,null,null,null,null,null,null,null,null,null,false,true,0,116,{"$f":"SMALL(IF($BB$30:$BB$32<>BC165,\"\",ROW($BB$30:$BB$32)),BD165)-29","v":{"$error":"#NUM!"}},{"$error":"#NUM!"},{"$error":"#NUM!"},0,116,{"$f":"SMALL(IF($BJ$30:$BJ$32<>BH165,\"\",ROW($BJ$30:$BJ$32)),BI165)-29","v":{"$error":"#NUM!"}},{"$error":"#NUM!"},{"$error":"#NUM!"},true,false,{"$error":"#NUM!"}]
[null,null,null,null,null,null,null,null,null,null,null,null,null,null,null,null,null,null,null,null,null,null,null,null,null,null,null,null,null,null,null,null,null,null,null,null,null,null,null,null,null,null,null,null,null,null,null,null,null,null,null,null,false,true,0,117,{"$f":"SMALL(IF($BB$30:$BB$32<>BC166,\"\",ROW($BB$30:$BB$32)),BD166)-29","v":{"$error":"#NUM!"}},{"$error":"#NUM!"},{"$error":"#NUM!"},0,117,{"$f":"SMALL(IF($BJ$30:$BJ$32<>BH166,\"\",ROW($BJ$30:$BJ$32)),BI166)-29","v":{"$error":"#NUM!"}},{"$error":"#NUM!"},{"$error":"#NUM!"},true,false,{"$error":"#NUM!"}]
[null,null,null,null,null,null,null,null,null,null,null,null,null,null,null,null,null,null,null,null,null,null,null,null,null,null,null,null,null,null,null,null,null,null,null,null,null,null,null,null,null,null,null,null,null,null,null,null,null,null,null,null,false,true,0,118,{"$f":"SMALL(IF($BB$30:$BB$32<>BC167,\"\",ROW($BB$30:$BB$32)),BD167)-29","v":{"$error":"#NUM!"}},{"$error":"#NUM!"},{"$error":"#NUM!"},0,118,{"$f":"SMALL(IF($BJ$30:$BJ$32<>BH167,\"\",ROW($BJ$30:$BJ$32)),BI167)-29","v":{"$error":"#NUM!"}},{"$error":"#NUM!"},{"$error":"#NUM!"},true,false,{"$error":"#NUM!"}]
[null,null,null,null,null,null,null,null,null,null,null,null,null,null,null,null,null,null,null,null,null,null,null,null,null,null,null,null,null,null,null,null,null,null,null,null,null,null,null,null,null,null,null,null,null,null,null,null,null,null,null,null,false,true,0,119,{"$f":"SMALL(IF($BB$30:$BB$32<>BC168,\"\",ROW($BB$30:$BB$32)),BD168)-29","v":{"$error":"#NUM!"}},{"$error":"#NUM!"},{"$error":"#NUM!"},0,119,{"$f":"SMALL(IF($BJ$30:$BJ$32<>BH168,\"\",ROW($BJ$30:$BJ$32)),BI168)-29","v":{"$error":"#NUM!"}},{"$error":"#NUM!"},{"$error":"#NUM!"},true,false,{"$error":"#NUM!"}]
[null,null,null,null,null,null,null,null,null,null,null,null,null,null,null,null,null,null,null,null,null,null,null,null,null,null,null,null,null,null,null,null,null,null,null,null,null,null,null,null,null,null,null,null,null,null,null,null,null,null,null,null,false,true,0,120,{"$f":"SMALL(IF($BB$30:$BB$32<>BC169,\"\",ROW($BB$30:$BB$32)),BD169)-29","v":{"$error":"#NUM!"}},{"$error":"#NUM!"},{"$error":"#NUM!"},0,120,{"$f":"SMALL(IF($BJ$30:$BJ$32<>BH169,\"\",ROW($BJ$30:$BJ$32)),BI169)-29","v":{"$error":"#NUM!"}},{"$error":"#NUM!"},{"$error":"#NUM!"},true,false,{"$error":"#NUM!"}]
[null,null,null,null,null,null,null,null,null,null,null,null,null,null,null,null,null,null,null,null,null,null,null,null,null,null,null,null,null,null,null,null,null,null,null,null,null,null,null,null,null,null,null,null,null,null,null,null,null,null,null,null,false,true,0,121,{"$f":"SMALL(IF($BB$30:$BB$32<>BC170,\"\",ROW($BB$30:$BB$32)),BD170)-29","v":{"$error":"#NUM!"}},{"$error":"#NUM!"},{"$error":"#NUM!"},0,121,{"$f":"SMALL(IF($BJ$30:$BJ$32<>BH170,\"\",ROW($BJ$30:$BJ$32)),BI170)-29","v":{"$error":"#NUM!"}},{"$error":"#NUM!"},{"$error":"#NUM!"},true,false,{"$error":"#NUM!"}]
[null,null,null,null,null,null,null,null,null,null,null,null,null,null,null,null,null,null,null,null,null,null,null,null,null,null,null,null,null,null,null,null,null,null,null,null,null,null,null,null,null,null,null,null,null,null,null,null,null,null,null,null,false,true,0,122,{"$f":"SMALL(IF($BB$30:$BB$32<>BC171,\"\",ROW($BB$30:$BB$32)),BD171)-29","v":{"$error":"#NUM!"}},{"$error":"#NUM!"},{"$error":"#NUM!"},0,122,{"$f":"SMALL(IF($BJ$30:$BJ$32<>BH171,\"\",ROW($BJ$30:$BJ$32)),BI171)-29","v":{"$error":"#NUM!"}},{"$error":"#NUM!"},{"$error":"#NUM!"},true,false,{"$error":"#NUM!"}]
[null,null,null,null,null,null,null,null,null,null,null,null,null,null,null,null,null,null,null,null,null,null,null,null,null,null,null,null,null,null,null,null,null,null,null,null,null,null,null,null,null,null,null,null,null,null,null,null,null,null,null,null,false,true,0,123,{"$f":"SMALL(IF($BB$30:$BB$32<>BC172,\"\",ROW($BB$30:$BB$32)),BD172)-29","v":{"$error":"#NUM!"}},{"$error":"#NUM!"},{"$error":"#NUM!"},0,123,{"$f":"SMALL(IF($BJ$30:$BJ$32<>BH172,\"\",ROW($BJ$30:$BJ$32)),BI172)-29","v":{"$error":"#NUM!"}},{"$error":"#NUM!"},{"$error":"#NUM!"},true,false,{"$error":"#NUM!"}]
[null,null,null,null,null,null,null,null,null,null,null,null,null,null,null,null,null,null,null,null,null,null,null,null,null,null,null,null,null,null,null,null,null,null,null,null,null,null,null,null,null,null,null,null,null,null,null,null,null,null,null,null,false,true,0,124,{"$f":"SMALL(IF($BB$30:$BB$32<>BC173,\"\",ROW($BB$30:$BB$32)),BD173)-29","v":{"$error":"#NUM!"}},{"$error":"#NUM!"},{"$error":"#NUM!"},0,124,{"$f":"SMALL(IF($BJ$30:$BJ$32<>BH173,\"\",ROW($BJ$30:$BJ$32)),BI173)-29","v":{"$error":"#NUM!"}},{"$error":"#NUM!"},{"$error":"#NUM!"},true,false,{"$error":"#NUM!"}]
[null,null,null,null,null,null,null,null,null,null,null,null,null,null,null,null,null,null,null,null,null,null,null,null,null,null,null,null,null,null,null,null,null,null,null,null,null,null,null,null,null,null,null,null,null,null,null,null,null,null,null,null,false,true,0,125,{"$f":"SMALL(IF($BB$30:$BB$32<>BC174,\"\",ROW($BB$30:$BB$32)),BD174)-29","v":{"$error":"#NUM!"}},{"$error":"#NUM!"},{"$error":"#NUM!"},0,125,{"$f":"SMALL(IF($BJ$30:$BJ$32<>BH174,\"\",ROW($BJ$30:$BJ$32)),BI174)-29","v":{"$error":"#NUM!"}},{"$error":"#NUM!"},{"$error":"#NUM!"},true,false,{"$error":"#NUM!"}]
[null,null,null,null,null,null,null,null,null,null,null,null,null,null,null,null,null,null,null,null,null,null,null,null,null,null,null,null,null,null,null,null,null,null,null,null,null,null,null,null,null,null,null,null,null,null,null,null,null,null,null,null,false,true,0,126,{"$f":"SMALL(IF($BB$30:$BB$32<>BC175,\"\",ROW($BB$30:$BB$32)),BD175)-29","v":{"$error":"#NUM!"}},{"$error":"#NUM!"},{"$error":"#NUM!"},0,126,{"$f":"SMALL(IF($BJ$30:$BJ$32<>BH175,\"\",ROW($BJ$30:$BJ$32)),BI175)-29","v":{"$error":"#NUM!"}},{"$error":"#NUM!"},{"$error":"#NUM!"},true,false,{"$error":"#NUM!"}]
[null,null,null,null,null,null,null,null,null,null,null,null,null,null,null,null,null,null,null,null,null,null,null,null,null,null,null,null,null,null,null,null,null,null,null,null,null,null,null,null,null,null,null,null,null,null,null,null,null,null,null,null,false,true,0,127,{"$f":"SMALL(IF($BB$30:$BB$32<>BC176,\"\",ROW($BB$30:$BB$32)),BD176)-29","v":{"$error":"#NUM!"}},{"$error":"#NUM!"},{"$error":"#NUM!"},0,127,{"$f":"SMALL(IF($BJ$30:$BJ$32<>BH176,\"\",ROW($BJ$30:$BJ$32)),BI176)-29","v":{"$error":"#NUM!"}},{"$error":"#NUM!"},{"$error":"#NUM!"},true,false,{"$error":"#NUM!"}]
[null,null,null,null,null,null,null,null,null,null,null,null,null,null,null,null,null,null,null,null,null,null,null,null,null,null,null,null,null,null,null,null,null,null,null,null,null,null,null,null,null,null,null,null,null,null,null,null,null,null,null,null,false,true,0,128,{"$f":"SMALL(IF($BB$30:$BB$32<>BC177,\"\",ROW($BB$30:$BB$32)),BD177)-29","v":{"$error":"#NUM!"}},{"$error":"#NUM!"},{"$error":"#NUM!"},0,128,{"$f":"SMALL(IF($BJ$30:$BJ$32<>BH177,\"\",ROW($BJ$30:$BJ$32)),BI177)-29","v":{"$error":"#NUM!"}},{"$error":"#NUM!"},{"$error":"#NUM!"},true,false,{"$error":"#NUM!"}]
[null,null,null,null,null,null,null,null,null,null,null,null,null,null,null,null,null,null,null,null,null,null,null,null,null,null,null,null,null,null,null,null,null,null,null,null,null,null,null,null,null,null,null,null,null,null,null,null,null,null,null,null,false,true,{"$f":"MIN($BB$29:$BB$32)","v":0},129,{"$f":"SMALL(IF($BB$30:$BB$32<>BC178,\"\",ROW($BB$30:$BB$32)),BD178)-29","v":{"$error":"#NUM!"}},{"$f":"INDEX($BD$30:$BD$32,BE178)","v":{"$error":"#NUM!"}},{"$f":"INDEX($BG$30:$BG$32,BE178)","v":{"$error":"#NUM!"}},{"$f":"MAX($BJ$29:$BJ$32)","v":0},129,{"$f":"SMALL(IF($BJ$30:$BJ$32<>BH178,\"\",ROW($BJ$30:$BJ$32)),BI178)-29","v":{"$error":"#NUM!"}},{"$f":"INDEX($BL$30:$BL$32,BJ178)","v":{"$error":"#NUM!"}},{"$f":"INDEX($BO$30:$BO$32,BJ178)","v":{"$error":"#NUM!"}},true,false,{"$error":"#NUM!"}]
[null,null,null,null,null,null,null,null,null,null,null,null,null,null,null,null,null,null,null,null,null,null,null,null,null,null,null,null,null,null,null,null,null,null,null,null,null,null,null,null,null,null,null,null,null,null,null,null,null,null,null,null,{"$f":"IF(BB179=FALSE,BF179)","v":false},{"$f":"ISERR(BF179)","v":true},0,130,{"$f":"SMALL(IF($BB$30:$BB$32<>BC179,\"\",ROW($BB$30:$BB$32)),BD179)-29","v":{"$error":"#NUM!"}},{"$error":"#NUM!"},{"$error":"#NUM!"},0,130,{"$f":"SMALL(IF($BJ$30:$BJ$32<>BH179,\"\",ROW($BJ$30:$BJ$32)),BI179)-29","v":{"$error":"#NUM!"}},{"$error":"#NUM!"},{"$error":"#NUM!"},{"$f":"ISERR(BK179)","v":true},{"$f":"IF(BM179=FALSE,BK179)","v":false},{"$f":"BL179","v":{"$error":"#NUM!"}}]
[null,null,null,null,null,null,null,null,null,null,null,null,null,null,null,null,null,null,null,null,null,null,null,null,null,null,null,null,null,null,null,null,null,null,null,null,null,null,null,null,null,null,null,null,null,null,null,null,null,null,null,null,false,true,0,131,{"$f":"SMALL(IF($BB$30:$BB$32<>BC180,\"\",ROW($BB$30:$BB$32)),BD180)-29","v":{"$error":"#NUM!"}},{"$error":"#NUM!"},{"$error":"#NUM!"},0,131,{"$f":"SMALL(IF($BJ$30:$BJ$32<>BH180,\"\",ROW($BJ$30:$BJ$32)),BI180)-29","v":{"$error":"#NUM!"}},{"$error":"#NUM!"},{"$error":"#NUM!"},true,false,{"$error":"#NUM!"}]
[null,null,null,null,null,null,null,null,null,null,null,null,null,null,null,null,null,null,null,null,null,null,null,null,null,null,null,null,null,null,null,null,null,null,null,null,null,null,null,null,null,null,null,null,null,null,null,null,null,null,null,null,false,true,0,132,{"$f":"SMALL(IF($BB$30:$BB$32<>BC181,\"\",ROW($BB$30:$BB$32)),BD181)-29","v":{"$error":"#NUM!"}},{"$error":"#NUM!"},{"$error":"#NUM!"},0,132,{"$f":"SMALL(IF($BJ$30:$BJ$32<>BH181,\"\",ROW($BJ$30:$BJ$32)),BI181)-29","v":{"$error":"#NUM!"}},{"$error":"#NUM!"},{"$error":"#NUM!"},true,false,{"$error":"#NUM!"}]
[null,null,null,null,null,null,null,null,null,null,null,null,null,null,null,null,null,null,null,null,null,null,null,null,null,null,null,null,null,null,null,null,null,null,null,null,null,null,null,null,null,null,null,null,null,null,null,null,null,null,null,null,false,true,0,133,{"$f":"SMALL(IF($BB$30:$BB$32<>BC182,\"\",ROW($BB$30:$BB$32)),BD182)-29","v":{"$error":"#NUM!"}},{"$error":"#NUM!"},{"$error":"#NUM!"},0,133,{"$f":"SMALL(IF($BJ$30:$BJ$32<>BH182,\"\",ROW($BJ$30:$BJ$32)),BI182)-29","v":{"$error":"#NUM!"}},{"$error":"#NUM!"},{"$error":"#NUM!"},true,false,{"$error":"#NUM!"}]
[null,null,null,null,null,null,null,null,null,null,null,null,null,null,null,null,null,null,null,null,null,null,null,null,null,null,null,null,null,null,null,null,null,null,null,null,null,null,null,null,null,null,null,null,null,null,null,null,null,null,null,null,false,true,0,134,{"$f":"SMALL(IF($BB$30:$BB$32<>BC183,\"\",ROW($BB$30:$BB$32)),BD183)-29","v":{"$error":"#NUM!"}},{"$error":"#NUM!"},{"$error":"#NUM!"},0,134,{"$f":"SMALL(IF($BJ$30:$BJ$32<>BH183,\"\",ROW($BJ$30:$BJ$32)),BI183)-29","v":{"$error":"#NUM!"}},{"$error":"#NUM!"},{"$error":"#NUM!"},true,false,{"$error":"#NUM!"}]
[null,null,null,null,null,null,null,null,null,null,null,null,null,null,null,null,null,null,null,null,null,null,null,null,null,null,null,null,null,null,null,null,null,null,null,null,null,null,null,null,null,null,null,null,null,null,null,null,null,null,null,null,false,true,0,135,{"$f":"SMALL(IF($BB$30:$BB$32<>BC184,\"\",ROW($BB$30:$BB$32)),BD184)-29","v":{"$error":"#NUM!"}},{"$error":"#NUM!"},{"$error":"#NUM!"},0,135,{"$f":"SMALL(IF($BJ$30:$BJ$32<>BH184,\"\",ROW($BJ$30:$BJ$32)),BI184)-29","v":{"$error":"#NUM!"}},{"$error":"#NUM!"},{"$error":"#NUM!"},true,false,{"$error":"#NUM!"}]
[null,null,null,null,null,null,null,null,null,null,null,null,null,null,null,null,null,null,null,null,null,null,null,null,null,null,null,null,null,null,null,null,null,null,null,null,null,null,null,null,null,null,null,null,null,null,null,null,null,null,null,null,false,true,0,136,{"$f":"SMALL(IF($BB$30:$BB$32<>BC185,\"\",ROW($BB$30:$BB$32)),BD185)-29","v":{"$error":"#NUM!"}},{"$error":"#NUM!"},{"$error":"#NUM!"},0,136,{"$f":"SMALL(IF($BJ$30:$BJ$32<>BH185,\"\",ROW($BJ$30:$BJ$32)),BI185)-29","v":{"$error":"#NUM!"}},{"$error":"#NUM!"},{"$error":"#NUM!"},true,false,{"$error":"#NUM!"}]
[null,null,null,null,null,null,null,null,null,null,null,null,null,null,null,null,null,null,null,null,null,null,null,null,null,null,null,null,null,null,null,null,null,null,null,null,null,null,null,null,null,null,null,null,null,null,null,null,null,null,null,null,false,true,0,137,{"$f":"SMALL(IF($BB$30:$BB$32<>BC186,\"\",ROW($BB$30:$BB$32)),BD186)-29","v":{"$error":"#NUM!"}},{"$error":"#NUM!"},{"$error":"#NUM!"},0,137,{"$f":"SMALL(IF($BJ$30:$BJ$32<>BH186,\"\",ROW($BJ$30:$BJ$32)),BI186)-29","v":{"$error":"#NUM!"}},{"$error":"#NUM!"},{"$error":"#NUM!"},true,false,{"$error":"#NUM!"}]
[null,null,null,null,null,null,null,null,null,null,null,null,null,null,null,null,null,null,null,null,null,null,null,null,null,null,null,null,null,null,null,null,null,null,null,null,null,null,null,null,null,null,null,null,null,null,null,null,null,null,null,null,false,true,0,138,{"$f":"SMALL(IF($BB$30:$BB$32<>BC187,\"\",ROW($BB$30:$BB$32)),BD187)-29","v":{"$error":"#NUM!"}},{"$error":"#NUM!"},{"$error":"#NUM!"},0,138,{"$f":"SMALL(IF($BJ$30:$BJ$32<>BH187,\"\",ROW($BJ$30:$BJ$32)),BI187)-29","v":{"$error":"#NUM!"}},{"$error":"#NUM!"},{"$error":"#NUM!"},true,false,{"$error":"#NUM!"}]
[null,null,null,null,null,null,null,null,null,null,null,null,null,null,null,null,null,null,null,null,null,null,null,null,null,null,null,null,null,null,null,null,null,null,null,null,null,null,null,null,null,null,null,null,null,null,null,null,null,null,null,null,false,true,0,139,{"$f":"SMALL(IF($BB$30:$BB$32<>BC188,\"\",ROW($BB$30:$BB$32)),BD188)-29","v":{"$error":"#NUM!"}},{"$error":"#NUM!"},{"$error":"#NUM!"},0,139,{"$f":"SMALL(IF($BJ$30:$BJ$32<>BH188,\"\",ROW($BJ$30:$BJ$32)),BI188)-29","v":{"$error":"#NUM!"}},{"$error":"#NUM!"},{"$error":"#NUM!"},true,false,{"$error":"#NUM!"}]
[null,null,null,null,null,null,null,null,null,null,null,null,null,null,null,null,null,null,null,null,null,null,null,null,null,null,null,null,null,null,null,null,null,null,null,null,null,null,null,null,null,null,null,null,null,null,null,null,null,null,null,null,false,true,0,140,{"$f":"SMALL(IF($BB$30:$BB$32<>BC189,\"\",ROW($BB$30:$BB$32)),BD189)-29","v":{"$error":"#NUM!"}},{"$error":"#NUM!"},{"$error":"#NUM!"},0,140,{"$f":"SMALL(IF($BJ$30:$BJ$32<>BH189,\"\",ROW($BJ$30:$BJ$32)),BI189)-29","v":{"$error":"#NUM!"}},{"$error":"#NUM!"},{"$error":"#NUM!"},true,false,{"$error":"#NUM!"}]
[null,null,null,null,null,null,null,null,null,null,null,null,null,null,null,null,null,null,null,null,null,null,null,null,null,null,null,null,null,null,null,null,null,null,null,null,null,null,null,null,null,null,null,null,null,null,null,null,null,null,null,null,false,true,0,141,{"$f":"SMALL(IF($BB$30:$BB$32<>BC190,\"\",ROW($BB$30:$BB$32)),BD190)-29","v":{"$error":"#NUM!"}},{"$error":"#NUM!"},{"$error":"#NUM!"},0,141,{"$f":"SMALL(IF($BJ$30:$BJ$32<>BH190,\"\",ROW($BJ$30:$BJ$32)),BI190)-29","v":{"$error":"#NUM!"}},{"$error":"#NUM!"},{"$error":"#NUM!"},true,false,{"$error":"#NUM!"}]
[null,null,null,null,null,null,null,null,null,null,null,null,null,null,null,null,null,null,null,null,null,null,null,null,null,null,null,null,null,null,null,null,null,null,null,null,null,null,null,null,null,null,null,null,null,null,null,null,null,null,null,null,false,true,0,142,{"$f":"SMALL(IF($BB$30:$BB$32<>BC191,\"\",ROW($BB$30:$BB$32)),BD191)-29","v":{"$error":"#NUM!"}},{"$error":"#NUM!"},{"$error":"#NUM!"},0,142,{"$f":"SMALL(IF($BJ$30:$BJ$32<>BH191,\"\",ROW($BJ$30:$BJ$32)),BI191)-29","v":{"$error":"#NUM!"}},{"$error":"#NUM!"},{"$error":"#NUM!"},true,false,{"$error":"#NUM!"}]
[null,null,null,null,null,null,null,null,null,null,null,null,null,null,null,null,null,null,null,null,null,null,null,null,null,null,null,null,null,null,null,null,null,null,null,null,null,null,null,null,null,null,null,null,null,null,null,null,null,null,null,null,false,true,0,143,{"$f":"SMALL(IF($BB$30:$BB$32<>BC192,\"\",ROW($BB$30:$BB$32)),BD192)-29","v":{"$error":"#NUM!"}},{"$error":"#NUM!"},{"$error":"#NUM!"},0,143,{"$f":"SMALL(IF($BJ$30:$BJ$32<>BH192,\"\",ROW($BJ$30:$BJ$32)),BI192)-29","v":{"$error":"#NUM!"}},{"$error":"#NUM!"},{"$error":"#NUM!"},true,false,{"$error":"#NUM!"}]
[null,null,null,null,null,null,null,null,null,null,null,null,null,null,null,null,null,null,null,null,null,null,null,null,null,null,null,null,null,null,null,null,null,null,null,null,null,null,null,null,null,null,null,null,null,null,null,null,null,null,null,null,false,true,0,144,{"$f":"SMALL(IF($BB$30:$BB$32<>BC193,\"\",ROW($BB$30:$BB$32)),BD193)-29","v":{"$error":"#NUM!"}},{"$error":"#NUM!"},{"$error":"#NUM!"},0,144,{"$f":"SMALL(IF($BJ$30:$BJ$32<>BH193,\"\",ROW($BJ$30:$BJ$32)),BI193)-29","v":{"$error":"#NUM!"}},{"$error":"#NUM!"},{"$error":"#NUM!"},true,false,{"$error":"#NUM!"}]
[null,null,null,null,null,null,null,null,null,null,null,null,null,null,null,null,null,null,null,null,null,null,null,null,null,null,null,null,null,null,null,null,null,null,null,null,null,null,null,null,null,null,null,null,null,null,null,null,null,null,null,null,false,true,0,145,{"$f":"SMALL(IF($BB$30:$BB$32<>BC194,\"\",ROW($BB$30:$BB$32)),BD194)-29","v":{"$error":"#NUM!"}},{"$error":"#NUM!"},{"$error":"#NUM!"},0,145,{"$f":"SMALL(IF($BJ$30:$BJ$32<>BH194,\"\",ROW($BJ$30:$BJ$32)),BI194)-29","v":{"$error":"#NUM!"}},{"$error":"#NUM!"},{"$error":"#NUM!"},true,false,{"$error":"#NUM!"}]
[null,null,null,null,null,null,null,null,null,null,null,null,null,null,null,null,null,null,null,null,null,null,null,null,null,null,null,null,null,null,null,null,null,null,null,null,null,null,null,null,null,null,null,null,null,null,null,null,null,null,null,null,false,true,0,146,{"$f":"SMALL(IF($BB$30:$BB$32<>BC195,\"\",ROW($BB$30:$BB$32)),BD195)-29","v":{"$error":"#NUM!"}},{"$error":"#NUM!"},{"$error":"#NUM!"},0,146,{"$f":"SMALL(IF($BJ$30:$BJ$32<>BH195,\"\",ROW($BJ$30:$BJ$32)),BI195)-29","v":{"$error":"#NUM!"}},{"$error":"#NUM!"},{"$error":"#NUM!"},true,false,{"$error":"#NUM!"}]
[null,null,null,null,null,null,null,null,null,null,null,null,null,null,null,null,null,null,null,null,null,null,null,null,null,null,null,null,null,null,null,null,null,null,null,null,null,null,null,null,null,null,null,null,null,null,null,null,null,null,null,null,false,true,0,147,{"$f":"SMALL(IF($BB$30:$BB$32<>BC196,\"\",ROW($BB$30:$BB$32)),BD196)-29","v":{"$error":"#NUM!"}},{"$error":"#NUM!"},{"$error":"#NUM!"},0,147,{"$f":"SMALL(IF($BJ$30:$BJ$32<>BH196,\"\",ROW($BJ$30:$BJ$32)),BI196)-29","v":{"$error":"#NUM!"}},{"$error":"#NUM!"},{"$error":"#NUM!"},true,false,{"$error":"#NUM!"}]
[null,null,null,null,null,null,null,null,null,null,null,null,null,null,null,null,null,null,null,null,null,null,null,null,null,null,null,null,null,null,null,null,null,null,null,null,null,null,null,null,null,null,null,null,null,null,null,null,null,null,null,null,false,true,0,148,{"$f":"SMALL(IF($BB$30:$BB$32<>BC197,\"\",ROW($BB$30:$BB$32)),BD197)-29","v":{"$error":"#NUM!"}},{"$error":"#NUM!"},{"$error":"#NUM!"},0,148,{"$f":"SMALL(IF($BJ$30:$BJ$32<>BH197,\"\",ROW($BJ$30:$BJ$32)),BI197)-29","v":{"$error":"#NUM!"}},{"$error":"#NUM!"},{"$error":"#NUM!"},true,false,{"$error":"#NUM!"}]
[null,null,null,null,null,null,null,null,null,null,null,null,null,null,null,null,null,null,null,null,null,null,null,null,null,null,null,null,null,null,null,null,null,null,null,null,null,null,null,null,null,null,null,null,null,null,null,null,null,null,null,null,false,true,0,149,{"$f":"SMALL(IF($BB$30:$BB$32<>BC198,\"\",ROW($BB$30:$BB$32)),BD198)-29","v":{"$error":"#NUM!"}},{"$error":"#NUM!"},{"$error":"#NUM!"},0,149,{"$f":"SMALL(IF($BJ$30:$BJ$32<>BH198,\"\",ROW($BJ$30:$BJ$32)),BI198)-29","v":{"$error":"#NUM!"}},{"$error":"#NUM!"},{"$error":"#NUM!"},true,false,{"$error":"#NUM!"}]
[null,null,null,null,null,null,null,null,null,null,null,null,null,null,null,null,null,null,null,null,null,null,null,null,null,null,null,null,null,null,null,null,null,null,null,null,null,null,null,null,null,null,null,null,null,null,null,null,null,null,null,null,false,true,0,150,{"$f":"SMALL(IF($BB$30:$BB$32<>BC199,\"\",ROW($BB$30:$BB$32)),BD199)-29","v":{"$error":"#NUM!"}},{"$error":"#NUM!"},{"$error":"#NUM!"},0,150,{"$f":"SMALL(IF($BJ$30:$BJ$32<>BH199,\"\",ROW($BJ$30:$BJ$32)),BI199)-29","v":{"$error":"#NUM!"}},{"$error":"#NUM!"},{"$error":"#NUM!"},true,false,{"$error":"#NUM!"}]
[null,null,null,null,null,null,null,null,null,null,null,null,null,null,null,null,null,null,null,null,null,null,null,null,null,null,null,null,null,null,null,null,null,null,null,null,null,null,null,null,null,null,null,null,null,null,null,null,null,null,null,null,false,true,0,151,{"$f":"SMALL(IF($BB$30:$BB$32<>BC200,\"\",ROW($BB$30:$BB$32)),BD200)-29","v":{"$error":"#NUM!"}},{"$error":"#NUM!"},{"$error":"#NUM!"},0,151,{"$f":"SMALL(IF($BJ$30:$BJ$32<>BH200,\"\",ROW($BJ$30:$BJ$32)),BI200)-29","v":{"$error":"#NUM!"}},{"$error":"#NUM!"},{"$error":"#NUM!"},true,false,{"$error":"#NUM!"}]
[null,null,null,null,null,null,null,null,null,null,null,null,null,null,null,null,null,null,null,null,null,null,null,null,null,null,null,null,null,null,null,null,null,null,null,null,null,null,null,null,null,null,null,null,null,null,null,null,null,null,null,null,false,true,0,152,{"$f":"SMALL(IF($BB$30:$BB$32<>BC201,\"\",ROW($BB$30:$BB$32)),BD201)-29","v":{"$error":"#NUM!"}},{"$error":"#NUM!"},{"$error":"#NUM!"},0,152,{"$f":"SMALL(IF($BJ$30:$BJ$32<>BH201,\"\",ROW($BJ$30:$BJ$32)),BI201)-29","v":{"$error":"#NUM!"}},{"$error":"#NUM!"},{"$error":"#NUM!"},true,false,{"$error":"#NUM!"}]
[null,null,null,null,null,null,null,null,null,null,null,null,null,null,null,null,null,null,null,null,null,null,null,null,null,null,null,null,null,null,null,null,null,null,null,null,null,null,null,null,null,null,null,null,null,null,null,null,null,null,null,null,false,true,0,153,{"$f":"SMALL(IF($BB$30:$BB$32<>BC202,\"\",ROW($BB$30:$BB$32)),BD202)-29","v":{"$error":"#NUM!"}},{"$error":"#NUM!"},{"$error":"#NUM!"},0,153,{"$f":"SMALL(IF($BJ$30:$BJ$32<>BH202,\"\",ROW($BJ$30:$BJ$32)),BI202)-29","v":{"$error":"#NUM!"}},{"$error":"#NUM!"},{"$error":"#NUM!"},true,false,{"$error":"#NUM!"}]
[null,null,null,null,null,null,null,null,null,null,null,null,null,null,null,null,null,null,null,null,null,null,null,null,null,null,null,null,null,null,null,null,null,null,null,null,null,null,null,null,null,null,null,null,null,null,null,null,null,null,null,null,false,true,0,154,{"$f":"SMALL(IF($BB$30:$BB$32<>BC203,\"\",ROW($BB$30:$BB$32)),BD203)-29","v":{"$error":"#NUM!"}},{"$error":"#NUM!"},{"$error":"#NUM!"},0,154,{"$f":"SMALL(IF($BJ$30:$BJ$32<>BH203,\"\",ROW($BJ$30:$BJ$32)),BI203)-29","v":{"$error":"#NUM!"}},{"$error":"#NUM!"},{"$error":"#NUM!"},true,false,{"$error":"#NUM!"}]
[null,null,null,null,null,null,null,null,null,null,null,null,null,null,null,null,null,null,null,null,null,null,null,null,null,null,null,null,null,null,null,null,null,null,null,null,null,null,null,null,null,null,null,null,null,null,null,null,null,null,null,null,false,true,0,155,{"$f":"SMALL(IF($BB$30:$BB$32<>BC204,\"\",ROW($BB$30:$BB$32)),BD204)-29","v":{"$error":"#NUM!"}},{"$error":"#NUM!"},{"$error":"#NUM!"},0,155,{"$f":"SMALL(IF($BJ$30:$BJ$32<>BH204,\"\",ROW($BJ$30:$BJ$32)),BI204)-29","v":{"$error":"#NUM!"}},{"$error":"#NUM!"},{"$error":"#NUM!"},true,false,{"$error":"#NUM!"}]
[null,null,null,null,null,null,null,null,null,null,null,null,null,null,null,null,null,null,null,null,null,null,null,null,null,null,null,null,null,null,null,null,null,null,null,null,null,null,null,null,null,null,null,null,null,null,null,null,null,null,null,null,false,true,0,156,{"$f":"SMALL(IF($BB$30:$BB$32<>BC205,\"\",ROW($BB$30:$BB$32)),BD205)-29","v":{"$error":"#NUM!"}},{"$error":"#NUM!"},{"$error":"#NUM!"},0,156,{"$f":"SMALL(IF($BJ$30:$BJ$32<>BH205,\"\",ROW($BJ$30:$BJ$32)),BI205)-29","v":{"$error":"#NUM!"}},{"$error":"#NUM!"},{"$error":"#NUM!"},true,false,{"$error":"#NUM!"}]
[null,null,null,null,null,null,null,null,null,null,null,null,null,null,null,null,null,null,null,null,null,null,null,null,null,null,null,null,null,null,null,null,null,null,null,null,null,null,null,null,null,null,null,null,null,null,null,null,null,null,null,null,false,true,0,157,{"$f":"SMALL(IF($BB$30:$BB$32<>BC206,\"\",ROW($BB$30:$BB$32)),BD206)-29","v":{"$error":"#NUM!"}},{"$error":"#NUM!"},{"$error":"#NUM!"},0,157,{"$f":"SMALL(IF($BJ$30:$BJ$32<>BH206,\"\",ROW($BJ$30:$BJ$32)),BI206)-29","v":{"$error":"#NUM!"}},{"$error":"#NUM!"},{"$error":"#NUM!"},true,false,{"$error":"#NUM!"}]
[null,null,null,null,null,null,null,null,null,null,null,null,null,null,null,null,null,null,null,null,null,null,null,null,null,null,null,null,null,null,null,null,null,null,null,null,null,null,null,null,null,null,null,null,null,null,null,null,null,null,null,null,false,true,0,158,{"$f":"SMALL(IF($BB$30:$BB$32<>BC207,\"\",ROW($BB$30:$BB$32)),BD207)-29","v":{"$error":"#NUM!"}},{"$error":"#NUM!"},{"$error":"#NUM!"},0,158,{"$f":"SMALL(IF($BJ$30:$BJ$32<>BH207,\"\",ROW($BJ$30:$BJ$32)),BI207)-29","v":{"$error":"#NUM!"}},{"$error":"#NUM!"},{"$error":"#NUM!"},true,false,{"$error":"#NUM!"}]
[null,null,null,null,null,null,null,null,null,null,null,null,null,null,null,null,null,null,null,null,null,null,null,null,null,null,null,null,null,null,null,null,null,null,null,null,null,null,null,null,null,null,null,null,null,null,null,null,null,null,null,null,false,true,0,159,{"$f":"SMALL(IF($BB$30:$BB$32<>BC208,\"\",ROW($BB$30:$BB$32)),BD208)-29","v":{"$error":"#NUM!"}},{"$error":"#NUM!"},{"$error":"#NUM!"},0,159,{"$f":"SMALL(IF($BJ$30:$BJ$32<>BH208,\"\",ROW($BJ$30:$BJ$32)),BI208)-29","v":{"$error":"#NUM!"}},{"$error":"#NUM!"},{"$error":"#NUM!"},true,false,{"$error":"#NUM!"}]
[null,null,null,null,null,null,null,null,null,null,null,null,null,null,null,null,null,null,null,null,null,null,null,null,null,null,null,null,null,null,null,null,null,null,null,null,null,null,null,null,null,null,null,null,null,null,null,null,null,null,null,null,false,true,0,160,{"$f":"SMALL(IF($BB$30:$BB$32<>BC209,\"\",ROW($BB$30:$BB$32)),BD209)-29","v":{"$error":"#NUM!"}},{"$error":"#NUM!"},{"$error":"#NUM!"},0,160,{"$f":"SMALL(IF($BJ$30:$BJ$32<>BH209,\"\",ROW($BJ$30:$BJ$32)),BI209)-29","v":{"$error":"#NUM!"}},{"$error":"#NUM!"},{"$error":"#NUM!"},true,false,{"$error":"#NUM!"}]
[null,null,null,null,null,null,null,null,null,null,null,null,null,null,null,null,null,null,null,null,null,null,null,null,null,null,null,null,null,null,null,null,null,null,null,null,null,null,null,null,null,null,null,null,null,null,null,null,null,null,null,null,false,true,0,161,{"$f":"SMALL(IF($BB$30:$BB$32<>BC210,\"\",ROW($BB$30:$BB$32)),BD210)-29","v":{"$error":"#NUM!"}},{"$error":"#NUM!"},{"$error":"#NUM!"},0,161,{"$f":"SMALL(IF($BJ$30:$BJ$32<>BH210,\"\",ROW($BJ$30:$BJ$32)),BI210)-29","v":{"$error":"#NUM!"}},{"$error":"#NUM!"},{"$error":"#NUM!"},true,false,{"$error":"#NUM!"}]
[null,null,null,null,null,null,null,null,null,null,null,null,null,null,null,null,null,null,null,null,null,null,null,null,null,null,null,null,null,null,null,null,null,null,null,null,null,null,null,null,null,null,null,null,null,null,null,null,null,null,null,null,false,true,0,162,{"$f":"SMALL(IF($BB$30:$BB$32<>BC211,\"\",ROW($BB$30:$BB$32)),BD211)-29","v":{"$error":"#NUM!"}},{"$error":"#NUM!"},{"$error":"#NUM!"},0,162,{"$f":"SMALL(IF($BJ$30:$BJ$32<>BH211,\"\",ROW($BJ$30:$BJ$32)),BI211)-29","v":{"$error":"#NUM!"}},{"$error":"#NUM!"},{"$error":"#NUM!"},true,false,{"$error":"#NUM!"}]
[null,null,null,null,null,null,null,null,null,null,null,null,null,null,null,null,null,null,null,null,null,null,null,null,null,null,null,null,null,null,null,null,null,null,null,null,null,null,null,null,null,null,null,null,null,null,null,null,null,null,null,null,false,true,0,163,{"$f":"SMALL(IF($BB$30:$BB$32<>BC212,\"\",ROW($BB$30:$BB$32)),BD212)-29","v":{"$error":"#NUM!"}},{"$error":"#NUM!"},{"$error":"#NUM!"},0,163,{"$f":"SMALL(IF($BJ$30:$BJ$32<>BH212,\"\",ROW($BJ$30:$BJ$32)),BI212)-29","v":{"$error":"#NUM!"}},{"$error":"#NUM!"},{"$error":"#NUM!"},true,false,{"$error":"#NUM!"}]
[null,null,null,null,null,null,null,null,null,null,null,null,null,null,null,null,null,null,null,null,null,null,null,null,null,null,null,null,null,null,null,null,null,null,null,null,null,null,null,null,null,null,null,null,null,null,null,null,null,null,null,null,false,true,0,164,{"$f":"SMALL(IF($BB$30:$BB$32<>BC213,\"\",ROW($BB$30:$BB$32)),BD213)-29","v":{"$error":"#NUM!"}},{"$error":"#NUM!"},{"$error":"#NUM!"},0,164,{"$f":"SMALL(IF($BJ$30:$BJ$32<>BH213,\"\",ROW($BJ$30:$BJ$32)),BI213)-29","v":{"$error":"#NUM!"}},{"$error":"#NUM!"},{"$error":"#NUM!"},true,false,{"$error":"#NUM!"}]
[null,null,null,null,null,null,null,null,null,null,null,null,null,null,null,null,null,null,null,null,null,null,null,null,null,null,null,null,null,null,null,null,null,null,null,null,null,null,null,null,null,null,null,null,null,null,null,null,null,null,null,null,false,true,0,165,{"$f":"SMALL(IF($BB$30:$BB$32<>BC214,\"\",ROW($BB$30:$BB$32)),BD214)-29","v":{"$error":"#NUM!"}},{"$error":"#NUM!"},{"$error":"#NUM!"},0,165,{"$f":"SMALL(IF($BJ$30:$BJ$32<>BH214,\"\",ROW($BJ$30:$BJ$32)),BI214)-29","v":{"$error":"#NUM!"}},{"$error":"#NUM!"},{"$error":"#NUM!"},true,false,{"$error":"#NUM!"}]
[null,null,null,null,null,null,null,null,null,null,null,null,null,null,null,null,null,null,null,null,null,null,null,null,null,null,null,null,null,null,null,null,null,null,null,null,null,null,null,null,null,null,null,null,null,null,null,null,null,null,null,null,false,true,0,166,{"$f":"SMALL(IF($BB$30:$BB$32<>BC215,\"\",ROW($BB$30:$BB$32)),BD215)-29","v":{"$error":"#NUM!"}},{"$error":"#NUM!"},{"$error":"#NUM!"},0,166,{"$f":"SMALL(IF($BJ$30:$BJ$32<>BH215,\"\",ROW($BJ$30:$BJ$32)),BI215)-29","v":{"$error":"#NUM!"}},{"$error":"#NUM!"},{"$error":"#NUM!"},true,false,{"$error":"#NUM!"}]
[null,null,null,null,null,null,null,null,null,null,null,null,null,null,null,null,null,null,null,null,null,null,null,null,null,null,null,null,null,null,null,null,null,null,null,null,null,null,null,null,null,null,null,null,null,null,null,null,null,null,null,null,false,true,0,167,{"$f":"SMALL(IF($BB$30:$BB$32<>BC216,\"\",ROW($BB$30:$BB$32)),BD216)-29","v":{"$error":"#NUM!"}},{"$error":"#NUM!"},{"$error":"#NUM!"},0,167,{"$f":"SMALL(IF($BJ$30:$BJ$32<>BH216,\"\",ROW($BJ$30:$BJ$32)),BI216)-29","v":{"$error":"#NUM!"}},{"$error":"#NUM!"},{"$error":"#NUM!"},true,false,{"$error":"#NUM!"}]
[null,null,null,null,null,null,null,null,null,null,null,null,null,null,null,null,null,null,null,null,null,null,null,null,null,null,null,null,null,null,null,null,null,null,null,null,null,null,null,null,null,null,null,null,null,null,null,null,null,null,null,null,false,true,0,168,{"$f":"SMALL(IF($BB$30:$BB$32<>BC217,\"\",ROW($BB$30:$BB$32)),BD217)-29","v":{"$error":"#NUM!"}},{"$error":"#NUM!"},{"$error":"#NUM!"},0,168,{"$f":"SMALL(IF($BJ$30:$BJ$32<>BH217,\"\",ROW($BJ$30:$BJ$32)),BI217)-29","v":{"$error":"#NUM!"}},{"$error":"#NUM!"},{"$error":"#NUM!"},true,false,{"$error":"#NUM!"}]
[null,null,null,null,null,null,null,null,null,null,null,null,null,null,null,null,null,null,null,null,null,null,null,null,null,null,null,null,null,null,null,null,null,null,null,null,null,null,null,null,null,null,null,null,null,null,null,null,null,null,null,null,false,true,0,169,{"$f":"SMALL(IF($BB$30:$BB$32<>BC218,\"\",ROW($BB$30:$BB$32)),BD218)-29","v":{"$error":"#NUM!"}},{"$error":"#NUM!"},{"$error":"#NUM!"},0,169,{"$f":"SMALL(IF($BJ$30:$BJ$32<>BH218,\"\",ROW($BJ$30:$BJ$32)),BI218)-29","v":{"$error":"#NUM!"}},{"$error":"#NUM!"},{"$error":"#NUM!"},true,false,{"$error":"#NUM!"}]
[null,null,null,null,null,null,null,null,null,null,null,null,null,null,null,null,null,null,null,null,null,null,null,null,null,null,null,null,null,null,null,null,null,null,null,null,null,null,null,null,null,null,null,null,null,null,null,null,null,null,null,null,false,true,0,170,{"$f":"SMALL(IF($BB$30:$BB$32<>BC219,\"\",ROW($BB$30:$BB$32)),BD219)-29","v":{"$error":"#NUM!"}},{"$error":"#NUM!"},{"$error":"#NUM!"},0,170,{"$f":"SMALL(IF($BJ$30:$BJ$32<>BH219,\"\",ROW($BJ$30:$BJ$32)),BI219)-29","v":{"$error":"#NUM!"}},{"$error":"#NUM!"},{"$error":"#NUM!"},true,false,{"$error":"#NUM!"}]
[null,null,null,null,null,null,null,null,null,null,null,null,null,null,null,null,null,null,null,null,null,null,null,null,null,null,null,null,null,null,null,null,null,null,null,null,null,null,null,null,null,null,null,null,null,null,null,null,null,null,null,null,false,true,0,171,{"$f":"SMALL(IF($BB$30:$BB$32<>BC220,\"\",ROW($BB$30:$BB$32)),BD220)-29","v":{"$error":"#NUM!"}},{"$error":"#NUM!"},{"$error":"#NUM!"},0,171,{"$f":"SMALL(IF($BJ$30:$BJ$32<>BH220,\"\",ROW($BJ$30:$BJ$32)),BI220)-29","v":{"$error":"#NUM!"}},{"$error":"#NUM!"},{"$error":"#NUM!"},true,false,{"$error":"#NUM!"}]
[null,null,null,null,null,null,null,null,null,null,null,null,null,null,null,null,null,null,null,null,null,null,null,null,null,null,null,null,null,null,null,null,null,null,null,null,null,null,null,null,null,null,null,null,null,null,null,null,null,null,null,null,false,true,0,172,{"$f":"SMALL(IF($BB$30:$BB$32<>BC221,\"\",ROW($BB$30:$BB$32)),BD221)-29","v":{"$error":"#NUM!"}},{"$error":"#NUM!"},{"$error":"#NUM!"},0,172,{"$f":"SMALL(IF($BJ$30:$BJ$32<>BH221,\"\",ROW($BJ$30:$BJ$32)),BI221)-29","v":{"$error":"#NUM!"}},{"$error":"#NUM!"},{"$error":"#NUM!"},true,false,{"$error":"#NUM!"}]
[null,null,null,null,null,null,null,null,null,null,null,null,null,null,null,null,null,null,null,null,null,null,null,null,null,null,null,null,null,null,null,null,null,null,null,null,null,null,null,null,null,null,null,null,null,null,null,null,null,null,null,null,false,true,0,173,{"$f":"SMALL(IF($BB$30:$BB$32<>BC222,\"\",ROW($BB$30:$BB$32)),BD222)-29","v":{"$error":"#NUM!"}},{"$error":"#NUM!"},{"$error":"#NUM!"},0,173,{"$f":"SMALL(IF($BJ$30:$BJ$32<>BH222,\"\",ROW($BJ$30:$BJ$32)),BI222)-29","v":{"$error":"#NUM!"}},{"$error":"#NUM!"},{"$error":"#NUM!"},true,false,{"$error":"#NUM!"}]
[null,null,null,null,null,null,null,null,null,null,null,null,null,null,null,null,null,null,null,null,null,null,null,null,null,null,null,null,null,null,null,null,null,null,null,null,null,null,null,null,null,null,null,null,null,null,null,null,null,null,null,null,false,true,0,174,{"$f":"SMALL(IF($BB$30:$BB$32<>BC223,\"\",ROW($BB$30:$BB$32)),BD223)-29","v":{"$error":"#NUM!"}},{"$error":"#NUM!"},{"$error":"#NUM!"},0,174,{"$f":"SMALL(IF($BJ$30:$BJ$32<>BH223,\"\",ROW($BJ$30:$BJ$32)),BI223)-29","v":{"$error":"#NUM!"}},{"$error":"#NUM!"},{"$error":"#NUM!"},true,false,{"$error":"#NUM!"}]
[null,null,null,null,null,null,null,null,null,null,null,null,null,null,null,null,null,null,null,null,null,null,null,null,null,null,null,null,null,null,null,null,null,null,null,null,null,null,null,null,null,null,null,null,null,null,null,null,null,null,null,null,false,true,0,175,{"$f":"SMALL(IF($BB$30:$BB$32<>BC224,\"\",ROW($BB$30:$BB$32)),BD224)-29","v":{"$error":"#NUM!"}},{"$error":"#NUM!"},{"$error":"#NUM!"},0,175,{"$f":"SMALL(IF($BJ$30:$BJ$32<>BH224,\"\",ROW($BJ$30:$BJ$32)),BI224)-29","v":{"$error":"#NUM!"}},{"$error":"#NUM!"},{"$error":"#NUM!"},true,false,{"$error":"#NUM!"}]
[null,null,null,null,null,null,null,null,null,null,null,null,null,null,null,null,null,null,null,null,null,null,null,null,null,null,null,null,null,null,null,null,null,null,null,null,null,null,null,null,null,null,null,null,null,null,null,null,null,null,null,null,false,true,0,176,{"$f":"SMALL(IF($BB$30:$BB$32<>BC225,\"\",ROW($BB$30:$BB$32)),BD225)-29","v":{"$error":"#NUM!"}},{"$error":"#NUM!"},{"$error":"#NUM!"},0,176,{"$f":"SMALL(IF($BJ$30:$BJ$32<>BH225,\"\",ROW($BJ$30:$BJ$32)),BI225)-29","v":{"$error":"#NUM!"}},{"$error":"#NUM!"},{"$error":"#NUM!"},true,false,{"$error":"#NUM!"}]
[null,null,null,null,null,null,null,null,null,null,null,null,null,null,null,null,null,null,null,null,null,null,null,null,null,null,null,null,null,null,null,null,null,null,null,null,null,null,null,null,null,null,null,null,null,null,null,null,null,null,null,null,false,true,0,177,{"$f":"SMALL(IF($BB$30:$BB$32<>BC226,\"\",ROW($BB$30:$BB$32)),BD226)-29","v":{"$error":"#NUM!"}},{"$error":"#NUM!"},{"$error":"#NUM!"},0,177,{"$f":"SMALL(IF($BJ$30:$BJ$32<>BH226,\"\",ROW($BJ$30:$BJ$32)),BI226)-29","v":{"$error":"#NUM!"}},{"$error":"#NUM!"},{"$error":"#NUM!"},true,false,{"$error":"#NUM!"}]
[null,null,null,null,null,null,null,null,null,null,null,null,null,null,null,null,null,null,null,null,null,null,null,null,null,null,null,null,null,null,null,null,null,null,null,null,null,null,null,null,null,null,null,null,null,null,null,null,null,null,null,null,false,true,0,178,{"$f":"SMALL(IF($BB$30:$BB$32<>BC227,\"\",ROW($BB$30:$BB$32)),BD227)-29","v":{"$error":"#NUM!"}},{"$error":"#NUM!"},{"$error":"#NUM!"},0,178,{"$f":"SMALL(IF($BJ$30:$BJ$32<>BH227,\"\",ROW($BJ$30:$BJ$32)),BI227)-29","v":{"$error":"#NUM!"}},{"$error":"#NUM!"},{"$error":"#NUM!"},true,false,{"$error":"#NUM!"}]
[null,null,null,null,null,null,null,null,null,null,null,null,null,null,null,null,null,null,null,null,null,null,null,null,null,null,null,null,null,null,null,null,null,null,null,null,null,null,null,null,null,null,null,null,null,null,null,null,null,null,null,null,false,true,0,179,{"$f":"SMALL(IF($BB$30:$BB$32<>BC228,\"\",ROW($BB$30:$BB$32)),BD228)-29","v":{"$error":"#NUM!"}},{"$error":"#NUM!"},{"$error":"#NUM!"},0,179,{"$f":"SMALL(IF($BJ$30:$BJ$32<>BH228,\"\",ROW($BJ$30:$BJ$32)),BI228)-29","v":{"$error":"#NUM!"}},{"$error":"#NUM!"},{"$error":"#NUM!"},true,false,{"$error":"#NUM!"}]
[null,null,null,null,null,null,null,null,null,null,null,null,null,null,null,null,null,null,null,null,null,null,null,null,null,null,null,null,null,null,null,null,null,null,null,null,null,null,null,null,null,null,null,null,null,null,null,null,null,null,null,null,false,true,0,180,{"$f":"SMALL(IF($BB$30:$BB$32<>BC229,\"\",ROW($BB$30:$BB$32)),BD229)-29","v":{"$error":"#NUM!"}},{"$error":"#NUM!"},{"$error":"#NUM!"},0,180,{"$f":"SMALL(IF($BJ$30:$BJ$32<>BH229,\"\",ROW($BJ$30:$BJ$32)),BI229)-29","v":{"$error":"#NUM!"}},{"$error":"#NUM!"},{"$error":"#NUM!"},true,false,{"$error":"#NUM!"}]
[null,null,null,null,null,null,null,null,null,null,null,null,null,null,null,null,null,null,null,null,null,null,null,null,null,null,null,null,null,null,null,null,null,null,null,null,null,null,null,null,null,null,null,null,null,null,null,null,null,null,null,null,false,true,0,181,{"$f":"SMALL(IF($BB$30:$BB$32<>BC230,\"\",ROW($BB$30:$BB$32)),BD230)-29","v":{"$error":"#NUM!"}},{"$error":"#NUM!"},{"$error":"#NUM!"},0,181,{"$f":"SMALL(IF($BJ$30:$BJ$32<>BH230,\"\",ROW($BJ$30:$BJ$32)),BI230)-29","v":{"$error":"#NUM!"}},{"$error":"#NUM!"},{"$error":"#NUM!"},true,false,{"$error":"#NUM!"}]
[null,null,null,null,null,null,null,null,null,null,null,null,null,null,null,null,null,null,null,null,null,null,null,null,null,null,null,null,null,null,null,null,null,null,null,null,null,null,null,null,null,null,null,null,null,null,null,null,null,null,null,null,false,true,0,182,{"$f":"SMALL(IF($BB$30:$BB$32<>BC231,\"\",ROW($BB$30:$BB$32)),BD231)-29","v":{"$error":"#NUM!"}},{"$error":"#NUM!"},{"$error":"#NUM!"},0,182,{"$f":"SMALL(IF($BJ$30:$BJ$32<>BH231,\"\",ROW($BJ$30:$BJ$32)),BI231)-29","v":{"$error":"#NUM!"}},{"$error":"#NUM!"},{"$error":"#NUM!"},true,false,{"$error":"#NUM!"}]
[null,null,null,null,null,null,null,null,null,null,null,null,null,null,null,null,null,null,null,null,null,null,null,null,null,null,null,null,null,null,null,null,null,null,null,null,null,null,null,null,null,null,null,null,null,null,null,null,null,null,null,null,false,true,0,183,{"$f":"SMALL(IF($BB$30:$BB$32<>BC232,\"\",ROW($BB$30:$BB$32)),BD232)-29","v":{"$error":"#NUM!"}},{"$error":"#NUM!"},{"$error":"#NUM!"},0,183,{"$f":"SMALL(IF($BJ$30:$BJ$32<>BH232,\"\",ROW($BJ$30:$BJ$32)),BI232)-29","v":{"$error":"#NUM!"}},{"$error":"#NUM!"},{"$error":"#NUM!"},true,false,{"$error":"#NUM!"}]
[null,null,null,null,null,null,null,null,null,null,null,null,null,null,null,null,null,null,null,null,null,null,null,null,null,null,null,null,null,null,null,null,null,null,null,null,null,null,null,null,null,null,null,null,null,null,null,null,null,null,null,null,false,true,0,184,{"$f":"SMALL(IF($BB$30:$BB$32<>BC233,\"\",ROW($BB$30:$BB$32)),BD233)-29","v":{"$error":"#NUM!"}},{"$error":"#NUM!"},{"$error":"#NUM!"},0,184,{"$f":"SMALL(IF($BJ$30:$BJ$32<>BH233,\"\",ROW($BJ$30:$BJ$32)),BI233)-29","v":{"$error":"#NUM!"}},{"$error":"#NUM!"},{"$error":"#NUM!"},true,false,{"$error":"#NUM!"}]
[null,null,null,null,null,null,null,null,null,null,null,null,null,null,null,null,null,null,null,null,null,null,null,null,null,null,null,null,null,null,null,null,null,null,null,null,null,null,null,null,null,null,null,null,null,null,null,null,null,null,null,null,false,true,0,185,{"$f":"SMALL(IF($BB$30:$BB$32<>BC234,\"\",ROW($BB$30:$BB$32)),BD234)-29","v":{"$error":"#NUM!"}},{"$error":"#NUM!"},{"$error":"#NUM!"},0,185,{"$f":"SMALL(IF($BJ$30:$BJ$32<>BH234,\"\",ROW($BJ$30:$BJ$32)),BI234)-29","v":{"$error":"#NUM!"}},{"$error":"#NUM!"},{"$error":"#NUM!"},true,false,{"$error":"#NUM!"}]
[null,null,null,null,null,null,null,null,null,null,null,null,null,null,null,null,null,null,null,null,null,null,null,null,null,null,null,null,null,null,null,null,null,null,null,null,null,null,null,null,null,null,null,null,null,null,null,null,null,null,null,null,false,true,0,186,{"$f":"SMALL(IF($BB$30:$BB$32<>BC235,\"\",ROW($BB$30:$BB$32)),BD235)-29","v":{"$error":"#NUM!"}},{"$error":"#NUM!"},{"$error":"#NUM!"},0,186,{"$f":"SMALL(IF($BJ$30:$BJ$32<>BH235,\"\",ROW($BJ$30:$BJ$32)),BI235)-29","v":{"$error":"#NUM!"}},{"$error":"#NUM!"},{"$error":"#NUM!"},true,false,{"$error":"#NUM!"}]
[null,null,null,null,null,null,null,null,null,null,null,null,null,null,null,null,null,null,null,null,null,null,null,null,null,null,null,null,null,null,null,null,null,null,null,null,null,null,null,null,null,null,null,null,null,null,null,null,null,null,null,null,false,true,0,187,{"$f":"SMALL(IF($BB$30:$BB$32<>BC236,\"\",ROW($BB$30:$BB$32)),BD236)-29","v":{"$error":"#NUM!"}},{"$error":"#NUM!"},{"$error":"#NUM!"},0,187,{"$f":"SMALL(IF($BJ$30:$BJ$32<>BH236,\"\",ROW($BJ$30:$BJ$32)),BI236)-29","v":{"$error":"#NUM!"}},{"$error":"#NUM!"},{"$error":"#NUM!"},true,false,{"$error":"#NUM!"}]
[null,null,null,null,null,null,null,null,null,null,null,null,null,null,null,null,null,null,null,null,null,null,null,null,null,null,null,null,null,null,null,null,null,null,null,null,null,null,null,null,null,null,null,null,null,null,null,null,null,null,null,null,false,true,0,188,{"$f":"SMALL(IF($BB$30:$BB$32<>BC237,\"\",ROW($BB$30:$BB$32)),BD237)-29","v":{"$error":"#NUM!"}},{"$error":"#NUM!"},{"$error":"#NUM!"},0,188,{"$f":"SMALL(IF($BJ$30:$BJ$32<>BH237,\"\",ROW($BJ$30:$BJ$32)),BI237)-29","v":{"$error":"#NUM!"}},{"$error":"#NUM!"},{"$error":"#NUM!"},true,false,{"$error":"#NUM!"}]
[null,null,null,null,null,null,null,null,null,null,null,null,null,null,null,null,null,null,null,null,null,null,null,null,null,null,null,null,null,null,null,null,null,null,null,null,null,null,null,null,null,null,null,null,null,null,null,null,null,null,null,null,false,true,0,189,{"$f":"SMALL(IF($BB$30:$BB$32<>BC238,\"\",ROW($BB$30:$BB$32)),BD238)-29","v":{"$error":"#NUM!"}},{"$error":"#NUM!"},{"$error":"#NUM!"},0,189,{"$f":"SMALL(IF($BJ$30:$BJ$32<>BH238,\"\",ROW($BJ$30:$BJ$32)),BI238)-29","v":{"$error":"#NUM!"}},{"$error":"#NUM!"},{"$error":"#NUM!"},true,false,{"$error":"#NUM!"}]
[null,null,null,null,null,null,null,null,null,null,null,null,null,null,null,null,null,null,null,null,null,null,null,null,null,null,null,null,null,null,null,null,null,null,null,null,null,null,null,null,null,null,null,null,null,null,null,null,null,null,null,null,false,true,0,190,{"$f":"SMALL(IF($BB$30:$BB$32<>BC239,\"\",ROW($BB$30:$BB$32)),BD239)-29","v":{"$error":"#NUM!"}},{"$error":"#NUM!"},{"$error":"#NUM!"},0,190,{"$f":"SMALL(IF($BJ$30:$BJ$32<>BH239,\"\",ROW($BJ$30:$BJ$32)),BI239)-29","v":{"$error":"#NUM!"}},{"$error":"#NUM!"},{"$error":"#NUM!"},true,false,{"$error":"#NUM!"}]
[null,null,null,null,null,null,null,null,null,null,null,null,null,null,null,null,null,null,null,null,null,null,null,null,null,null,null,null,null,null,null,null,null,null,null,null,null,null,null,null,null,null,null,null,null,null,null,null,null,null,null,null,false,true,0,191,{"$f":"SMALL(IF($BB$30:$BB$32<>BC240,\"\",ROW($BB$30:$BB$32)),BD240)-29","v":{"$error":"#NUM!"}},{"$error":"#NUM!"},{"$error":"#NUM!"},0,191,{"$f":"SMALL(IF($BJ$30:$BJ$32<>BH240,\"\",ROW($BJ$30:$BJ$32)),BI240)-29","v":{"$error":"#NUM!"}},{"$error":"#NUM!"},{"$error":"#NUM!"},true,false,{"$error":"#NUM!"}]
[null,null,null,null,null,null,null,null,null,null,null,null,null,null,null,null,null,null,null,null,null,null,null,null,null,null,null,null,null,null,null,null,null,null,null,null,null,null,null,null,null,null,null,null,null,null,null,null,null,null,null,null,false,true,0,192,{"$f":"SMALL(IF($BB$30:$BB$32<>BC241,\"\",ROW($BB$30:$BB$32)),BD241)-29","v":{"$error":"#NUM!"}},{"$error":"#NUM!"},{"$error":"#NUM!"},0,192,{"$f":"SMALL(IF($BJ$30:$BJ$32<>BH241,\"\",ROW($BJ$30:$BJ$32)),BI241)-29","v":{"$error":"#NUM!"}},{"$error":"#NUM!"},{"$error":"#NUM!"},true,false,{"$error":"#NUM!"}]
[null,null,null,null,null,null,null,null,null,null,null,null,null,null,null,null,null,null,null,null,null,null,null,null,null,null,null,null,null,null,null,null,null,null,null,null,null,null,null,null,null,null,null,null,null,null,null,null,null,null,null,null,false,true,{"$f":"MIN($BB$29:$BB$32)","v":0},193,{"$f":"SMALL(IF($BB$30:$BB$32<>BC242,\"\",ROW($BB$30:$BB$32)),BD242)-29","v":{"$error":"#NUM!"}},{"$f":"INDEX($BD$30:$BD$32,BE242)","v":{"$error":"#NUM!"}},{"$f":"INDEX($BG$30:$BG$32,BE242)","v":{"$error":"#NUM!"}},{"$f":"MAX($BJ$29:$BJ$32)","v":0},193,{"$f":"SMALL(IF($BJ$30:$BJ$32<>BH242,\"\",ROW($BJ$30:$BJ$32)),BI242)-29","v":{"$error":"#NUM!"}},{"$f":"INDEX($BL$30:$BL$32,BJ242)","v":{"$error":"#NUM!"}},{"$f":"INDEX($BO$30:$BO$32,BJ242)","v":{"$error":"#NUM!"}},true,false,{"$error":"#NUM!"}]
[null,null,null,null,null,null,null,null,null,null,null,null,null,null,null,null,null,null,null,null,null,null,null,null,null,null,null,null,null,null,null,null,null,null,null,null,null,null,null,null,null,null,null,null,null,null,null,null,null,null,null,null,{"$f":"IF(BB243=FALSE,BF243)","v":false},{"$f":"ISERR(BF243)","v":true},0,194,{"$f":"SMALL(IF($BB$30:$BB$32<>BC243,\"\",ROW($BB$30:$BB$32)),BD243)-29","v":{"$error":"#NUM!"}},{"$error":"#NUM!"},{"$error":"#NUM!"},0,194,{"$f":"SMALL(IF($BJ$30:$BJ$32<>BH243,\"\",ROW($BJ$30:$BJ$32)),BI243)-29","v":{"$error":"#NUM!"}},{"$error":"#NUM!"},{"$error":"#NUM!"},{"$f":"ISERR(BK243)","v":true},{"$f":"IF(BM243=FALSE,BK243)","v":false},{"$f":"BL243","v":{"$error":"#NUM!"}}]
[null,null,null,null,null,null,null,null,null,null,null,null,null,null,null,null,null,null,null,null,null,null,null,null,null,null,null,null,null,null,null,null,null,null,null,null,null,null,null,null,null,null,null,null,null,null,null,null,null,null,null,null,false,true,0,195,{"$f":"SMALL(IF($BB$30:$BB$32<>BC244,\"\",ROW($BB$30:$BB$32)),BD244)-29","v":{"$error":"#NUM!"}},{"$error":"#NUM!"},{"$error":"#NUM!"},0,195,{"$f":"SMALL(IF($BJ$30:$BJ$32<>BH244,\"\",ROW($BJ$30:$BJ$32)),BI244)-29","v":{"$error":"#NUM!"}},{"$error":"#NUM!"},{"$error":"#NUM!"},true,false,{"$error":"#NUM!"}]
[null,null,null,null,null,null,null,null,null,null,null,null,null,null,null,null,null,null,null,null,null,null,null,null,null,null,null,null,null,null,null,null,null,null,null,null,null,null,null,null,null,null,null,null,null,null,null,null,null,null,null,null,false,true,0,196,{"$f":"SMALL(IF($BB$30:$BB$32<>BC245,\"\",ROW($BB$30:$BB$32)),BD245)-29","v":{"$error":"#NUM!"}},{"$error":"#NUM!"},{"$error":"#NUM!"},0,196,{"$f":"SMALL(IF($BJ$30:$BJ$32<>BH245,\"\",ROW($BJ$30:$BJ$32)),BI245)-29","v":{"$error":"#NUM!"}},{"$error":"#NUM!"},{"$error":"#NUM!"},true,false,{"$error":"#NUM!"}]
[null,null,null,null,null,null,null,null,null,null,null,null,null,null,null,null,null,null,null,null,null,null,null,null,null,null,null,null,null,null,null,null,null,null,null,null,null,null,null,null,null,null,null,null,null,null,null,null,null,null,null,null,false,true,0,197,{"$f":"SMALL(IF($BB$30:$BB$32<>BC246,\"\",ROW($BB$30:$BB$32)),BD246)-29","v":{"$error":"#NUM!"}},{"$error":"#NUM!"},{"$error":"#NUM!"},0,197,{"$f":"SMALL(IF($BJ$30:$BJ$32<>BH246,\"\",ROW($BJ$30:$BJ$32)),BI246)-29","v":{"$error":"#NUM!"}},{"$error":"#NUM!"},{"$error":"#NUM!"},true,false,{"$error":"#NUM!"}]
[null,null,null,null,null,null,null,null,null,null,null,null,null,null,null,null,null,null,null,null,null,null,null,null,null,null,null,null,null,null,null,null,null,null,null,null,null,null,null,null,null,null,null,null,null,null,null,null,null,null,null,null,false,true,0,198,{"$f":"SMALL(IF($BB$30:$BB$32<>BC247,\"\",ROW($BB$30:$BB$32)),BD247)-29","v":{"$error":"#NUM!"}},{"$error":"#NUM!"},{"$error":"#NUM!"},0,198,{"$f":"SMALL(IF($BJ$30:$BJ$32<>BH247,\"\",ROW($BJ$30:$BJ$32)),BI247)-29","v":{"$error":"#NUM!"}},{"$error":"#NUM!"},{"$error":"#NUM!"},true,false,{"$error":"#NUM!"}]
[null,null,null,null,null,null,null,null,null,null,null,null,null,null,null,null,null,null,null,null,null,null,null,null,null,null,null,null,null,null,null,null,null,null,null,null,null,null,null,null,null,null,null,null,null,null,null,null,null,null,null,null,false,true,0,199,{"$f":"SMALL(IF($BB$30:$BB$32<>BC248,\"\",ROW($BB$30:$BB$32)),BD248)-29","v":{"$error":"#NUM!"}},{"$error":"#NUM!"},{"$error":"#NUM!"},0,199,{"$f":"SMALL(IF($BJ$30:$BJ$32<>BH248,\"\",ROW($BJ$30:$BJ$32)),BI248)-29","v":{"$error":"#NUM!"}},{"$error":"#NUM!"},{"$error":"#NUM!"},true,false,{"$error":"#NUM!"}]
[null,null,null,null,null,null,null,null,null,null,null,null,null,null,null,null,null,null,null,null,null,null,null,null,null,null,null,null,null,null,null,null,null,null,null,null,null,null,null,null,null,null,null,null,null,null,null,null,null,null,null,null,false,true,0,200,{"$f":"SMALL(IF($BB$30:$BB$32<>BC249,\"\",ROW($BB$30:$BB$32)),BD249)-29","v":{"$error":"#NUM!"}},{"$error":"#NUM!"},{"$error":"#NUM!"},0,200,{"$f":"SMALL(IF($BJ$30:$BJ$32<>BH249,\"\",ROW($BJ$30:$BJ$32)),BI249)-29","v":{"$error":"#NUM!"}},{"$error":"#NUM!"},{"$error":"#NUM!"},true,false,{"$error":"#NUM!"}]
[null,null,null,null,null,null,null,null,null,null,null,null,null,null,null,null,null,null,null,null,null,null,null,null,null,null,null,null,null,null,null,null,null,null,null,null,null,null,null,null,null,null,null,null,null,null,null,null,null,null,null,null,false,true,0,201,{"$f":"SMALL(IF($BB$30:$BB$32<>BC250,\"\",ROW($BB$30:$BB$32)),BD250)-29","v":{"$error":"#NUM!"}},{"$error":"#NUM!"},{"$error":"#NUM!"},0,201,{"$f":"SMALL(IF($BJ$30:$BJ$32<>BH250,\"\",ROW($BJ$30:$BJ$32)),BI250)-29","v":{"$error":"#NUM!"}},{"$error":"#NUM!"},{"$error":"#NUM!"},true,false,{"$error":"#NUM!"}]
[null,null,null,null,null,null,null,null,null,null,null,null,null,null,null,null,null,null,null,null,null,null,null,null,null,null,null,null,null,null,null,null,null,null,null,null,null,null,null,null,null,null,null,null,null,null,null,null,null,null,null,null,false,true,0,202,{"$f":"SMALL(IF($BB$30:$BB$32<>BC251,\"\",ROW($BB$30:$BB$32)),BD251)-29","v":{"$error":"#NUM!"}},{"$error":"#NUM!"},{"$error":"#NUM!"},0,202,{"$f":"SMALL(IF($BJ$30:$BJ$32<>BH251,\"\",ROW($BJ$30:$BJ$32)),BI251)-29","v":{"$error":"#NUM!"}},{"$error":"#NUM!"},{"$error":"#NUM!"},true,false,{"$error":"#NUM!"}]
[null,null,null,null,null,null,null,null,null,null,null,null,null,null,null,null,null,null,null,null,null,null,null,null,null,null,null,null,null,null,null,null,null,null,null,null,null,null,null,null,null,null,null,null,null,null,null,null,null,null,null,null,false,true,0,203,{"$f":"SMALL(IF($BB$30:$BB$32<>BC252,\"\",ROW($BB$30:$BB$32)),BD252)-29","v":{"$error":"#NUM!"}},{"$error":"#NUM!"},{"$error":"#NUM!"},0,203,{"$f":"SMALL(IF($BJ$30:$BJ$32<>BH252,\"\",ROW($BJ$30:$BJ$32)),BI252)-29","v":{"$error":"#NUM!"}},{"$error":"#NUM!"},{"$error":"#NUM!"},true,false,{"$error":"#NUM!"}]
[null,null,null,null,null,null,null,null,null,null,null,null,null,null,null,null,null,null,null,null,null,null,null,null,null,null,null,null,null,null,null,null,null,null,null,null,null,null,null,null,null,null,null,null,null,null,null,null,null,null,null,null,false,true,0,204,{"$f":"SMALL(IF($BB$30:$BB$32<>BC253,\"\",ROW($BB$30:$BB$32)),BD253)-29","v":{"$error":"#NUM!"}},{"$error":"#NUM!"},{"$error":"#NUM!"},0,204,{"$f":"SMALL(IF($BJ$30:$BJ$32<>BH253,\"\",ROW($BJ$30:$BJ$32)),BI253)-29","v":{"$error":"#NUM!"}},{"$error":"#NUM!"},{"$error":"#NUM!"},true,false,{"$error":"#NUM!"}]
[null,null,null,null,null,null,null,null,null,null,null,null,null,null,null,null,null,null,null,null,null,null,null,null,null,null,null,null,null,null,null,null,null,null,null,null,null,null,null,null,null,null,null,null,null,null,null,null,null,null,null,null,false,true,0,205,{"$f":"SMALL(IF($BB$30:$BB$32<>BC254,\"\",ROW($BB$30:$BB$32)),BD254)-29","v":{"$error":"#NUM!"}},{"$error":"#NUM!"},{"$error":"#NUM!"},0,205,{"$f":"SMALL(IF($BJ$30:$BJ$32<>BH254,\"\",ROW($BJ$30:$BJ$32)),BI254)-29","v":{"$error":"#NUM!"}},{"$error":"#NUM!"},{"$error":"#NUM!"},true,false,{"$error":"#NUM!"}]
[null,null,null,null,null,null,null,null,null,null,null,null,null,null,null,null,null,null,null,null,null,null,null,null,null,null,null,null,null,null,null,null,null,null,null,null,null,null,null,null,null,null,null,null,null,null,null,null,null,null,null,null,false,true,0,206,{"$f":"SMALL(IF($BB$30:$BB$32<>BC255,\"\",ROW($BB$30:$BB$32)),BD255)-29","v":{"$error":"#NUM!"}},{"$error":"#NUM!"},{"$error":"#NUM!"},0,206,{"$f":"SMALL(IF($BJ$30:$BJ$32<>BH255,\"\",ROW($BJ$30:$BJ$32)),BI255)-29","v":{"$error":"#NUM!"}},{"$error":"#NUM!"},{"$error":"#NUM!"},true,false,{"$error":"#NUM!"}]
[null,null,null,null,null,null,null,null,null,null,null,null,null,null,null,null,null,null,null,null,null,null,null,null,null,null,null,null,null,null,null,null,null,null,null,null,null,null,null,null,null,null,null,null,null,null,null,null,null,null,null,null,false,true,0,207,{"$f":"SMALL(IF($BB$30:$BB$32<>BC256,\"\",ROW($BB$30:$BB$32)),BD256)-29","v":{"$error":"#NUM!"}},{"$error":"#NUM!"},{"$error":"#NUM!"},0,207,{"$f":"SMALL(IF($BJ$30:$BJ$32<>BH256,\"\",ROW($BJ$30:$BJ$32)),BI256)-29","v":{"$error":"#NUM!"}},{"$error":"#NUM!"},{"$error":"#NUM!"},true,false,{"$error":"#NUM!"}]
[null,null,null,null,null,null,null,null,null,null,null,null,null,null,null,null,null,null,null,null,null,null,null,null,null,null,null,null,null,null,null,null,null,null,null,null,null,null,null,null,null,null,null,null,null,null,null,null,null,null,null,null,false,true,0,208,{"$f":"SMALL(IF($BB$30:$BB$32<>BC257,\"\",ROW($BB$30:$BB$32)),BD257)-29","v":{"$error":"#NUM!"}},{"$error":"#NUM!"},{"$error":"#NUM!"},0,208,{"$f":"SMALL(IF($BJ$30:$BJ$32<>BH257,\"\",ROW($BJ$30:$BJ$32)),BI257)-29","v":{"$error":"#NUM!"}},{"$error":"#NUM!"},{"$error":"#NUM!"},true,false,{"$error":"#NUM!"}]
[null,null,null,null,null,null,null,null,null,null,null,null,null,null,null,null,null,null,null,null,null,null,null,null,null,null,null,null,null,null,null,null,null,null,null,null,null,null,null,null,null,null,null,null,null,null,null,null,null,null,null,null,false,true,0,209,{"$f":"SMALL(IF($BB$30:$BB$32<>BC258,\"\",ROW($BB$30:$BB$32)),BD258)-29","v":{"$error":"#NUM!"}},{"$error":"#NUM!"},{"$error":"#NUM!"},0,209,{"$f":"SMALL(IF($BJ$30:$BJ$32<>BH258,\"\",ROW($BJ$30:$BJ$32)),BI258)-29","v":{"$error":"#NUM!"}},{"$error":"#NUM!"},{"$error":"#NUM!"},true,false,{"$error":"#NUM!"}]
[null,null,null,null,null,null,null,null,null,null,null,null,null,null,null,null,null,null,null,null,null,null,null,null,null,null,null,null,null,null,null,null,null,null,null,null,null,null,null,null,null,null,null,null,null,null,null,null,null,null,null,null,false,true,0,210,{"$f":"SMALL(IF($BB$30:$BB$32<>BC259,\"\",ROW($BB$30:$BB$32)),BD259)-29","v":{"$error":"#NUM!"}},{"$error":"#NUM!"},{"$error":"#NUM!"},0,210,{"$f":"SMALL(IF($BJ$30:$BJ$32<>BH259,\"\",ROW($BJ$30:$BJ$32)),BI259)-29","v":{"$error":"#NUM!"}},{"$error":"#NUM!"},{"$error":"#NUM!"},true,false,{"$error":"#NUM!"}]
[null,null,null,null,null,null,null,null,null,null,null,null,null,null,null,null,null,null,null,null,null,null,null,null,null,null,null,null,null,null,null,null,null,null,null,null,null,null,null,null,null,null,null,null,null,null,null,null,null,null,null,null,false,true,0,211,{"$f":"SMALL(IF($BB$30:$BB$32<>BC260,\"\",ROW($BB$30:$BB$32)),BD260)-29","v":{"$error":"#NUM!"}},{"$error":"#NUM!"},{"$error":"#NUM!"},0,211,{"$f":"SMALL(IF($BJ$30:$BJ$32<>BH260,\"\",ROW($BJ$30:$BJ$32)),BI260)-29","v":{"$error":"#NUM!"}},{"$error":"#NUM!"},{"$error":"#NUM!"},true,false,{"$error":"#NUM!"}]
[null,null,null,null,null,null,null,null,null,null,null,null,null,null,null,null,null,null,null,null,null,null,null,null,null,null,null,null,null,null,null,null,null,null,null,null,null,null,null,null,null,null,null,null,null,null,null,null,null,null,null,null,false,true,0,212,{"$f":"SMALL(IF($BB$30:$BB$32<>BC261,\"\",ROW($BB$30:$BB$32)),BD261)-29","v":{"$error":"#NUM!"}},{"$error":"#NUM!"},{"$error":"#NUM!"},0,212,{"$f":"SMALL(IF($BJ$30:$BJ$32<>BH261,\"\",ROW($BJ$30:$BJ$32)),BI261)-29","v":{"$error":"#NUM!"}},{"$error":"#NUM!"},{"$error":"#NUM!"},true,false,{"$error":"#NUM!"}]
[null,null,null,null,null,null,null,null,null,null,null,null,null,null,null,null,null,null,null,null,null,null,null,null,null,null,null,null,null,null,null,null,null,null,null,null,null,null,null,null,null,null,null,null,null,null,null,null,null,null,null,null,false,true,0,213,{"$f":"SMALL(IF($BB$30:$BB$32<>BC262,\"\",ROW($BB$30:$BB$32)),BD262)-29","v":{"$error":"#NUM!"}},{"$error":"#NUM!"},{"$error":"#NUM!"},0,213,{"$f":"SMALL(IF($BJ$30:$BJ$32<>BH262,\"\",ROW($BJ$30:$BJ$32)),BI262)-29","v":{"$error":"#NUM!"}},{"$error":"#NUM!"},{"$error":"#NUM!"},true,false,{"$error":"#NUM!"}]
[null,null,null,null,null,null,null,null,null,null,null,null,null,null,null,null,null,null,null,null,null,null,null,null,null,null,null,null,null,null,null,null,null,null,null,null,null,null,null,null,null,null,null,null,null,null,null,null,null,null,null,null,false,true,0,214,{"$f":"SMALL(IF($BB$30:$BB$32<>BC263,\"\",ROW($BB$30:$BB$32)),BD263)-29","v":{"$error":"#NUM!"}},{"$error":"#NUM!"},{"$error":"#NUM!"},0,214,{"$f":"SMALL(IF($BJ$30:$BJ$32<>BH263,\"\",ROW($BJ$30:$BJ$32)),BI263)-29","v":{"$error":"#NUM!"}},{"$error":"#NUM!"},{"$error":"#NUM!"},true,false,{"$error":"#NUM!"}]
[null,null,null,null,null,null,null,null,null,null,null,null,null,null,null,null,null,null,null,null,null,null,null,null,null,null,null,null,null,null,null,null,null,null,null,null,null,null,null,null,null,null,null,null,null,null,null,null,null,null,null,null,false,true,0,215,{"$f":"SMALL(IF($BB$30:$BB$32<>BC264,\"\",ROW($BB$30:$BB$32)),BD264)-29","v":{"$error":"#NUM!"}},{"$error":"#NUM!"},{"$error":"#NUM!"},0,215,{"$f":"SMALL(IF($BJ$30:$BJ$32<>BH264,\"\",ROW($BJ$30:$BJ$32)),BI264)-29","v":{"$error":"#NUM!"}},{"$error":"#NUM!"},{"$error":"#NUM!"},true,false,{"$error":"#NUM!"}]
[null,null,null,null,null,null,null,null,null,null,null,null,null,null,null,null,null,null,null,null,null,null,null,null,null,null,null,null,null,null,null,null,null,null,null,null,null,null,null,null,null,null,null,null,null,null,null,null,null,null,null,null,false,true,0,216,{"$f":"SMALL(IF($BB$30:$BB$32<>BC265,\"\",ROW($BB$30:$BB$32)),BD265)-29","v":{"$error":"#NUM!"}},{"$error":"#NUM!"},{"$error":"#NUM!"},0,216,{"$f":"SMALL(IF($BJ$30:$BJ$32<>BH265,\"\",ROW($BJ$30:$BJ$32)),BI265)-29","v":{"$error":"#NUM!"}},{"$error":"#NUM!"},{"$error":"#NUM!"},true,false,{"$error":"#NUM!"}]
[null,null,null,null,null,null,null,null,null,null,null,null,null,null,null,null,null,null,null,null,null,null,null,null,null,null,null,null,null,null,null,null,null,null,null,null,null,null,null,null,null,null,null,null,null,null,null,null,null,null,null,null,false,true,0,217,{"$f":"SMALL(IF($BB$30:$BB$32<>BC266,\"\",ROW($BB$30:$BB$32)),BD266)-29","v":{"$error":"#NUM!"}},{"$error":"#NUM!"},{"$error":"#NUM!"},0,217,{"$f":"SMALL(IF($BJ$30:$BJ$32<>BH266,\"\",ROW($BJ$30:$BJ$32)),BI266)-29","v":{"$error":"#NUM!"}},{"$error":"#NUM!"},{"$error":"#NUM!"},true,false,{"$error":"#NUM!"}]
[null,null,null,null,null,null,null,null,null,null,null,null,null,null,null,null,null,null,null,null,null,null,null,null,null,null,null,null,null,null,null,null,null,null,null,null,null,null,null,null,null,null,null,null,null,null,null,null,null,null,null,null,false,true,0,218,{"$f":"SMALL(IF($BB$30:$BB$32<>BC267,\"\",ROW($BB$30:$BB$32)),BD267)-29","v":{"$error":"#NUM!"}},{"$error":"#NUM!"},{"$error":"#NUM!"},0,218,{"$f":"SMALL(IF($BJ$30:$BJ$32<>BH267,\"\",ROW($BJ$30:$BJ$32)),BI267)-29","v":{"$error":"#NUM!"}},{"$error":"#NUM!"},{"$error":"#NUM!"},true,false,{"$error":"#NUM!"}]
[null,null,null,null,null,null,null,null,null,null,null,null,null,null,null,null,null,null,null,null,null,null,null,null,null,null,null,null,null,null,null,null,null,null,null,null,null,null,null,null,null,null,null,null,null,null,null,null,null,null,null,null,false,true,0,219,{"$f":"SMALL(IF($BB$30:$BB$32<>BC268,\"\",ROW($BB$30:$BB$32)),BD268)-29","v":{"$error":"#NUM!"}},{"$error":"#NUM!"},{"$error":"#NUM!"},0,219,{"$f":"SMALL(IF($BJ$30:$BJ$32<>BH268,\"\",ROW($BJ$30:$BJ$32)),BI268)-29","v":{"$error":"#NUM!"}},{"$error":"#NUM!"},{"$error":"#NUM!"},true,false,{"$error":"#NUM!"}]
[null,null,null,null,null,null,null,null,null,null,null,null,null,null,null,null,null,null,null,null,null,null,null,null,null,null,null,null,null,null,null,null,null,null,null,null,null,null,null,null,null,null,null,null,null,null,null,null,null,null,null,null,false,true,0,220,{"$f":"SMALL(IF($BB$30:$BB$32<>BC269,\"\",ROW($BB$30:$BB$32)),BD269)-29","v":{"$error":"#NUM!"}},{"$error":"#NUM!"},{"$error":"#NUM!"},0,220,{"$f":"SMALL(IF($BJ$30:$BJ$32<>BH269,\"\",ROW($BJ$30:$BJ$32)),BI269)-29","v":{"$error":"#NUM!"}},{"$error":"#NUM!"},{"$error":"#NUM!"},true,false,{"$error":"#NUM!"}]
[null,null,null,null,null,null,null,null,null,null,null,null,null,null,null,null,null,null,null,null,null,null,null,null,null,null,null,null,null,null,null,null,null,null,null,null,null,null,null,null,null,null,null,null,null,null,null,null,null,null,null,null,false,true,0,221,{"$f":"SMALL(IF($BB$30:$BB$32<>BC270,\"\",ROW($BB$30:$BB$32)),BD270)-29","v":{"$error":"#NUM!"}},{"$error":"#NUM!"},{"$error":"#NUM!"},0,221,{"$f":"SMALL(IF($BJ$30:$BJ$32<>BH270,\"\",ROW($BJ$30:$BJ$32)),BI270)-29","v":{"$error":"#NUM!"}},{"$error":"#NUM!"},{"$error":"#NUM!"},true,false,{"$error":"#NUM!"}]
[null,null,null,null,null,null,null,null,null,null,null,null,null,null,null,null,null,null,null,null,null,null,null,null,null,null,null,null,null,null,null,null,null,null,null,null,null,null,null,null,null,null,null,null,null,null,null,null,null,null,null,null,false,true,0,222,{"$f":"SMALL(IF($BB$30:$BB$32<>BC271,\"\",ROW($BB$30:$BB$32)),BD271)-29","v":{"$error":"#NUM!"}},{"$error":"#NUM!"},{"$error":"#NUM!"},0,222,{"$f":"SMALL(IF($BJ$30:$BJ$32<>BH271,\"\",ROW($BJ$30:$BJ$32)),BI271)-29","v":{"$error":"#NUM!"}},{"$error":"#NUM!"},{"$error":"#NUM!"},true,false,{"$error":"#NUM!"}]
[null,null,null,null,null,null,null,null,null,null,null,null,null,null,null,null,null,null,null,null,null,null,null,null,null,null,null,null,null,null,null,null,null,null,null,null,null,null,null,null,null,null,null,null,null,null,null,null,null,null,null,null,false,true,0,223,{"$f":"SMALL(IF($BB$30:$BB$32<>BC272,\"\",ROW($BB$30:$BB$32)),BD272)-29","v":{"$error":"#NUM!"}},{"$error":"#NUM!"},{"$error":"#NUM!"},0,223,{"$f":"SMALL(IF($BJ$30:$BJ$32<>BH272,\"\",ROW($BJ$30:$BJ$32)),BI272)-29","v":{"$error":"#NUM!"}},{"$error":"#NUM!"},{"$error":"#NUM!"},true,false,{"$error":"#NUM!"}]
[null,null,null,null,null,null,null,null,null,null,null,null,null,null,null,null,null,null,null,null,null,null,null,null,null,null,null,null,null,null,null,null,null,null,null,null,null,null,null,null,null,null,null,null,null,null,null,null,null,null,null,null,false,true,0,224,{"$f":"SMALL(IF($BB$30:$BB$32<>BC273,\"\",ROW($BB$30:$BB$32)),BD273)-29","v":{"$error":"#NUM!"}},{"$error":"#NUM!"},{"$error":"#NUM!"},0,224,{"$f":"SMALL(IF($BJ$30:$BJ$32<>BH273,\"\",ROW($BJ$30:$BJ$32)),BI273)-29","v":{"$error":"#NUM!"}},{"$error":"#NUM!"},{"$error":"#NUM!"},true,false,{"$error":"#NUM!"}]
[null,null,null,null,null,null,null,null,null,null,null,null,null,null,null,null,null,null,null,null,null,null,null,null,null,null,null,null,null,null,null,null,null,null,null,null,null,null,null,null,null,null,null,null,null,null,null,null,null,null,null,null,false,true,0,225,{"$f":"SMALL(IF($BB$30:$BB$32<>BC274,\"\",ROW($BB$30:$BB$32)),BD274)-29","v":{"$error":"#NUM!"}},{"$error":"#NUM!"},{"$error":"#NUM!"},0,225,{"$f":"SMALL(IF($BJ$30:$BJ$32<>BH274,\"\",ROW($BJ$30:$BJ$32)),BI274)-29","v":{"$error":"#NUM!"}},{"$error":"#NUM!"},{"$error":"#NUM!"},true,false,{"$error":"#NUM!"}]
[null,null,null,null,null,null,null,null,null,null,null,null,null,null,null,null,null,null,null,null,null,null,null,null,null,null,null,null,null,null,null,null,null,null,null,null,null,null,null,null,null,null,null,null,null,null,null,null,null,null,null,null,false,true,0,226,{"$f":"SMALL(IF($BB$30:$BB$32<>BC275,\"\",ROW($BB$30:$BB$32)),BD275)-29","v":{"$error":"#NUM!"}},{"$error":"#NUM!"},{"$error":"#NUM!"},0,226,{"$f":"SMALL(IF($BJ$30:$BJ$32<>BH275,\"\",ROW($BJ$30:$BJ$32)),BI275)-29","v":{"$error":"#NUM!"}},{"$error":"#NUM!"},{"$error":"#NUM!"},true,false,{"$error":"#NUM!"}]
[null,null,null,null,null,null,null,null,null,null,null,null,null,null,null,null,null,null,null,null,null,null,null,null,null,null,null,null,null,null,null,null,null,null,null,null,null,null,null,null,null,null,null,null,null,null,null,null,null,null,null,null,false,true,0,227,{"$f":"SMALL(IF($BB$30:$BB$32<>BC276,\"\",ROW($BB$30:$BB$32)),BD276)-29","v":{"$error":"#NUM!"}},{"$error":"#NUM!"},{"$error":"#NUM!"},0,227,{"$f":"SMALL(IF($BJ$30:$BJ$32<>BH276,\"\",ROW($BJ$30:$BJ$32)),BI276)-29","v":{"$error":"#NUM!"}},{"$error":"#NUM!"},{"$error":"#NUM!"},true,false,{"$error":"#NUM!"}]
[null,null,null,null,null,null,null,null,null,null,null,null,null,null,null,null,null,null,null,null,null,null,null,null,null,null,null,null,null,null,null,null,null,null,null,null,null,null,null,null,null,null,null,null,null,null,null,null,null,null,null,null,false,true,0,228,{"$f":"SMALL(IF($BB$30:$BB$32<>BC277,\"\",ROW($BB$30:$BB$32)),BD277)-29","v":{"$error":"#NUM!"}},{"$error":"#NUM!"},{"$error":"#NUM!"},0,228,{"$f":"SMALL(IF($BJ$30:$BJ$32<>BH277,\"\",ROW($BJ$30:$BJ$32)),BI277)-29","v":{"$error":"#NUM!"}},{"$error":"#NUM!"},{"$error":"#NUM!"},true,false,{"$error":"#NUM!"}]
[null,null,null,null,null,null,null,null,null,null,null,null,null,null,null,null,null,null,null,null,null,null,null,null,null,null,null,null,null,null,null,null,null,null,null,null,null,null,null,null,null,null,null,null,null,null,null,null,null,null,null,null,false,true,0,229,{"$f":"SMALL(IF($BB$30:$BB$32<>BC278,\"\",ROW($BB$30:$BB$32)),BD278)-29","v":{"$error":"#NUM!"}},{"$error":"#NUM!"},{"$error":"#NUM!"},0,229,{"$f":"SMALL(IF($BJ$30:$BJ$32<>BH278,\"\",ROW($BJ$30:$BJ$32)),BI278)-29","v":{"$error":"#NUM!"}},{"$error":"#NUM!"},{"$error":"#NUM!"},true,false,{"$error":"#NUM!"}]
[null,null,null,null,null,null,null,null,null,null,null,null,null,null,null,null,null,null,null,null,null,null,null,null,null,null,null,null,null,null,null,null,null,null,null,null,null,null,null,null,null,null,null,null,null,null,null,null,null,null,null,null,false,true,0,230,{"$f":"SMALL(IF($BB$30:$BB$32<>BC279,\"\",ROW($BB$30:$BB$32)),BD279)-29","v":{"$error":"#NUM!"}},{"$error":"#NUM!"},{"$error":"#NUM!"},0,230,{"$f":"SMALL(IF($BJ$30:$BJ$32<>BH279,\"\",ROW($BJ$30:$BJ$32)),BI279)-29","v":{"$error":"#NUM!"}},{"$error":"#NUM!"},{"$error":"#NUM!"},true,false,{"$error":"#NUM!"}]
[null,null,null,null,null,null,null,null,null,null,null,null,null,null,null,null,null,null,null,null,null,null,null,null,null,null,null,null,null,null,null,null,null,null,null,null,null,null,null,null,null,null,null,null,null,null,null,null,null,null,null,null,false,true,0,231,{"$f":"SMALL(IF($BB$30:$BB$32<>BC280,\"\",ROW($BB$30:$BB$32)),BD280)-29","v":{"$error":"#NUM!"}},{"$error":"#NUM!"},{"$error":"#NUM!"},0,231,{"$f":"SMALL(IF($BJ$30:$BJ$32<>BH280,\"\",ROW($BJ$30:$BJ$32)),BI280)-29","v":{"$error":"#NUM!"}},{"$error":"#NUM!"},{"$error":"#NUM!"},true,false,{"$error":"#NUM!"}]
[null,null,null,null,null,null,null,null,null,null,null,null,null,null,null,null,null,null,null,null,null,null,null,null,null,null,null,null,null,null,null,null,null,null,null,null,null,null,null,null,null,null,null,null,null,null,null,null,null,null,null,null,false,true,0,232,{"$f":"SMALL(IF($BB$30:$BB$32<>BC281,\"\",ROW($BB$30:$BB$32)),BD281)-29","v":{"$error":"#NUM!"}},{"$error":"#NUM!"},{"$error":"#NUM!"},0,232,{"$f":"SMALL(IF($BJ$30:$BJ$32<>BH281,\"\",ROW($BJ$30:$BJ$32)),BI281)-29","v":{"$error":"#NUM!"}},{"$error":"#NUM!"},{"$error":"#NUM!"},true,false,{"$error":"#NUM!"}]
[null,null,null,null,null,null,null,null,null,null,null,null,null,null,null,null,null,null,null,null,null,null,null,null,null,null,null,null,null,null,null,null,null,null,null,null,null,null,null,null,null,null,null,null,null,null,null,null,null,null,null,null,false,true,0,233,{"$f":"SMALL(IF($BB$30:$BB$32<>BC282,\"\",ROW($BB$30:$BB$32)),BD282)-29","v":{"$error":"#NUM!"}},{"$error":"#NUM!"},{"$error":"#NUM!"},0,233,{"$f":"SMALL(IF($BJ$30:$BJ$32<>BH282,\"\",ROW($BJ$30:$BJ$32)),BI282)-29","v":{"$error":"#NUM!"}},{"$error":"#NUM!"},{"$error":"#NUM!"},true,false,{"$error":"#NUM!"}]
[null,null,null,null,null,null,null,null,null,null,null,null,null,null,null,null,null,null,null,null,null,null,null,null,null,null,null,null,null,null,null,null,null,null,null,null,null,null,null,null,null,null,null,null,null,null,null,null,null,null,null,null,false,true,0,234,{"$f":"SMALL(IF($BB$30:$BB$32<>BC283,\"\",ROW($BB$30:$BB$32)),BD283)-29","v":{"$error":"#NUM!"}},{"$error":"#NUM!"},{"$error":"#NUM!"},0,234,{"$f":"SMALL(IF($BJ$30:$BJ$32<>BH283,\"\",ROW($BJ$30:$BJ$32)),BI283)-29","v":{"$error":"#NUM!"}},{"$error":"#NUM!"},{"$error":"#NUM!"},true,false,{"$error":"#NUM!"}]
[null,null,null,null,null,null,null,null,null,null,null,null,null,null,null,null,null,null,null,null,null,null,null,null,null,null,null,null,null,null,null,null,null,null,null,null,null,null,null,null,null,null,null,null,null,null,null,null,null,null,null,null,false,true,0,235,{"$f":"SMALL(IF($BB$30:$BB$32<>BC284,\"\",ROW($BB$30:$BB$32)),BD284)-29","v":{"$error":"#NUM!"}},{"$error":"#NUM!"},{"$error":"#NUM!"},0,235,{"$f":"SMALL(IF($BJ$30:$BJ$32<>BH284,\"\",ROW($BJ$30:$BJ$32)),BI284)-29","v":{"$error":"#NUM!"}},{"$error":"#NUM!"},{"$error":"#NUM!"},true,false,{"$error":"#NUM!"}]
[null,null,null,null,null,null,null,null,null,null,null,null,null,null,null,null,null,null,null,null,null,null,null,null,null,null,null,null,null,null,null,null,null,null,null,null,null,null,null,null,null,null,null,null,null,null,null,null,null,null,null,null,false,true,0,236,{"$f":"SMALL(IF($BB$30:$BB$32<>BC285,\"\",ROW($BB$30:$BB$32)),BD285)-29","v":{"$error":"#NUM!"}},{"$error":"#NUM!"},{"$error":"#NUM!"},0,236,{"$f":"SMALL(IF($BJ$30:$BJ$32<>BH285,\"\",ROW($BJ$30:$BJ$32)),BI285)-29","v":{"$error":"#NUM!"}},{"$error":"#NUM!"},{"$error":"#NUM!"},true,false,{"$error":"#NUM!"}]
[null,null,null,null,null,null,null,null,null,null,null,null,null,null,null,null,null,null,null,null,null,null,null,null,null,null,null,null,null,null,null,null,null,null,null,null,null,null,null,null,null,null,null,null,null,null,null,null,null,null,null,null,false,true,0,237,{"$f":"SMALL(IF($BB$30:$BB$32<>BC286,\"\",ROW($BB$30:$BB$32)),BD286)-29","v":{"$error":"#NUM!"}},{"$error":"#NUM!"},{"$error":"#NUM!"},0,237,{"$f":"SMALL(IF($BJ$30:$BJ$32<>BH286,\"\",ROW($BJ$30:$BJ$32)),BI286)-29","v":{"$error":"#NUM!"}},{"$error":"#NUM!"},{"$error":"#NUM!"},true,false,{"$error":"#NUM!"}]
[null,null,null,null,null,null,null,null,null,null,null,null,null,null,null,null,null,null,null,null,null,null,null,null,null,null,null,null,null,null,null,null,null,null,null,null,null,null,null,null,null,null,null,null,null,null,null,null,null,null,null,null,false,true,0,238,{"$f":"SMALL(IF($BB$30:$BB$32<>BC287,\"\",ROW($BB$30:$BB$32)),BD287)-29","v":{"$error":"#NUM!"}},{"$error":"#NUM!"},{"$error":"#NUM!"},0,238,{"$f":"SMALL(IF($BJ$30:$BJ$32<>BH287,\"\",ROW($BJ$30:$BJ$32)),BI287)-29","v":{"$error":"#NUM!"}},{"$error":"#NUM!"},{"$error":"#NUM!"},true,false,{"$error":"#NUM!"}]
[null,null,null,null,null,null,null,null,null,null,null,null,null,null,null,null,null,null,null,null,null,null,null,null,null,null,null,null,null,null,null,null,null,null,null,null,null,null,null,null,null,null,null,null,null,null,null,null,null,null,null,null,false,true,0,239,{"$f":"SMALL(IF($BB$30:$BB$32<>BC288,\"\",ROW($BB$30:$BB$32)),BD288)-29","v":{"$error":"#NUM!"}},{"$error":"#NUM!"},{"$error":"#NUM!"},0,239,{"$f":"SMALL(IF($BJ$30:$BJ$32<>BH288,\"\",ROW($BJ$30:$BJ$32)),BI288)-29","v":{"$error":"#NUM!"}},{"$error":"#NUM!"},{"$error":"#NUM!"},true,false,{"$error":"#NUM!"}]
[null,null,null,null,null,null,null,null,null,null,null,null,null,null,null,null,null,null,null,null,null,null,null,null,null,null,null,null,null,null,null,null,null,null,null,null,null,null,null,null,null,null,null,null,null,null,null,null,null,null,null,null,false,true,0,240,{"$f":"SMALL(IF($BB$30:$BB$32<>BC289,\"\",ROW($BB$30:$BB$32)),BD289)-29","v":{"$error":"#NUM!"}},{"$error":"#NUM!"},{"$error":"#NUM!"},0,240,{"$f":"SMALL(IF($BJ$30:$BJ$32<>BH289,\"\",ROW($BJ$30:$BJ$32)),BI289)-29","v":{"$error":"#NUM!"}},{"$error":"#NUM!"},{"$error":"#NUM!"},true,false,{"$error":"#NUM!"}]
[null,null,null,null,null,null,null,null,null,null,null,null,null,null,null,null,null,null,null,null,null,null,null,null,null,null,null,null,null,null,null,null,null,null,null,null,null,null,null,null,null,null,null,null,null,null,null,null,null,null,null,null,false,true,0,241,{"$f":"SMALL(IF($BB$30:$BB$32<>BC290,\"\",ROW($BB$30:$BB$32)),BD290)-29","v":{"$error":"#NUM!"}},{"$error":"#NUM!"},{"$error":"#NUM!"},0,241,{"$f":"SMALL(IF($BJ$30:$BJ$32<>BH290,\"\",ROW($BJ$30:$BJ$32)),BI290)-29","v":{"$error":"#NUM!"}},{"$error":"#NUM!"},{"$error":"#NUM!"},true,false,{"$error":"#NUM!"}]
[null,null,null,null,null,null,null,null,null,null,null,null,null,null,null,null,null,null,null,null,null,null,null,null,null,null,null,null,null,null,null,null,null,null,null,null,null,null,null,null,null,null,null,null,null,null,null,null,null,null,null,null,false,true,0,242,{"$f":"SMALL(IF($BB$30:$BB$32<>BC291,\"\",ROW($BB$30:$BB$32)),BD291)-29","v":{"$error":"#NUM!"}},{"$error":"#NUM!"},{"$error":"#NUM!"},0,242,{"$f":"SMALL(IF($BJ$30:$BJ$32<>BH291,\"\",ROW($BJ$30:$BJ$32)),BI291)-29","v":{"$error":"#NUM!"}},{"$error":"#NUM!"},{"$error":"#NUM!"},true,false,{"$error":"#NUM!"}]
[null,null,null,null,null,null,null,null,null,null,null,null,null,null,null,null,null,null,null,null,null,null,null,null,null,null,null,null,null,null,null,null,null,null,null,null,null,null,null,null,null,null,null,null,null,null,null,null,null,null,null,null,false,true,0,243,{"$f":"SMALL(IF($BB$30:$BB$32<>BC292,\"\",ROW($BB$30:$BB$32)),BD292)-29","v":{"$error":"#NUM!"}},{"$error":"#NUM!"},{"$error":"#NUM!"},0,243,{"$f":"SMALL(IF($BJ$30:$BJ$32<>BH292,\"\",ROW($BJ$30:$BJ$32)),BI292)-29","v":{"$error":"#NUM!"}},{"$error":"#NUM!"},{"$error":"#NUM!"},true,false,{"$error":"#NUM!"}]
[null,null,null,null,null,null,null,null,null,null,null,null,null,null,null,null,null,null,null,null,null,null,null,null,null,null,null,null,null,null,null,null,null,null,null,null,null,null,null,null,null,null,null,null,null,null,null,null,null,null,null,null,false,true,0,244,{"$f":"SMALL(IF($BB$30:$BB$32<>BC293,\"\",ROW($BB$30:$BB$32)),BD293)-29","v":{"$error":"#NUM!"}},{"$error":"#NUM!"},{"$error":"#NUM!"},0,244,{"$f":"SMALL(IF($BJ$30:$BJ$32<>BH293,\"\",ROW($BJ$30:$BJ$32)),BI293)-29","v":{"$error":"#NUM!"}},{"$error":"#NUM!"},{"$error":"#NUM!"},true,false,{"$error":"#NUM!"}]
[null,null,null,null,null,null,null,null,null,null,null,null,null,null,null,null,null,null,null,null,null,null,null,null,null,null,null,null,null,null,null,null,null,null,null,null,null,null,null,null,null,null,null,null,null,null,null,null,null,null,null,null,false,true,0,245,{"$f":"SMALL(IF($BB$30:$BB$32<>BC294,\"\",ROW($BB$30:$BB$32)),BD294)-29","v":{"$error":"#NUM!"}},{"$error":"#NUM!"},{"$error":"#NUM!"},0,245,{"$f":"SMALL(IF($BJ$30:$BJ$32<>BH294,\"\",ROW($BJ$30:$BJ$32)),BI294)-29","v":{"$error":"#NUM!"}},{"$error":"#NUM!"},{"$error":"#NUM!"},true,false,{"$error":"#NUM!"}]
[null,null,null,null,null,null,null,null,null,null,null,null,null,null,null,null,null,null,null,null,null,null,null,null,null,null,null,null,null,null,null,null,null,null,null,null,null,null,null,null,null,null,null,null,null,null,null,null,null,null,null,null,false,true,0,246,{"$f":"SMALL(IF($BB$30:$BB$32<>BC295,\"\",ROW($BB$30:$BB$32)),BD295)-29","v":{"$error":"#NUM!"}},{"$error":"#NUM!"},{"$error":"#NUM!"},0,246,{"$f":"SMALL(IF($BJ$30:$BJ$32<>BH295,\"\",ROW($BJ$30:$BJ$32)),BI295)-29","v":{"$error":"#NUM!"}},{"$error":"#NUM!"},{"$error":"#NUM!"},true,false,{"$error":"#NUM!"}]
[null,null,null,null,null,null,null,null,null,null,null,null,null,null,null,null,null,null,null,null,null,null,null,null,null,null,null,null,null,null,null,null,null,null,null,null,null,null,null,null,null,null,null,null,null,null,null,null,null,null,null,null,false,true,0,247,{"$f":"SMALL(IF($BB$30:$BB$32<>BC296,\"\",ROW($BB$30:$BB$32)),BD296)-29","v":{"$error":"#NUM!"}},{"$error":"#NUM!"},{"$error":"#NUM!"},0,247,{"$f":"SMALL(IF($BJ$30:$BJ$32<>BH296,\"\",ROW($BJ$30:$BJ$32)),BI296)-29","v":{"$error":"#NUM!"}},{"$error":"#NUM!"},{"$error":"#NUM!"},true,false,{"$error":"#NUM!"}]
[null,null,null,null,null,null,null,null,null,null,null,null,null,null,null,null,null,null,null,null,null,null,null,null,null,null,null,null,null,null,null,null,null,null,null,null,null,null,null,null,null,null,null,null,null,null,null,null,null,null,null,null,false,true,0,248,{"$f":"SMALL(IF($BB$30:$BB$32<>BC297,\"\",ROW($BB$30:$BB$32)),BD297)-29","v":{"$error":"#NUM!"}},{"$error":"#NUM!"},{"$error":"#NUM!"},0,248,{"$f":"SMALL(IF($BJ$30:$BJ$32<>BH297,\"\",ROW($BJ$30:$BJ$32)),BI297)-29","v":{"$error":"#NUM!"}},{"$error":"#NUM!"},{"$error":"#NUM!"},true,false,{"$error":"#NUM!"}]
[null,null,null,null,null,null,null,null,null,null,null,null,null,null,null,null,null,null,null,null,null,null,null,null,null,null,null,null,null,null,null,null,null,null,null,null,null,null,null,null,null,null,null,null,null,null,null,null,null,null,null,null,false,true,0,249,{"$f":"SMALL(IF($BB$30:$BB$32<>BC298,\"\",ROW($BB$30:$BB$32)),BD298)-29","v":{"$error":"#NUM!"}},{"$error":"#NUM!"},{"$error":"#NUM!"},0,249,{"$f":"SMALL(IF($BJ$30:$BJ$32<>BH298,\"\",ROW($BJ$30:$BJ$32)),BI298)-29","v":{"$error":"#NUM!"}},{"$error":"#NUM!"},{"$error":"#NUM!"},true,false,{"$error":"#NUM!"}]
[null,null,null,null,null,null,null,null,null,null,null,null,null,null,null,null,null,null,null,null,null,null,null,null,null,null,null,null,null,null,null,null,null,null,null,null,null,null,null,null,null,null,null,null,null,null,null,null,null,null,null,null,false,true,0,250,{"$f":"SMALL(IF($BB$30:$BB$32<>BC299,\"\",ROW($BB$30:$BB$32)),BD299)-29","v":{"$error":"#NUM!"}},{"$error":"#NUM!"},{"$error":"#NUM!"},0,250,{"$f":"SMALL(IF($BJ$30:$BJ$32<>BH299,\"\",ROW($BJ$30:$BJ$32)),BI299)-29","v":{"$error":"#NUM!"}},{"$error":"#NUM!"},{"$error":"#NUM!"},true,false,{"$error":"#NUM!"}]
[null,null,null,null,null,null,null,null,null,null,null,null,null,null,null,null,null,null,null,null,null,null,null,null,null,null,null,null,null,null,null,null,null,null,null,null,null,null,null,null,null,null,null,null,null,null,null,null,null,null,null,null,false,true,0,251,{"$f":"SMALL(IF($BB$30:$BB$32<>BC300,\"\",ROW($BB$30:$BB$32)),BD300)-29","v":{"$error":"#NUM!"}},{"$error":"#NUM!"},{"$error":"#NUM!"},0,251,{"$f":"SMALL(IF($BJ$30:$BJ$32<>BH300,\"\",ROW($BJ$30:$BJ$32)),BI300)-29","v":{"$error":"#NUM!"}},{"$error":"#NUM!"},{"$error":"#NUM!"},true,false,{"$error":"#NUM!"}]
[null,null,null,null,null,null,null,null,null,null,null,null,null,null,null,null,null,null,null,null,null,null,null,null,null,null,null,null,null,null,null,null,null,null,null,null,null,null,null,null,null,null,null,null,null,null,null,null,null,null,null,null,false,true,0,252,{"$f":"SMALL(IF($BB$30:$BB$32<>BC301,\"\",ROW($BB$30:$BB$32)),BD301)-29","v":{"$error":"#NUM!"}},{"$error":"#NUM!"},{"$error":"#NUM!"},0,252,{"$f":"SMALL(IF($BJ$30:$BJ$32<>BH301,\"\",ROW($BJ$30:$BJ$32)),BI301)-29","v":{"$error":"#NUM!"}},{"$error":"#NUM!"},{"$error":"#NUM!"},true,false,{"$error":"#NUM!"}]
[null,null,null,null,null,null,null,null,null,null,null,null,null,null,null,null,null,null,null,null,null,null,null,null,null,null,null,null,null,null,null,null,null,null,null,null,null,null,null,null,null,null,null,null,null,null,null,null,null,null,null,null,false,true,0,253,{"$f":"SMALL(IF($BB$30:$BB$32<>BC302,\"\",ROW($BB$30:$BB$32)),BD302)-29","v":{"$error":"#NUM!"}},{"$error":"#NUM!"},{"$error":"#NUM!"},0,253,{"$f":"SMALL(IF($BJ$30:$BJ$32<>BH302,\"\",ROW($BJ$30:$BJ$32)),BI302)-29","v":{"$error":"#NUM!"}},{"$error":"#NUM!"},{"$error":"#NUM!"},true,false,{"$error":"#NUM!"}]
[null,null,null,null,null,null,null,null,null,null,null,null,null,null,null,null,null,null,null,null,null,null,null,null,null,null,null,null,null,null,null,null,null,null,null,null,null,null,null,null,null,null,null,null,null,null,null,null,null,null,null,null,false,true,0,254,{"$f":"SMALL(IF($BB$30:$BB$32<>BC303,\"\",ROW($BB$30:$BB$32)),BD303)-29","v":{"$error":"#NUM!"}},{"$error":"#NUM!"},{"$error":"#NUM!"},0,254,{"$f":"SMALL(IF($BJ$30:$BJ$32<>BH303,\"\",ROW($BJ$30:$BJ$32)),BI303)-29","v":{"$error":"#NUM!"}},{"$error":"#NUM!"},{"$error":"#NUM!"},true,false,{"$error":"#NUM!"}]
[null,null,null,null,null,null,null,null,null,null,null,null,null,null,null,null,null,null,null,null,null,null,null,null,null,null,null,null,null,null,null,null,null,null,null,null,null,null,null,null,null,null,null,null,null,null,null,null,null,null,null,null,false,true,0,255,{"$f":"SMALL(IF($BB$30:$BB$32<>BC304,\"\",ROW($BB$30:$BB$32)),BD304)-29","v":{"$error":"#NUM!"}},{"$error":"#NUM!"},{"$error":"#NUM!"},0,255,{"$f":"SMALL(IF($BJ$30:$BJ$32<>BH304,\"\",ROW($BJ$30:$BJ$32)),BI304)-29","v":{"$error":"#NUM!"}},{"$error":"#NUM!"},{"$error":"#NUM!"},true,false,{"$error":"#NUM!"}]
[null,null,null,null,null,null,null,null,null,null,null,null,null,null,null,null,null,null,null,null,null,null,null,null,null,null,null,null,null,null,null,null,null,null,null,null,null,null,null,null,null,null,null,null,null,null,null,null,null,null,null,null,false,true,0,256,{"$f":"SMALL(IF($BB$30:$BB$32<>BC305,\"\",ROW($BB$30:$BB$32)),BD305)-29","v":{"$error":"#NUM!"}},{"$error":"#NUM!"},{"$error":"#NUM!"},0,256,{"$f":"SMALL(IF($BJ$30:$BJ$32<>BH305,\"\",ROW($BJ$30:$BJ$32)),BI305)-29","v":{"$error":"#NUM!"}},{"$error":"#NUM!"},{"$error":"#NUM!"},true,false,{"$error":"#NUM!"}]
[null,null,null,null,null,null,null,null,null,null,null,null,null,null,null,null,null,null,null,null,null,null,null,null,null,null,null,null,null,null,null,null,null,null,null,null,null,null,null,null,null,null,null,null,null,null,null,null,null,null,null,null,false,true,{"$f":"MIN($BB$29:$BB$32)","v":0},257,{"$f":"SMALL(IF($BB$30:$BB$32<>BC306,\"\",ROW($BB$30:$BB$32)),BD306)-29","v":{"$error":"#NUM!"}},{"$f":"INDEX($BD$30:$BD$32,BE306)","v":{"$error":"#NUM!"}},{"$f":"INDEX($BG$30:$BG$32,BE306)","v":{"$error":"#NUM!"}},{"$f":"MAX($BJ$29:$BJ$32)","v":0},257,{"$f":"SMALL(IF($BJ$30:$BJ$32<>BH306,\"\",ROW($BJ$30:$BJ$32)),BI306)-29","v":{"$error":"#NUM!"}},{"$f":"INDEX($BL$30:$BL$32,BJ306)","v":{"$error":"#NUM!"}},{"$f":"INDEX($BO$30:$BO$32,BJ306)","v":{"$error":"#NUM!"}},true,false,{"$error":"#NUM!"}]
[null,null,null,null,null,null,null,null,null,null,null,null,null,null,null,null,null,null,null,null,null,null,null,null,null,null,null,null,null,null,null,null,null,null,null,null,null,null,null,null,null,null,null,null,null,null,null,null,null,null,null,null,{"$f":"IF(BB307=FALSE,BF307)","v":false},{"$f":"ISERR(BF307)","v":true},0,258,{"$f":"SMALL(IF($BB$30:$BB$32<>BC307,\"\",ROW($BB$30:$BB$32)),BD307)-29","v":{"$error":"#NUM!"}},{"$error":"#NUM!"},{"$error":"#NUM!"},0,258,{"$f":"SMALL(IF($BJ$30:$BJ$32<>BH307,\"\",ROW($BJ$30:$BJ$32)),BI307)-29","v":{"$error":"#NUM!"}},{"$error":"#NUM!"},{"$error":"#NUM!"},{"$f":"ISERR(BK307)","v":true},{"$f":"IF(BM307=FALSE,BK307)","v":false},{"$f":"BL307","v":{"$error":"#NUM!"}}]
[null,null,null,null,null,null,null,null,null,null,null,null,null,null,null,null,null,null,null,null,null,null,null,null,null,null,null,null,null,null,null,null,null,null,null,null,null,null,null,null,null,null,null,null,null,null,null,null,null,null,null,null,false,true,0,259,{"$f":"SMALL(IF($BB$30:$BB$32<>BC308,\"\",ROW($BB$30:$BB$32)),BD308)-29","v":{"$error":"#NUM!"}},{"$error":"#NUM!"},{"$error":"#NUM!"},0,259,{"$f":"SMALL(IF($BJ$30:$BJ$32<>BH308,\"\",ROW($BJ$30:$BJ$32)),BI308)-29","v":{"$error":"#NUM!"}},{"$error":"#NUM!"},{"$error":"#NUM!"},true,false,{"$error":"#NUM!"}]
[null,null,null,null,null,null,null,null,null,null,null,null,null,null,null,null,null,null,null,null,null,null,null,null,null,null,null,null,null,null,null,null,null,null,null,null,null,null,null,null,null,null,null,null,null,null,null,null,null,null,null,null,false,true,0,260,{"$f":"SMALL(IF($BB$30:$BB$32<>BC309,\"\",ROW($BB$30:$BB$32)),BD309)-29","v":{"$error":"#NUM!"}},{"$error":"#NUM!"},{"$error":"#NUM!"},0,260,{"$f":"SMALL(IF($BJ$30:$BJ$32<>BH309,\"\",ROW($BJ$30:$BJ$32)),BI309)-29","v":{"$error":"#NUM!"}},{"$error":"#NUM!"},{"$error":"#NUM!"},true,false,{"$error":"#NUM!"}]
[null,null,null,null,null,null,null,null,null,null,null,null,null,null,null,null,null,null,null,null,null,null,null,null,null,null,null,null,null,null,null,null,null,null,null,null,null,null,null,null,null,null,null,null,null,null,null,null,null,null,null,null,false,true,0,261,{"$f":"SMALL(IF($BB$30:$BB$32<>BC310,\"\",ROW($BB$30:$BB$32)),BD310)-29","v":{"$error":"#NUM!"}},{"$error":"#NUM!"},{"$error":"#NUM!"},0,261,{"$f":"SMALL(IF($BJ$30:$BJ$32<>BH310,\"\",ROW($BJ$30:$BJ$32)),BI310)-29","v":{"$error":"#NUM!"}},{"$error":"#NUM!"},{"$error":"#NUM!"},true,false,{"$error":"#NUM!"}]
[null,null,null,null,null,null,null,null,null,null,null,null,null,null,null,null,null,null,null,null,null,null,null,null,null,null,null,null,null,null,null,null,null,null,null,null,null,null,null,null,null,null,null,null,null,null,null,null,null,null,null,null,false,true,0,262,{"$f":"SMALL(IF($BB$30:$BB$32<>BC311,\"\",ROW($BB$30:$BB$32)),BD311)-29","v":{"$error":"#NUM!"}},{"$error":"#NUM!"},{"$error":"#NUM!"},0,262,{"$f":"SMALL(IF($BJ$30:$BJ$32<>BH311,\"\",ROW($BJ$30:$BJ$32)),BI311)-29","v":{"$error":"#NUM!"}},{"$error":"#NUM!"},{"$error":"#NUM!"},true,false,{"$error":"#NUM!"}]
[null,null,null,null,null,null,null,null,null,null,null,null,null,null,null,null,null,null,null,null,null,null,null,null,null,null,null,null,null,null,null,null,null,null,null,null,null,null,null,null,null,null,null,null,null,null,null,null,null,null,null,null,false,true,0,263,{"$f":"SMALL(IF($BB$30:$BB$32<>BC312,\"\",ROW($BB$30:$BB$32)),BD312)-29","v":{"$error":"#NUM!"}},{"$error":"#NUM!"},{"$error":"#NUM!"},0,263,{"$f":"SMALL(IF($BJ$30:$BJ$32<>BH312,\"\",ROW($BJ$30:$BJ$32)),BI312)-29","v":{"$error":"#NUM!"}},{"$error":"#NUM!"},{"$error":"#NUM!"},true,false,{"$error":"#NUM!"}]
[null,null,null,null,null,null,null,null,null,null,null,null,null,null,null,null,null,null,null,null,null,null,null,null,null,null,null,null,null,null,null,null,null,null,null,null,null,null,null,null,null,null,null,null,null,null,null,null,null,null,null,null,false,true,0,264,{"$f":"SMALL(IF($BB$30:$BB$32<>BC313,\"\",ROW($BB$30:$BB$32)),BD313)-29","v":{"$error":"#NUM!"}},{"$error":"#NUM!"},{"$error":"#NUM!"},0,264,{"$f":"SMALL(IF($BJ$30:$BJ$32<>BH313,\"\",ROW($BJ$30:$BJ$32)),BI313)-29","v":{"$error":"#NUM!"}},{"$error":"#NUM!"},{"$error":"#NUM!"},true,false,{"$error":"#NUM!"}]
[null,null,null,null,null,null,null,null,null,null,null,null,null,null,null,null,null,null,null,null,null,null,null,null,null,null,null,null,null,null,null,null,null,null,null,null,null,null,null,null,null,null,null,null,null,null,null,null,null,null,null,null,false,true,0,265,{"$f":"SMALL(IF($BB$30:$BB$32<>BC314,\"\",ROW($BB$30:$BB$32)),BD314)-29","v":{"$error":"#NUM!"}},{"$error":"#NUM!"},{"$error":"#NUM!"},0,265,{"$f":"SMALL(IF($BJ$30:$BJ$32<>BH314,\"\",ROW($BJ$30:$BJ$32)),BI314)-29","v":{"$error":"#NUM!"}},{"$error":"#NUM!"},{"$error":"#NUM!"},true,false,{"$error":"#NUM!"}]
[null,null,null,null,null,null,null,null,null,null,null,null,null,null,null,null,null,null,null,null,null,null,null,null,null,null,null,null,null,null,null,null,null,null,null,null,null,null,null,null,null,null,null,null,null,null,null,null,null,null,null,null,false,true,0,266,{"$f":"SMALL(IF($BB$30:$BB$32<>BC315,\"\",ROW($BB$30:$BB$32)),BD315)-29","v":{"$error":"#NUM!"}},{"$error":"#NUM!"},{"$error":"#NUM!"},0,266,{"$f":"SMALL(IF($BJ$30:$BJ$32<>BH315,\"\",ROW($BJ$30:$BJ$32)),BI315)-29","v":{"$error":"#NUM!"}},{"$error":"#NUM!"},{"$error":"#NUM!"},true,false,{"$error":"#NUM!"}]
[null,null,null,null,null,null,null,null,null,null,null,null,null,null,null,null,null,null,null,null,null,null,null,null,null,null,null,null,null,null,null,null,null,null,null,null,null,null,null,null,null,null,null,null,null,null,null,null,null,null,null,null,false,true,0,267,{"$f":"SMALL(IF($BB$30:$BB$32<>BC316,\"\",ROW($BB$30:$BB$32)),BD316)-29","v":{"$error":"#NUM!"}},{"$error":"#NUM!"},{"$error":"#NUM!"},0,267,{"$f":"SMALL(IF($BJ$30:$BJ$32<>BH316,\"\",ROW($BJ$30:$BJ$32)),BI316)-29","v":{"$error":"#NUM!"}},{"$error":"#NUM!"},{"$error":"#NUM!"},true,false,{"$error":"#NUM!"}]
[null,null,null,null,null,null,null,null,null,null,null,null,null,null,null,null,null,null,null,null,null,null,null,null,null,null,null,null,null,null,null,null,null,null,null,null,null,null,null,null,null,null,null,null,null,null,null,null,null,null,null,null,false,true,0,268,{"$f":"SMALL(IF($BB$30:$BB$32<>BC317,\"\",ROW($BB$30:$BB$32)),BD317)-29","v":{"$error":"#NUM!"}},{"$error":"#NUM!"},{"$error":"#NUM!"},0,268,{"$f":"SMALL(IF($BJ$30:$BJ$32<>BH317,\"\",ROW($BJ$30:$BJ$32)),BI317)-29","v":{"$error":"#NUM!"}},{"$error":"#NUM!"},{"$error":"#NUM!"},true,false,{"$error":"#NUM!"}]
[null,null,null,null,null,null,null,null,null,null,null,null,null,null,null,null,null,null,null,null,null,null,null,null,null,null,null,null,null,null,null,null,null,null,null,null,null,null,null,null,null,null,null,null,null,null,null,null,null,null,null,null,false,true,0,269,{"$f":"SMALL(IF($BB$30:$BB$32<>BC318,\"\",ROW($BB$30:$BB$32)),BD318)-29","v":{"$error":"#NUM!"}},{"$error":"#NUM!"},{"$error":"#NUM!"},0,269,{"$f":"SMALL(IF($BJ$30:$BJ$32<>BH318,\"\",ROW($BJ$30:$BJ$32)),BI318)-29","v":{"$error":"#NUM!"}},{"$error":"#NUM!"},{"$error":"#NUM!"},true,false,{"$error":"#NUM!"}]
[null,null,null,null,null,null,null,null,null,null,null,null,null,null,null,null,null,null,null,null,null,null,null,null,null,null,null,null,null,null,null,null,null,null,null,null,null,null,null,null,null,null,null,null,null,null,null,null,null,null,null,null,false,true,0,270,{"$f":"SMALL(IF($BB$30:$BB$32<>BC319,\"\",ROW($BB$30:$BB$32)),BD319)-29","v":{"$error":"#NUM!"}},{"$error":"#NUM!"},{"$error":"#NUM!"},0,270,{"$f":"SMALL(IF($BJ$30:$BJ$32<>BH319,\"\",ROW($BJ$30:$BJ$32)),BI319)-29","v":{"$error":"#NUM!"}},{"$error":"#NUM!"},{"$error":"#NUM!"},true,false,{"$error":"#NUM!"}]
[null,null,null,null,null,null,null,null,null,null,null,null,null,null,null,null,null,null,null,null,null,null,null,null,null,null,null,null,null,null,null,null,null,null,null,null,null,null,null,null,null,null,null,null,null,null,null,null,null,null,null,null,false,true,0,271,{"$f":"SMALL(IF($BB$30:$BB$32<>BC320,\"\",ROW($BB$30:$BB$32)),BD320)-29","v":{"$error":"#NUM!"}},{"$error":"#NUM!"},{"$error":"#NUM!"},0,271,{"$f":"SMALL(IF($BJ$30:$BJ$32<>BH320,\"\",ROW($BJ$30:$BJ$32)),BI320)-29","v":{"$error":"#NUM!"}},{"$error":"#NUM!"},{"$error":"#NUM!"},true,false,{"$error":"#NUM!"}]
[null,null,null,null,null,null,null,null,null,null,null,null,null,null,null,null,null,null,null,null,null,null,null,null,null,null,null,null,null,null,null,null,null,null,null,null,null,null,null,null,null,null,null,null,null,null,null,null,null,null,null,null,false,true,0,272,{"$f":"SMALL(IF($BB$30:$BB$32<>BC321,\"\",ROW($BB$30:$BB$32)),BD321)-29","v":{"$error":"#NUM!"}},{"$error":"#NUM!"},{"$error":"#NUM!"},0,272,{"$f":"SMALL(IF($BJ$30:$BJ$32<>BH321,\"\",ROW($BJ$30:$BJ$32)),BI321)-29","v":{"$error":"#NUM!"}},{"$error":"#NUM!"},{"$error":"#NUM!"},true,false,{"$error":"#NUM!"}]
[null,null,null,null,null,null,null,null,null,null,null,null,null,null,null,null,null,null,null,null,null,null,null,null,null,null,null,null,null,null,null,null,null,null,null,null,null,null,null,null,null,null,null,null,null,null,null,null,null,null,null,null,false,true,0,273,{"$f":"SMALL(IF($BB$30:$BB$32<>BC322,\"\",ROW($BB$30:$BB$32)),BD322)-29","v":{"$error":"#NUM!"}},{"$error":"#NUM!"},{"$error":"#NUM!"},0,273,{"$f":"SMALL(IF($BJ$30:$BJ$32<>BH322,\"\",ROW($BJ$30:$BJ$32)),BI322)-29","v":{"$error":"#NUM!"}},{"$error":"#NUM!"},{"$error":"#NUM!"},true,false,{"$error":"#NUM!"}]
[null,null,null,null,null,null,null,null,null,null,null,null,null,null,null,null,null,null,null,null,null,null,null,null,null,null,null,null,null,null,null,null,null,null,null,null,null,null,null,null,null,null,null,null,null,null,null,null,null,null,null,null,false,true,0,274,{"$f":"SMALL(IF($BB$30:$BB$32<>BC323,\"\",ROW($BB$30:$BB$32)),BD323)-29","v":{"$error":"#NUM!"}},{"$error":"#NUM!"},{"$error":"#NUM!"},0,274,{"$f":"SMALL(IF($BJ$30:$BJ$32<>BH323,\"\",ROW($BJ$30:$BJ$32)),BI323)-29","v":{"$error":"#NUM!"}},{"$error":"#NUM!"},{"$error":"#NUM!"},true,false,{"$error":"#NUM!"}]
[null,null,null,null,null,null,null,null,null,null,null,null,null,null,null,null,null,null,null,null,null,null,null,null,null,null,null,null,null,null,null,null,null,null,null,null,null,null,null,null,null,null,null,null,null,null,null,null,null,null,null,null,false,true,0,275,{"$f":"SMALL(IF($BB$30:$BB$32<>BC324,\"\",ROW($BB$30:$BB$32)),BD324)-29","v":{"$error":"#NUM!"}},{"$error":"#NUM!"},{"$error":"#NUM!"},0,275,{"$f":"SMALL(IF($BJ$30:$BJ$32<>BH324,\"\",ROW($BJ$30:$BJ$32)),BI324)-29","v":{"$error":"#NUM!"}},{"$error":"#NUM!"},{"$error":"#NUM!"},true,false,{"$error":"#NUM!"}]
[null,null,null,null,null,null,null,null,null,null,null,null,null,null,null,null,null,null,null,null,null,null,null,null,null,null,null,null,null,null,null,null,null,null,null,null,null,null,null,null,null,null,null,null,null,null,null,null,null,null,null,null,false,true,0,276,{"$f":"SMALL(IF($BB$30:$BB$32<>BC325,\"\",ROW($BB$30:$BB$32)),BD325)-29","v":{"$error":"#NUM!"}},{"$error":"#NUM!"},{"$error":"#NUM!"},0,276,{"$f":"SMALL(IF($BJ$30:$BJ$32<>BH325,\"\",ROW($BJ$30:$BJ$32)),BI325)-29","v":{"$error":"#NUM!"}},{"$error":"#NUM!"},{"$error":"#NUM!"},true,false,{"$error":"#NUM!"}]
[null,null,null,null,null,null,null,null,null,null,null,null,null,null,null,null,null,null,null,null,null,null,null,null,null,null,null,null,null,null,null,null,null,null,null,null,null,null,null,null,null,null,null,null,null,null,null,null,null,null,null,null,false,true,0,277,{"$f":"SMALL(IF($BB$30:$BB$32<>BC326,\"\",ROW($BB$30:$BB$32)),BD326)-29","v":{"$error":"#NUM!"}},{"$error":"#NUM!"},{"$error":"#NUM!"},0,277,{"$f":"SMALL(IF($BJ$30:$BJ$32<>BH326,\"\",ROW($BJ$30:$BJ$32)),BI326)-29","v":{"$error":"#NUM!"}},{"$error":"#NUM!"},{"$error":"#NUM!"},true,false,{"$error":"#NUM!"}]
[null,null,null,null,null,null,null,null,null,null,null,null,null,null,null,null,null,null,null,null,null,null,null,null,null,null,null,null,null,null,null,null,null,null,null,null,null,null,null,null,null,null,null,null,null,null,null,null,null,null,null,null,false,true,0,278,{"$f":"SMALL(IF($BB$30:$BB$32<>BC327,\"\",ROW($BB$30:$BB$32)),BD327)-29","v":{"$error":"#NUM!"}},{"$error":"#NUM!"},{"$error":"#NUM!"},0,278,{"$f":"SMALL(IF($BJ$30:$BJ$32<>BH327,\"\",ROW($BJ$30:$BJ$32)),BI327)-29","v":{"$error":"#NUM!"}},{"$error":"#NUM!"},{"$error":"#NUM!"},true,false,{"$error":"#NUM!"}]
[null,null,null,null,null,null,null,null,null,null,null,null,null,null,null,null,null,null,null,null,null,null,null,null,null,null,null,null,null,null,null,null,null,null,null,null,null,null,null,null,null,null,null,null,null,null,null,null,null,null,null,null,false,true,0,279,{"$f":"SMALL(IF($BB$30:$BB$32<>BC328,\"\",ROW($BB$30:$BB$32)),BD328)-29","v":{"$error":"#NUM!"}},{"$error":"#NUM!"},{"$error":"#NUM!"},0,279,{"$f":"SMALL(IF($BJ$30:$BJ$32<>BH328,\"\",ROW($BJ$30:$BJ$32)),BI328)-29","v":{"$error":"#NUM!"}},{"$error":"#NUM!"},{"$error":"#NUM!"},true,false,{"$error":"#NUM!"}]
[null,null,null,null,null,null,null,null,null,null,null,null,null,null,null,null,null,null,null,null,null,null,null,null,null,null,null,null,null,null,null,null,null,null,null,null,null,null,null,null,null,null,null,null,null,null,null,null,null,null,null,null,false,true,0,280,{"$f":"SMALL(IF($BB$30:$BB$32<>BC329,\"\",ROW($BB$30:$BB$32)),BD329)-29","v":{"$error":"#NUM!"}},{"$error":"#NUM!"},{"$error":"#NUM!"},0,280,{"$f":"SMALL(IF($BJ$30:$BJ$32<>BH329,\"\",ROW($BJ$30:$BJ$32)),BI329)-29","v":{"$error":"#NUM!"}},{"$error":"#NUM!"},{"$error":"#NUM!"},true,false,{"$error":"#NUM!"}]
[null,null,null,null,null,null,null,null,null,null,null,null,null,null,null,null,null,null,null,null,null,null,null,null,null,null,null,null,null,null,null,null,null,null,null,null,null,null,null,null,null,null,null,null,null,null,null,null,null,null,null,null,false,true,0,281,{"$f":"SMALL(IF($BB$30:$BB$32<>BC330,\"\",ROW($BB$30:$BB$32)),BD330)-29","v":{"$error":"#NUM!"}},{"$error":"#NUM!"},{"$error":"#NUM!"},0,281,{"$f":"SMALL(IF($BJ$30:$BJ$32<>BH330,\"\",ROW($BJ$30:$BJ$32)),BI330)-29","v":{"$error":"#NUM!"}},{"$error":"#NUM!"},{"$error":"#NUM!"},true,false,{"$error":"#NUM!"}]
[null,null,null,null,null,null,null,null,null,null,null,null,null,null,null,null,null,null,null,null,null,null,null,null,null,null,null,null,null,null,null,null,null,null,null,null,null,null,null,null,null,null,null,null,null,null,null,null,null,null,null,null,false,true,0,282,{"$f":"SMALL(IF($BB$30:$BB$32<>BC331,\"\",ROW($BB$30:$BB$32)),BD331)-29","v":{"$error":"#NUM!"}},{"$error":"#NUM!"},{"$error":"#NUM!"},0,282,{"$f":"SMALL(IF($BJ$30:$BJ$32<>BH331,\"\",ROW($BJ$30:$BJ$32)),BI331)-29","v":{"$error":"#NUM!"}},{"$error":"#NUM!"},{"$error":"#NUM!"},true,false,{"$error":"#NUM!"}]
[null,null,null,null,null,null,null,null,null,null,null,null,null,null,null,null,null,null,null,null,null,null,null,null,null,null,null,null,null,null,null,null,null,null,null,null,null,null,null,null,null,null,null,null,null,null,null,null,null,null,null,null,false,true,0,283,{"$f":"SMALL(IF($BB$30:$BB$32<>BC332,\"\",ROW($BB$30:$BB$32)),BD332)-29","v":{"$error":"#NUM!"}},{"$error":"#NUM!"},{"$error":"#NUM!"},0,283,{"$f":"SMALL(IF($BJ$30:$BJ$32<>BH332,\"\",ROW($BJ$30:$BJ$32)),BI332)-29","v":{"$error":"#NUM!"}},{"$error":"#NUM!"},{"$error":"#NUM!"},true,false,{"$error":"#NUM!"}]
[null,null,null,null,null,null,null,null,null,null,null,null,null,null,null,null,null,null,null,null,null,null,null,null,null,null,null,null,null,null,null,null,null,null,null,null,null,null,null,null,null,null,null,null,null,null,null,null,null,null,null,null,false,true,0,284,{"$f":"SMALL(IF($BB$30:$BB$32<>BC333,\"\",ROW($BB$30:$BB$32)),BD333)-29","v":{"$error":"#NUM!"}},{"$error":"#NUM!"},{"$error":"#NUM!"},0,284,{"$f":"SMALL(IF($BJ$30:$BJ$32<>BH333,\"\",ROW($BJ$30:$BJ$32)),BI333)-29","v":{"$error":"#NUM!"}},{"$error":"#NUM!"},{"$error":"#NUM!"},true,false,{"$error":"#NUM!"}]
[null,null,null,null,null,null,null,null,null,null,null,null,null,null,null,null,null,null,null,null,null,null,null,null,null,null,null,null,null,null,null,null,null,null,null,null,null,null,null,null,null,null,null,null,null,null,null,null,null,null,null,null,false,true,0,285,{"$f":"SMALL(IF($BB$30:$BB$32<>BC334,\"\",ROW($BB$30:$BB$32)),BD334)-29","v":{"$error":"#NUM!"}},{"$error":"#NUM!"},{"$error":"#NUM!"},0,285,{"$f":"SMALL(IF($BJ$30:$BJ$32<>BH334,\"\",ROW($BJ$30:$BJ$32)),BI334)-29","v":{"$error":"#NUM!"}},{"$error":"#NUM!"},{"$error":"#NUM!"},true,false,{"$error":"#NUM!"}]
[null,null,null,null,null,null,null,null,null,null,null,null,null,null,null,null,null,null,null,null,null,null,null,null,null,null,null,null,null,null,null,null,null,null,null,null,null,null,null,null,null,null,null,null,null,null,null,null,null,null,null,null,false,true,0,286,{"$f":"SMALL(IF($BB$30:$BB$32<>BC335,\"\",ROW($BB$30:$BB$32)),BD335)-29","v":{"$error":"#NUM!"}},{"$error":"#NUM!"},{"$error":"#NUM!"},0,286,{"$f":"SMALL(IF($BJ$30:$BJ$32<>BH335,\"\",ROW($BJ$30:$BJ$32)),BI335)-29","v":{"$error":"#NUM!"}},{"$error":"#NUM!"},{"$error":"#NUM!"},true,false,{"$error":"#NUM!"}]
[null,null,null,null,null,null,null,null,null,null,null,null,null,null,null,null,null,null,null,null,null,null,null,null,null,null,null,null,null,null,null,null,null,null,null,null,null,null,null,null,null,null,null,null,null,null,null,null,null,null,null,null,false,true,0,287,{"$f":"SMALL(IF($BB$30:$BB$32<>BC336,\"\",ROW($BB$30:$BB$32)),BD336)-29","v":{"$error":"#NUM!"}},{"$error":"#NUM!"},{"$error":"#NUM!"},0,287,{"$f":"SMALL(IF($BJ$30:$BJ$32<>BH336,\"\",ROW($BJ$30:$BJ$32)),BI336)-29","v":{"$error":"#NUM!"}},{"$error":"#NUM!"},{"$error":"#NUM!"},true,false,{"$error":"#NUM!"}]
[null,null,null,null,null,null,null,null,null,null,null,null,null,null,null,null,null,null,null,null,null,null,null,null,null,null,null,null,null,null,null,null,null,null,null,null,null,null,null,null,null,null,null,null,null,null,null,null,null,null,null,null,false,true,0,288,{"$f":"SMALL(IF($BB$30:$BB$32<>BC337,\"\",ROW($BB$30:$BB$32)),BD337)-29","v":{"$error":"#NUM!"}},{"$error":"#NUM!"},{"$error":"#NUM!"},0,288,{"$f":"SMALL(IF($BJ$30:$BJ$32<>BH337,\"\",ROW($BJ$30:$BJ$32)),BI337)-29","v":{"$error":"#NUM!"}},{"$error":"#NUM!"},{"$error":"#NUM!"},true,false,{"$error":"#NUM!"}]
[null,null,null,null,null,null,null,null,null,null,null,null,null,null,null,null,null,null,null,null,null,null,null,null,null,null,null,null,null,null,null,null,null,null,null,null,null,null,null,null,null,null,null,null,null,null,null,null,null,null,null,null,false,true,0,289,{"$f":"SMALL(IF($BB$30:$BB$32<>BC338,\"\",ROW($BB$30:$BB$32)),BD338)-29","v":{"$error":"#NUM!"}},{"$error":"#NUM!"},{"$error":"#NUM!"},0,289,{"$f":"SMALL(IF($BJ$30:$BJ$32<>BH338,\"\",ROW($BJ$30:$BJ$32)),BI338)-29","v":{"$error":"#NUM!"}},{"$error":"#NUM!"},{"$error":"#NUM!"},true,false,{"$error":"#NUM!"}]
[null,null,null,null,null,null,null,null,null,null,null,null,null,null,null,null,null,null,null,null,null,null,null,null,null,null,null,null,null,null,null,null,null,null,null,null,null,null,null,null,null,null,null,null,null,null,null,null,null,null,null,null,false,true,0,290,{"$f":"SMALL(IF($BB$30:$BB$32<>BC339,\"\",ROW($BB$30:$BB$32)),BD339)-29","v":{"$error":"#NUM!"}},{"$error":"#NUM!"},{"$error":"#NUM!"},0,290,{"$f":"SMALL(IF($BJ$30:$BJ$32<>BH339,\"\",ROW($BJ$30:$BJ$32)),BI339)-29","v":{"$error":"#NUM!"}},{"$error":"#NUM!"},{"$error":"#NUM!"},true,false,{"$error":"#NUM!"}]
[null,null,null,null,null,null,null,null,null,null,null,null,null,null,null,null,null,null,null,null,null,null,null,null,null,null,null,null,null,null,null,null,null,null,null,null,null,null,null,null,null,null,null,null,null,null,null,null,null,null,null,null,false,true,0,291,{"$f":"SMALL(IF($BB$30:$BB$32<>BC340,\"\",ROW($BB$30:$BB$32)),BD340)-29","v":{"$error":"#NUM!"}},{"$error":"#NUM!"},{"$error":"#NUM!"},0,291,{"$f":"SMALL(IF($BJ$30:$BJ$32<>BH340,\"\",ROW($BJ$30:$BJ$32)),BI340)-29","v":{"$error":"#NUM!"}},{"$error":"#NUM!"},{"$error":"#NUM!"},true,false,{"$error":"#NUM!"}]
[null,null,null,null,null,null,null,null,null,null,null,null,null,null,null,null,null,null,null,null,null,null,null,null,null,null,null,null,null,null,null,null,null,null,null,null,null,null,null,null,null,null,null,null,null,null,null,null,null,null,null,null,false,true,0,292,{"$f":"SMALL(IF($BB$30:$BB$32<>BC341,\"\",ROW($BB$30:$BB$32)),BD341)-29","v":{"$error":"#NUM!"}},{"$error":"#NUM!"},{"$error":"#NUM!"},0,292,{"$f":"SMALL(IF($BJ$30:$BJ$32<>BH341,\"\",ROW($BJ$30:$BJ$32)),BI341)-29","v":{"$error":"#NUM!"}},{"$error":"#NUM!"},{"$error":"#NUM!"},true,false,{"$error":"#NUM!"}]
[null,null,null,null,null,null,null,null,null,null,null,null,null,null,null,null,null,null,null,null,null,null,null,null,null,null,null,null,null,null,null,null,null,null,null,null,null,null,null,null,null,null,null,null,null,null,null,null,null,null,null,null,false,true,0,293,{"$f":"SMALL(IF($BB$30:$BB$32<>BC342,\"\",ROW($BB$30:$BB$32)),BD342)-29","v":{"$error":"#NUM!"}},{"$error":"#NUM!"},{"$error":"#NUM!"},0,293,{"$f":"SMALL(IF($BJ$30:$BJ$32<>BH342,\"\",ROW($BJ$30:$BJ$32)),BI342)-29","v":{"$error":"#NUM!"}},{"$error":"#NUM!"},{"$error":"#NUM!"},true,false,{"$error":"#NUM!"}]
[null,null,null,null,null,null,null,null,null,null,null,null,null,null,null,null,null,null,null,null,null,null,null,null,null,null,null,null,null,null,null,null,null,null,null,null,null,null,null,null,null,null,null,null,null,null,null,null,null,null,null,null,false,true,0,294,{"$f":"SMALL(IF($BB$30:$BB$32<>BC343,\"\",ROW($BB$30:$BB$32)),BD343)-29","v":{"$error":"#NUM!"}},{"$error":"#NUM!"},{"$error":"#NUM!"},0,294,{"$f":"SMALL(IF($BJ$30:$BJ$32<>BH343,\"\",ROW($BJ$30:$BJ$32)),BI343)-29","v":{"$error":"#NUM!"}},{"$error":"#NUM!"},{"$error":"#NUM!"},true,false,{"$error":"#NUM!"}]
[null,null,null,null,null,null,null,null,null,null,null,null,null,null,null,null,null,null,null,null,null,null,null,null,null,null,null,null,null,null,null,null,null,null,null,null,null,null,null,null,null,null,null,null,null,null,null,null,null,null,null,null,false,true,0,295,{"$f":"SMALL(IF($BB$30:$BB$32<>BC344,\"\",ROW($BB$30:$BB$32)),BD344)-29","v":{"$error":"#NUM!"}},{"$error":"#NUM!"},{"$error":"#NUM!"},0,295,{"$f":"SMALL(IF($BJ$30:$BJ$32<>BH344,\"\",ROW($BJ$30:$BJ$32)),BI344)-29","v":{"$error":"#NUM!"}},{"$error":"#NUM!"},{"$error":"#NUM!"},true,false,{"$error":"#NUM!"}]
[null,null,null,null,null,null,null,null,null,null,null,null,null,null,null,null,null,null,null,null,null,null,null,null,null,null,null,null,null,null,null,null,null,null,null,null,null,null,null,null,null,null,null,null,null,null,null,null,null,null,null,null,false,true,0,296,{"$f":"SMALL(IF($BB$30:$BB$32<>BC345,\"\",ROW($BB$30:$BB$32)),BD345)-29","v":{"$error":"#NUM!"}},{"$error":"#NUM!"},{"$error":"#NUM!"},0,296,{"$f":"SMALL(IF($BJ$30:$BJ$32<>BH345,\"\",ROW($BJ$30:$BJ$32)),BI345)-29","v":{"$error":"#NUM!"}},{"$error":"#NUM!"},{"$error":"#NUM!"},true,false,{"$error":"#NUM!"}]
[null,null,null,null,null,null,null,null,null,null,null,null,null,null,null,null,null,null,null,null,null,null,null,null,null,null,null,null,null,null,null,null,null,null,null,null,null,null,null,null,null,null,null,null,null,null,null,null,null,null,null,null,false,true,0,297,{"$f":"SMALL(IF($BB$30:$BB$32<>BC346,\"\",ROW($BB$30:$BB$32)),BD346)-29","v":{"$error":"#NUM!"}},{"$error":"#NUM!"},{"$error":"#NUM!"},0,297,{"$f":"SMALL(IF($BJ$30:$BJ$32<>BH346,\"\",ROW($BJ$30:$BJ$32)),BI346)-29","v":{"$error":"#NUM!"}},{"$error":"#NUM!"},{"$error":"#NUM!"},true,false,{"$error":"#NUM!"}]
[null,null,null,null,null,null,null,null,null,null,null,null,null,null,null,null,null,null,null,null,null,null,null,null,null,null,null,null,null,null,null,null,null,null,null,null,null,null,null,null,null,null,null,null,null,null,null,null,null,null,null,null,false,true,0,298,{"$f":"SMALL(IF($BB$30:$BB$32<>BC347,\"\",ROW($BB$30:$BB$32)),BD347)-29","v":{"$error":"#NUM!"}},{"$error":"#NUM!"},{"$error":"#NUM!"},0,298,{"$f":"SMALL(IF($BJ$30:$BJ$32<>BH347,\"\",ROW($BJ$30:$BJ$32)),BI347)-29","v":{"$error":"#NUM!"}},{"$error":"#NUM!"},{"$error":"#NUM!"},true,false,{"$error":"#NUM!"}]
[null,null,null,null,null,null,null,null,null,null,null,null,null,null,null,null,null,null,null,null,null,null,null,null,null,null,null,null,null,null,null,null,null,null,null,null,null,null,null,null,null,null,null,null,null,null,null,null,null,null,null,null,false,true,0,299,{"$f":"SMALL(IF($BB$30:$BB$32<>BC348,\"\",ROW($BB$30:$BB$32)),BD348)-29","v":{"$error":"#NUM!"}},{"$error":"#NUM!"},{"$error":"#NUM!"},0,299,{"$f":"SMALL(IF($BJ$30:$BJ$32<>BH348,\"\",ROW($BJ$30:$BJ$32)),BI348)-29","v":{"$error":"#NUM!"}},{"$error":"#NUM!"},{"$error":"#NUM!"},true,false,{"$error":"#NUM!"}]
[null,null,null,null,null,null,null,null,null,null,null,null,null,null,null,null,null,null,null,null,null,null,null,null,null,null,null,null,null,null,null,null,null,null,null,null,null,null,null,null,null,null,null,null,null,null,null,null,null,null,null,null,false,true,0,300,{"$f":"SMALL(IF($BB$30:$BB$32<>BC349,\"\",ROW($BB$30:$BB$32)),BD349)-29","v":{"$error":"#NUM!"}},{"$error":"#NUM!"},{"$error":"#NUM!"},0,300,{"$f":"SMALL(IF($BJ$30:$BJ$32<>BH349,\"\",ROW($BJ$30:$BJ$32)),BI349)-29","v":{"$error":"#NUM!"}},{"$error":"#NUM!"},{"$error":"#NUM!"},true,false,{"$error":"#NUM!"}]
[null,null,null,null,null,null,null,null,null,null,null,null,null,null,null,null,null,null,null,null,null,null,null,null,null,null,null,null,null,null,null,null,null,null,null,null,null,null,null,null,null,null,null,null,null,null,null,null,null,null,null,null,false,true,0,301,{"$f":"SMALL(IF($BB$30:$BB$32<>BC350,\"\",ROW($BB$30:$BB$32)),BD350)-29","v":{"$error":"#NUM!"}},{"$error":"#NUM!"},{"$error":"#NUM!"},0,301,{"$f":"SMALL(IF($BJ$30:$BJ$32<>BH350,\"\",ROW($BJ$30:$BJ$32)),BI350)-29","v":{"$error":"#NUM!"}},{"$error":"#NUM!"},{"$error":"#NUM!"},true,false,{"$error":"#NUM!"}]
[null,null,null,null,null,null,null,null,null,null,null,null,null,null,null,null,null,null,null,null,null,null,null,null,null,null,null,null,null,null,null,null,null,null,null,null,null,null,null,null,null,null,null,null,null,null,null,null,null,null,null,null,false,true,0,302,{"$f":"SMALL(IF($BB$30:$BB$32<>BC351,\"\",ROW($BB$30:$BB$32)),BD351)-29","v":{"$error":"#NUM!"}},{"$error":"#NUM!"},{"$error":"#NUM!"},0,302,{"$f":"SMALL(IF($BJ$30:$BJ$32<>BH351,\"\",ROW($BJ$30:$BJ$32)),BI351)-29","v":{"$error":"#NUM!"}},{"$error":"#NUM!"},{"$error":"#NUM!"},true,false,{"$error":"#NUM!"}]
[null,null,null,null,null,null,null,null,null,null,null,null,null,null,null,null,null,null,null,null,null,null,null,null,null,null,null,null,null,null,null,null,null,null,null,null,null,null,null,null,null,null,null,null,null,null,null,null,null,null,null,null,false,true,0,303,{"$f":"SMALL(IF($BB$30:$BB$32<>BC352,\"\",ROW($BB$30:$BB$32)),BD352)-29","v":{"$error":"#NUM!"}},{"$error":"#NUM!"},{"$error":"#NUM!"},0,303,{"$f":"SMALL(IF($BJ$30:$BJ$32<>BH352,\"\",ROW($BJ$30:$BJ$32)),BI352)-29","v":{"$error":"#NUM!"}},{"$error":"#NUM!"},{"$error":"#NUM!"},true,false,{"$error":"#NUM!"}]
[null,null,null,null,null,null,null,null,null,null,null,null,null,null,null,null,null,null,null,null,null,null,null,null,null,null,null,null,null,null,null,null,null,null,null,null,null,null,null,null,null,null,null,null,null,null,null,null,null,null,null,null,false,true,0,304,{"$f":"SMALL(IF($BB$30:$BB$32<>BC353,\"\",ROW($BB$30:$BB$32)),BD353)-29","v":{"$error":"#NUM!"}},{"$error":"#NUM!"},{"$error":"#NUM!"},0,304,{"$f":"SMALL(IF($BJ$30:$BJ$32<>BH353,\"\",ROW($BJ$30:$BJ$32)),BI353)-29","v":{"$error":"#NUM!"}},{"$error":"#NUM!"},{"$error":"#NUM!"},true,false,{"$error":"#NUM!"}]
[null,null,null,null,null,null,null,null,null,null,null,null,null,null,null,null,null,null,null,null,null,null,null,null,null,null,null,null,null,null,null,null,null,null,null,null,null,null,null,null,null,null,null,null,null,null,null,null,null,null,null,null,false,true,0,305,{"$f":"SMALL(IF($BB$30:$BB$32<>BC354,\"\",ROW($BB$30:$BB$32)),BD354)-29","v":{"$error":"#NUM!"}},{"$error":"#NUM!"},{"$error":"#NUM!"},0,305,{"$f":"SMALL(IF($BJ$30:$BJ$32<>BH354,\"\",ROW($BJ$30:$BJ$32)),BI354)-29","v":{"$error":"#NUM!"}},{"$error":"#NUM!"},{"$error":"#NUM!"},true,false,{"$error":"#NUM!"}]
[null,null,null,null,null,null,null,null,null,null,null,null,null,null,null,null,null,null,null,null,null,null,null,null,null,null,null,null,null,null,null,null,null,null,null,null,null,null,null,null,null,null,null,null,null,null,null,null,null,null,null,null,false,true,0,306,{"$f":"SMALL(IF($BB$30:$BB$32<>BC355,\"\",ROW($BB$30:$BB$32)),BD355)-29","v":{"$error":"#NUM!"}},{"$error":"#NUM!"},{"$error":"#NUM!"},0,306,{"$f":"SMALL(IF($BJ$30:$BJ$32<>BH355,\"\",ROW($BJ$30:$BJ$32)),BI355)-29","v":{"$error":"#NUM!"}},{"$error":"#NUM!"},{"$error":"#NUM!"},true,false,{"$error":"#NUM!"}]
[null,null,null,null,null,null,null,null,null,null,null,null,null,null,null,null,null,null,null,null,null,null,null,null,null,null,null,null,null,null,null,null,null,null,null,null,null,null,null,null,null,null,null,null,null,null,null,null,null,null,null,null,false,true,0,307,{"$f":"SMALL(IF($BB$30:$BB$32<>BC356,\"\",ROW($BB$30:$BB$32)),BD356)-29","v":{"$error":"#NUM!"}},{"$error":"#NUM!"},{"$error":"#NUM!"},0,307,{"$f":"SMALL(IF($BJ$30:$BJ$32<>BH356,\"\",ROW($BJ$30:$BJ$32)),BI356)-29","v":{"$error":"#NUM!"}},{"$error":"#NUM!"},{"$error":"#NUM!"},true,false,{"$error":"#NUM!"}]
[null,null,null,null,null,null,null,null,null,null,null,null,null,null,null,null,null,null,null,null,null,null,null,null,null,null,null,null,null,null,null,null,null,null,null,null,null,null,null,null,null,null,null,null,null,null,null,null,null,null,null,null,false,true,0,308,{"$f":"SMALL(IF($BB$30:$BB$32<>BC357,\"\",ROW($BB$30:$BB$32)),BD357)-29","v":{"$error":"#NUM!"}},{"$error":"#NUM!"},{"$error":"#NUM!"},0,308,{"$f":"SMALL(IF($BJ$30:$BJ$32<>BH357,\"\",ROW($BJ$30:$BJ$32)),BI357)-29","v":{"$error":"#NUM!"}},{"$error":"#NUM!"},{"$error":"#NUM!"},true,false,{"$error":"#NUM!"}]
[null,null,null,null,null,null,null,null,null,null,null,null,null,null,null,null,null,null,null,null,null,null,null,null,null,null,null,null,null,null,null,null,null,null,null,null,null,null,null,null,null,null,null,null,null,null,null,null,null,null,null,null,false,true,0,309,{"$f":"SMALL(IF($BB$30:$BB$32<>BC358,\"\",ROW($BB$30:$BB$32)),BD358)-29","v":{"$error":"#NUM!"}},{"$error":"#NUM!"},{"$error":"#NUM!"},0,309,{"$f":"SMALL(IF($BJ$30:$BJ$32<>BH358,\"\",ROW($BJ$30:$BJ$32)),BI358)-29","v":{"$error":"#NUM!"}},{"$error":"#NUM!"},{"$error":"#NUM!"},true,false,{"$error":"#NUM!"}]
[null,null,null,null,null,null,null,null,null,null,null,null,null,null,null,null,null,null,null,null,null,null,null,null,null,null,null,null,null,null,null,null,null,null,null,null,null,null,null,null,null,null,null,null,null,null,null,null,null,null,null,null,false,true,0,310,{"$f":"SMALL(IF($BB$30:$BB$32<>BC359,\"\",ROW($BB$30:$BB$32)),BD359)-29","v":{"$error":"#NUM!"}},{"$error":"#NUM!"},{"$error":"#NUM!"},0,310,{"$f":"SMALL(IF($BJ$30:$BJ$32<>BH359,\"\",ROW($BJ$30:$BJ$32)),BI359)-29","v":{"$error":"#NUM!"}},{"$error":"#NUM!"},{"$error":"#NUM!"},true,false,{"$error":"#NUM!"}]
[null,null,null,null,null,null,null,null,null,null,null,null,null,null,null,null,null,null,null,null,null,null,null,null,null,null,null,null,null,null,null,null,null,null,null,null,null,null,null,null,null,null,null,null,null,null,null,null,null,null,null,null,false,true,0,311,{"$f":"SMALL(IF($BB$30:$BB$32<>BC360,\"\",ROW($BB$30:$BB$32)),BD360)-29","v":{"$error":"#NUM!"}},{"$error":"#NUM!"},{"$error":"#NUM!"},0,311,{"$f":"SMALL(IF($BJ$30:$BJ$32<>BH360,\"\",ROW($BJ$30:$BJ$32)),BI360)-29","v":{"$error":"#NUM!"}},{"$error":"#NUM!"},{"$error":"#NUM!"},true,false,{"$error":"#NUM!"}]
[null,null,null,null,null,null,null,null,null,null,null,null,null,null,null,null,null,null,null,null,null,null,null,null,null,null,null,null,null,null,null,null,null,null,null,null,null,null,null,null,null,null,null,null,null,null,null,null,null,null,null,null,false,true,0,312,{"$f":"SMALL(IF($BB$30:$BB$32<>BC361,\"\",ROW($BB$30:$BB$32)),BD361)-29","v":{"$error":"#NUM!"}},{"$error":"#NUM!"},{"$error":"#NUM!"},0,312,{"$f":"SMALL(IF($BJ$30:$BJ$32<>BH361,\"\",ROW($BJ$30:$BJ$32)),BI361)-29","v":{"$error":"#NUM!"}},{"$error":"#NUM!"},{"$error":"#NUM!"},true,false,{"$error":"#NUM!"}]
[null,null,null,null,null,null,null,null,null,null,null,null,null,null,null,null,null,null,null,null,null,null,null,null,null,null,null,null,null,null,null,null,null,null,null,null,null,null,null,null,null,null,null,null,null,null,null,null,null,null,null,null,false,true,0,313,{"$f":"SMALL(IF($BB$30:$BB$32<>BC362,\"\",ROW($BB$30:$BB$32)),BD362)-29","v":{"$error":"#NUM!"}},{"$error":"#NUM!"},{"$error":"#NUM!"},0,313,{"$f":"SMALL(IF($BJ$30:$BJ$32<>BH362,\"\",ROW($BJ$30:$BJ$32)),BI362)-29","v":{"$error":"#NUM!"}},{"$error":"#NUM!"},{"$error":"#NUM!"},true,false,{"$error":"#NUM!"}]
[null,null,null,null,null,null,null,null,null,null,null,null,null,null,null,null,null,null,null,null,null,null,null,null,null,null,null,null,null,null,null,null,null,null,null,null,null,null,null,null,null,null,null,null,null,null,null,null,null,null,null,null,false,true,0,314,{"$f":"SMALL(IF($BB$30:$BB$32<>BC363,\"\",ROW($BB$30:$BB$32)),BD363)-29","v":{"$error":"#NUM!"}},{"$error":"#NUM!"},{"$error":"#NUM!"},0,314,{"$f":"SMALL(IF($BJ$30:$BJ$32<>BH363,\"\",ROW($BJ$30:$BJ$32)),BI363)-29","v":{"$error":"#NUM!"}},{"$error":"#NUM!"},{"$error":"#NUM!"},true,false,{"$error":"#NUM!"}]
[null,null,null,null,null,null,null,null,null,null,null,null,null,null,null,null,null,null,null,null,null,null,null,null,null,null,null,null,null,null,null,null,null,null,null,null,null,null,null,null,null,null,null,null,null,null,null,null,null,null,null,null,false,true,0,315,{"$f":"SMALL(IF($BB$30:$BB$32<>BC364,\"\",ROW($BB$30:$BB$32)),BD364)-29","v":{"$error":"#NUM!"}},{"$error":"#NUM!"},{"$error":"#NUM!"},0,315,{"$f":"SMALL(IF($BJ$30:$BJ$32<>BH364,\"\",ROW($BJ$30:$BJ$32)),BI364)-29","v":{"$error":"#NUM!"}},{"$error":"#NUM!"},{"$error":"#NUM!"},true,false,{"$error":"#NUM!"}]
[null,null,null,null,null,null,null,null,null,null,null,null,null,null,null,null,null,null,null,null,null,null,null,null,null,null,null,null,null,null,null,null,null,null,null,null,null,null,null,null,null,null,null,null,null,null,null,null,null,null,null,null,false,true,0,316,{"$f":"SMALL(IF($BB$30:$BB$32<>BC365,\"\",ROW($BB$30:$BB$32)),BD365)-29","v":{"$error":"#NUM!"}},{"$error":"#NUM!"},{"$error":"#NUM!"},0,316,{"$f":"SMALL(IF($BJ$30:$BJ$32<>BH365,\"\",ROW($BJ$30:$BJ$32)),BI365)-29","v":{"$error":"#NUM!"}},{"$error":"#NUM!"},{"$error":"#NUM!"},true,false,{"$error":"#NUM!"}]
[null,null,null,null,null,null,null,null,null,null,null,null,null,null,null,null,null,null,null,null,null,null,null,null,null,null,null,null,null,null,null,null,null,null,null,null,null,null,null,null,null,null,null,null,null,null,null,null,null,null,null,null,false,true,0,317,{"$f":"SMALL(IF($BB$30:$BB$32<>BC366,\"\",ROW($BB$30:$BB$32)),BD366)-29","v":{"$error":"#NUM!"}},{"$error":"#NUM!"},{"$error":"#NUM!"},0,317,{"$f":"SMALL(IF($BJ$30:$BJ$32<>BH366,\"\",ROW($BJ$30:$BJ$32)),BI366)-29","v":{"$error":"#NUM!"}},{"$error":"#NUM!"},{"$error":"#NUM!"},true,false,{"$error":"#NUM!"}]
[null,null,null,null,null,null,null,null,null,null,null,null,null,null,null,null,null,null,null,null,null,null,null,null,null,null,null,null,null,null,null,null,null,null,null,null,null,null,null,null,null,null,null,null,null,null,null,null,null,null,null,null,false,true,0,318,{"$f":"SMALL(IF($BB$30:$BB$32<>BC367,\"\",ROW($BB$30:$BB$32)),BD367)-29","v":{"$error":"#NUM!"}},{"$error":"#NUM!"},{"$error":"#NUM!"},0,318,{"$f":"SMALL(IF($BJ$30:$BJ$32<>BH367,\"\",ROW($BJ$30:$BJ$32)),BI367)-29","v":{"$error":"#NUM!"}},{"$error":"#NUM!"},{"$error":"#NUM!"},true,false,{"$error":"#NUM!"}]
[null,null,null,null,null,null,null,null,null,null,null,null,null,null,null,null,null,null,null,null,null,null,null,null,null,null,null,null,null,null,null,null,null,null,null,null,null,null,null,null,null,null,null,null,null,null,null,null,null,null,null,null,false,true,0,319,{"$f":"SMALL(IF($BB$30:$BB$32<>BC368,\"\",ROW($BB$30:$BB$32)),BD368)-29","v":{"$error":"#NUM!"}},{"$error":"#NUM!"},{"$error":"#NUM!"},0,319,{"$f":"SMALL(IF($BJ$30:$BJ$32<>BH368,\"\",ROW($BJ$30:$BJ$32)),BI368)-29","v":{"$error":"#NUM!"}},{"$error":"#NUM!"},{"$error":"#NUM!"},true,false,{"$error":"#NUM!"}]
[null,null,null,null,null,null,null,null,null,null,null,null,null,null,null,null,null,null,null,null,null,null,null,null,null,null,null,null,null,null,null,null,null,null,null,null,null,null,null,null,null,null,null,null,null,null,null,null,null,null,null,null,false,true,0,320,{"$f":"SMALL(IF($BB$30:$BB$32<>BC369,\"\",ROW($BB$30:$BB$32)),BD369)-29","v":{"$error":"#NUM!"}},{"$error":"#NUM!"},{"$error":"#NUM!"},0,320,{"$f":"SMALL(IF($BJ$30:$BJ$32<>BH369,\"\",ROW($BJ$30:$BJ$32)),BI369)-29","v":{"$error":"#NUM!"}},{"$error":"#NUM!"},{"$error":"#NUM!"},true,false,{"$error":"#NUM!"}]
[null,null,null,null,null,null,null,null,null,null,null,null,null,null,null,null,null,null,null,null,null,null,null,null,null,null,null,null,null,null,null,null,null,null,null,null,null,null,null,null,null,null,null,null,null,null,null,null,null,null,null,null,false,true,{"$f":"MIN($BB$29:$BB$32)","v":0},321,{"$f":"SMALL(IF($BB$30:$BB$32<>BC370,\"\",ROW($BB$30:$BB$32)),BD370)-29","v":{"$error":"#NUM!"}},{"$f":"INDEX($BD$30:$BD$32,BE370)","v":{"$error":"#NUM!"}},{"$f":"INDEX($BG$30:$BG$32,BE370)","v":{"$error":"#NUM!"}},{"$f":"MAX($BJ$29:$BJ$32)","v":0},321,{"$f":"SMALL(IF($BJ$30:$BJ$32<>BH370,\"\",ROW($BJ$30:$BJ$32)),BI370)-29","v":{"$error":"#NUM!"}},{"$f":"INDEX($BL$30:$BL$32,BJ370)","v":{"$error":"#NUM!"}},{"$f":"INDEX($BO$30:$BO$32,BJ370)","v":{"$error":"#NUM!"}},true,false,{"$error":"#NUM!"}]
[null,null,null,null,null,null,null,null,null,null,null,null,null,null,null,null,null,null,null,null,null,null,null,null,null,null,null,null,null,null,null,null,null,null,null,null,null,null,null,null,null,null,null,null,null,null,null,null,null,null,null,null,{"$f":"IF(BB371=FALSE,BF371)","v":false},{"$f":"ISERR(BF371)","v":true},0,322,{"$f":"SMALL(IF($BB$30:$BB$32<>BC371,\"\",ROW($BB$30:$BB$32)),BD371)-29","v":{"$error":"#NUM!"}},{"$error":"#NUM!"},{"$error":"#NUM!"},0,322,{"$f":"SMALL(IF($BJ$30:$BJ$32<>BH371,\"\",ROW($BJ$30:$BJ$32)),BI371)-29","v":{"$error":"#NUM!"}},{"$error":"#NUM!"},{"$error":"#NUM!"},{"$f":"ISERR(BK371)","v":true},{"$f":"IF(BM371=FALSE,BK371)","v":false},{"$f":"BL371","v":{"$error":"#NUM!"}}]
[null,null,null,null,null,null,null,null,null,null,null,null,null,null,null,null,null,null,null,null,null,null,null,null,null,null,null,null,null,null,null,null,null,null,null,null,null,null,null,null,null,null,null,null,null,null,null,null,null,null,null,null,false,true,0,323,{"$f":"SMALL(IF($BB$30:$BB$32<>BC372,\"\",ROW($BB$30:$BB$32)),BD372)-29","v":{"$error":"#NUM!"}},{"$error":"#NUM!"},{"$error":"#NUM!"},0,323,{"$f":"SMALL(IF($BJ$30:$BJ$32<>BH372,\"\",ROW($BJ$30:$BJ$32)),BI372)-29","v":{"$error":"#NUM!"}},{"$error":"#NUM!"},{"$error":"#NUM!"},true,false,{"$error":"#NUM!"}]
[null,null,null,null,null,null,null,null,null,null,null,null,null,null,null,null,null,null,null,null,null,null,null,null,null,null,null,null,null,null,null,null,null,null,null,null,null,null,null,null,null,null,null,null,null,null,null,null,null,null,null,null,false,true,0,324,{"$f":"SMALL(IF($BB$30:$BB$32<>BC373,\"\",ROW($BB$30:$BB$32)),BD373)-29","v":{"$error":"#NUM!"}},{"$error":"#NUM!"},{"$error":"#NUM!"},0,324,{"$f":"SMALL(IF($BJ$30:$BJ$32<>BH373,\"\",ROW($BJ$30:$BJ$32)),BI373)-29","v":{"$error":"#NUM!"}},{"$error":"#NUM!"},{"$error":"#NUM!"},true,false,{"$error":"#NUM!"}]
[null,null,null,null,null,null,null,null,null,null,null,null,null,null,null,null,null,null,null,null,null,null,null,null,null,null,null,null,null,null,null,null,null,null,null,null,null,null,null,null,null,null,null,null,null,null,null,null,null,null,null,null,false,true,0,325,{"$f":"SMALL(IF($BB$30:$BB$32<>BC374,\"\",ROW($BB$30:$BB$32)),BD374)-29","v":{"$error":"#NUM!"}},{"$error":"#NUM!"},{"$error":"#NUM!"},0,325,{"$f":"SMALL(IF($BJ$30:$BJ$32<>BH374,\"\",ROW($BJ$30:$BJ$32)),BI374)-29","v":{"$error":"#NUM!"}},{"$error":"#NUM!"},{"$error":"#NUM!"},true,false,{"$error":"#NUM!"}]
[null,null,null,null,null,null,null,null,null,null,null,null,null,null,null,null,null,null,null,null,null,null,null,null,null,null,null,null,null,null,null,null,null,null,null,null,null,null,null,null,null,null,null,null,null,null,null,null,null,null,null,null,false,true,0,326,{"$f":"SMALL(IF($BB$30:$BB$32<>BC375,\"\",ROW($BB$30:$BB$32)),BD375)-29","v":{"$error":"#NUM!"}},{"$error":"#NUM!"},{"$error":"#NUM!"},0,326,{"$f":"SMALL(IF($BJ$30:$BJ$32<>BH375,\"\",ROW($BJ$30:$BJ$32)),BI375)-29","v":{"$error":"#NUM!"}},{"$error":"#NUM!"},{"$error":"#NUM!"},true,false,{"$error":"#NUM!"}]
[null,null,null,null,null,null,null,null,null,null,null,null,null,null,null,null,null,null,null,null,null,null,null,null,null,null,null,null,null,null,null,null,null,null,null,null,null,null,null,null,null,null,null,null,null,null,null,null,null,null,null,null,false,true,0,327,{"$f":"SMALL(IF($BB$30:$BB$32<>BC376,\"\",ROW($BB$30:$BB$32)),BD376)-29","v":{"$error":"#NUM!"}},{"$error":"#NUM!"},{"$error":"#NUM!"},0,327,{"$f":"SMALL(IF($BJ$30:$BJ$32<>BH376,\"\",ROW($BJ$30:$BJ$32)),BI376)-29","v":{"$error":"#NUM!"}},{"$error":"#NUM!"},{"$error":"#NUM!"},true,false,{"$error":"#NUM!"}]
[null,null,null,null,null,null,null,null,null,null,null,null,null,null,null,null,null,null,null,null,null,null,null,null,null,null,null,null,null,null,null,null,null,null,null,null,null,null,null,null,null,null,null,null,null,null,null,null,null,null,null,null,false,true,0,328,{"$f":"SMALL(IF($BB$30:$BB$32<>BC377,\"\",ROW($BB$30:$BB$32)),BD377)-29","v":{"$error":"#NUM!"}},{"$error":"#NUM!"},{"$error":"#NUM!"},0,328,{"$f":"SMALL(IF($BJ$30:$BJ$32<>BH377,\"\",ROW($BJ$30:$BJ$32)),BI377)-29","v":{"$error":"#NUM!"}},{"$error":"#NUM!"},{"$error":"#NUM!"},true,false,{"$error":"#NUM!"}]
[null,null,null,null,null,null,null,null,null,null,null,null,null,null,null,null,null,null,null,null,null,null,null,null,null,null,null,null,null,null,null,null,null,null,null,null,null,null,null,null,null,null,null,null,null,null,null,null,null,null,null,null,false,true,0,329,{"$f":"SMALL(IF($BB$30:$BB$32<>BC378,\"\",ROW($BB$30:$BB$32)),BD378)-29","v":{"$error":"#NUM!"}},{"$error":"#NUM!"},{"$error":"#NUM!"},0,329,{"$f":"SMALL(IF($BJ$30:$BJ$32<>BH378,\"\",ROW($BJ$30:$BJ$32)),BI378)-29","v":{"$error":"#NUM!"}},{"$error":"#NUM!"},{"$error":"#NUM!"},true,false,{"$error":"#NUM!"}]
[null,null,null,null,null,null,null,null,null,null,null,null,null,null,null,null,null,null,null,null,null,null,null,null,null,null,null,null,null,null,null,null,null,null,null,null,null,null,null,null,null,null,null,null,null,null,null,null,null,null,null,null,false,true,0,330,{"$f":"SMALL(IF($BB$30:$BB$32<>BC379,\"\",ROW($BB$30:$BB$32)),BD379)-29","v":{"$error":"#NUM!"}},{"$error":"#NUM!"},{"$error":"#NUM!"},0,330,{"$f":"SMALL(IF($BJ$30:$BJ$32<>BH379,\"\",ROW($BJ$30:$BJ$32)),BI379)-29","v":{"$error":"#NUM!"}},{"$error":"#NUM!"},{"$error":"#NUM!"},true,false,{"$error":"#NUM!"}]
[null,null,null,null,null,null,null,null,null,null,null,null,null,null,null,null,null,null,null,null,null,null,null,null,null,null,null,null,null,null,null,null,null,null,null,null,null,null,null,null,null,null,null,null,null,null,null,null,null,null,null,null,false,true,0,331,{"$f":"SMALL(IF($BB$30:$BB$32<>BC380,\"\",ROW($BB$30:$BB$32)),BD380)-29","v":{"$error":"#NUM!"}},{"$error":"#NUM!"},{"$error":"#NUM!"},0,331,{"$f":"SMALL(IF($BJ$30:$BJ$32<>BH380,\"\",ROW($BJ$30:$BJ$32)),BI380)-29","v":{"$error":"#NUM!"}},{"$error":"#NUM!"},{"$error":"#NUM!"},true,false,{"$error":"#NUM!"}]
[null,null,null,null,null,null,null,null,null,null,null,null,null,null,null,null,null,null,null,null,null,null,null,null,null,null,null,null,null,null,null,null,null,null,null,null,null,null,null,null,null,null,null,null,null,null,null,null,null,null,null,null,false,true,0,332,{"$f":"SMALL(IF($BB$30:$BB$32<>BC381,\"\",ROW($BB$30:$BB$32)),BD381)-29","v":{"$error":"#NUM!"}},{"$error":"#NUM!"},{"$error":"#NUM!"},0,332,{"$f":"SMALL(IF($BJ$30:$BJ$32<>BH381,\"\",ROW($BJ$30:$BJ$32)),BI381)-29","v":{"$error":"#NUM!"}},{"$error":"#NUM!"},{"$error":"#NUM!"},true,false,{"$error":"#NUM!"}]
[null,null,null,null,null,null,null,null,null,null,null,null,null,null,null,null,null,null,null,null,null,null,null,null,null,null,null,null,null,null,null,null,null,null,null,null,null,null,null,null,null,null,null,null,null,null,null,null,null,null,null,null,false,true,0,333,{"$f":"SMALL(IF($BB$30:$BB$32<>BC382,\"\",ROW($BB$30:$BB$32)),BD382)-29","v":{"$error":"#NUM!"}},{"$error":"#NUM!"},{"$error":"#NUM!"},0,333,{"$f":"SMALL(IF($BJ$30:$BJ$32<>BH382,\"\",ROW($BJ$30:$BJ$32)),BI382)-29","v":{"$error":"#NUM!"}},{"$error":"#NUM!"},{"$error":"#NUM!"},true,false,{"$error":"#NUM!"}]
[null,null,null,null,null,null,null,null,null,null,null,null,null,null,null,null,null,null,null,null,null,null,null,null,null,null,null,null,null,null,null,null,null,null,null,null,null,null,null,null,null,null,null,null,null,null,null,null,null,null,null,null,false,true,0,334,{"$f":"SMALL(IF($BB$30:$BB$32<>BC383,\"\",ROW($BB$30:$BB$32)),BD383)-29","v":{"$error":"#NUM!"}},{"$error":"#NUM!"},{"$error":"#NUM!"},0,334,{"$f":"SMALL(IF($BJ$30:$BJ$32<>BH383,\"\",ROW($BJ$30:$BJ$32)),BI383)-29","v":{"$error":"#NUM!"}},{"$error":"#NUM!"},{"$error":"#NUM!"},true,false,{"$error":"#NUM!"}]
[null,null,null,null,null,null,null,null,null,null,null,null,null,null,null,null,null,null,null,null,null,null,null,null,null,null,null,null,null,null,null,null,null,null,null,null,null,null,null,null,null,null,null,null,null,null,null,null,null,null,null,null,false,true,0,335,{"$f":"SMALL(IF($BB$30:$BB$32<>BC384,\"\",ROW($BB$30:$BB$32)),BD384)-29","v":{"$error":"#NUM!"}},{"$error":"#NUM!"},{"$error":"#NUM!"},0,335,{"$f":"SMALL(IF($BJ$30:$BJ$32<>BH384,\"\",ROW($BJ$30:$BJ$32)),BI384)-29","v":{"$error":"#NUM!"}},{"$error":"#NUM!"},{"$error":"#NUM!"},true,false,{"$error":"#NUM!"}]
[null,null,null,null,null,null,null,null,null,null,null,null,null,null,null,null,null,null,null,null,null,null,null,null,null,null,null,null,null,null,null,null,null,null,null,null,null,null,null,null,null,null,null,null,null,null,null,null,null,null,null,null,false,true,0,336,{"$f":"SMALL(IF($BB$30:$BB$32<>BC385,\"\",ROW($BB$30:$BB$32)),BD385)-29","v":{"$error":"#NUM!"}},{"$error":"#NUM!"},{"$error":"#NUM!"},0,336,{"$f":"SMALL(IF($BJ$30:$BJ$32<>BH385,\"\",ROW($BJ$30:$BJ$32)),BI385)-29","v":{"$error":"#NUM!"}},{"$error":"#NUM!"},{"$error":"#NUM!"},true,false,{"$error":"#NUM!"}]
[null,null,null,null,null,null,null,null,null,null,null,null,null,null,null,null,null,null,null,null,null,null,null,null,null,null,null,null,null,null,null,null,null,null,null,null,null,null,null,null,null,null,null,null,null,null,null,null,null,null,null,null,false,true,0,337,{"$f":"SMALL(IF($BB$30:$BB$32<>BC386,\"\",ROW($BB$30:$BB$32)),BD386)-29","v":{"$error":"#NUM!"}},{"$error":"#NUM!"},{"$error":"#NUM!"},0,337,{"$f":"SMALL(IF($BJ$30:$BJ$32<>BH386,\"\",ROW($BJ$30:$BJ$32)),BI386)-29","v":{"$error":"#NUM!"}},{"$error":"#NUM!"},{"$error":"#NUM!"},true,false,{"$error":"#NUM!"}]
[null,null,null,null,null,null,null,null,null,null,null,null,null,null,null,null,null,null,null,null,null,null,null,null,null,null,null,null,null,null,null,null,null,null,null,null,null,null,null,null,null,null,null,null,null,null,null,null,null,null,null,null,false,true,0,338,{"$f":"SMALL(IF($BB$30:$BB$32<>BC387,\"\",ROW($BB$30:$BB$32)),BD387)-29","v":{"$error":"#NUM!"}},{"$error":"#NUM!"},{"$error":"#NUM!"},0,338,{"$f":"SMALL(IF($BJ$30:$BJ$32<>BH387,\"\",ROW($BJ$30:$BJ$32)),BI387)-29","v":{"$error":"#NUM!"}},{"$error":"#NUM!"},{"$error":"#NUM!"},true,false,{"$error":"#NUM!"}]
[null,null,null,null,null,null,null,null,null,null,null,null,null,null,null,null,null,null,null,null,null,null,null,null,null,null,null,null,null,null,null,null,null,null,null,null,null,null,null,null,null,null,null,null,null,null,null,null,null,null,null,null,false,true,0,339,{"$f":"SMALL(IF($BB$30:$BB$32<>BC388,\"\",ROW($BB$30:$BB$32)),BD388)-29","v":{"$error":"#NUM!"}},{"$error":"#NUM!"},{"$error":"#NUM!"},0,339,{"$f":"SMALL(IF($BJ$30:$BJ$32<>BH388,\"\",ROW($BJ$30:$BJ$32)),BI388)-29","v":{"$error":"#NUM!"}},{"$error":"#NUM!"},{"$error":"#NUM!"},true,false,{"$error":"#NUM!"}]
[null,null,null,null,null,null,null,null,null,null,null,null,null,null,null,null,null,null,null,null,null,null,null,null,null,null,null,null,null,null,null,null,null,null,null,null,null,null,null,null,null,null,null,null,null,null,null,null,null,null,null,null,false,true,0,340,{"$f":"SMALL(IF($BB$30:$BB$32<>BC389,\"\",ROW($BB$30:$BB$32)),BD389)-29","v":{"$error":"#NUM!"}},{"$error":"#NUM!"},{"$error":"#NUM!"},0,340,{"$f":"SMALL(IF($BJ$30:$BJ$32<>BH389,\"\",ROW($BJ$30:$BJ$32)),BI389)-29","v":{"$error":"#NUM!"}},{"$error":"#NUM!"},{"$error":"#NUM!"},true,false,{"$error":"#NUM!"}]
[null,null,null,null,null,null,null,null,null,null,null,null,null,null,null,null,null,null,null,null,null,null,null,null,null,null,null,null,null,null,null,null,null,null,null,null,null,null,null,null,null,null,null,null,null,null,null,null,null,null,null,null,false,true,0,341,{"$f":"SMALL(IF($BB$30:$BB$32<>BC390,\"\",ROW($BB$30:$BB$32)),BD390)-29","v":{"$error":"#NUM!"}},{"$error":"#NUM!"},{"$error":"#NUM!"},0,341,{"$f":"SMALL(IF($BJ$30:$BJ$32<>BH390,\"\",ROW($BJ$30:$BJ$32)),BI390)-29","v":{"$error":"#NUM!"}},{"$error":"#NUM!"},{"$error":"#NUM!"},true,false,{"$error":"#NUM!"}]
[null,null,null,null,null,null,null,null,null,null,null,null,null,null,null,null,null,null,null,null,null,null,null,null,null,null,null,null,null,null,null,null,null,null,null,null,null,null,null,null,null,null,null,null,null,null,null,null,null,null,null,null,false,true,0,342,{"$f":"SMALL(IF($BB$30:$BB$32<>BC391,\"\",ROW($BB$30:$BB$32)),BD391)-29","v":{"$error":"#NUM!"}},{"$error":"#NUM!"},{"$error":"#NUM!"},0,342,{"$f":"SMALL(IF($BJ$30:$BJ$32<>BH391,\"\",ROW($BJ$30:$BJ$32)),BI391)-29","v":{"$error":"#NUM!"}},{"$error":"#NUM!"},{"$error":"#NUM!"},true,false,{"$error":"#NUM!"}]
[null,null,null,null,null,null,null,null,null,null,null,null,null,null,null,null,null,null,null,null,null,null,null,null,null,null,null,null,null,null,null,null,null,null,null,null,null,null,null,null,null,null,null,null,null,null,null,null,null,null,null,null,false,true,0,343,{"$f":"SMALL(IF($BB$30:$BB$32<>BC392,\"\",ROW($BB$30:$BB$32)),BD392)-29","v":{"$error":"#NUM!"}},{"$error":"#NUM!"},{"$error":"#NUM!"},0,343,{"$f":"SMALL(IF($BJ$30:$BJ$32<>BH392,\"\",ROW($BJ$30:$BJ$32)),BI392)-29","v":{"$error":"#NUM!"}},{"$error":"#NUM!"},{"$error":"#NUM!"},true,false,{"$error":"#NUM!"}]
[null,null,null,null,null,null,null,null,null,null,null,null,null,null,null,null,null,null,null,null,null,null,null,null,null,null,null,null,null,null,null,null,null,null,null,null,null,null,null,null,null,null,null,null,null,null,null,null,null,null,null,null,false,true,0,344,{"$f":"SMALL(IF($BB$30:$BB$32<>BC393,\"\",ROW($BB$30:$BB$32)),BD393)-29","v":{"$error":"#NUM!"}},{"$error":"#NUM!"},{"$error":"#NUM!"},0,344,{"$f":"SMALL(IF($BJ$30:$BJ$32<>BH393,\"\",ROW($BJ$30:$BJ$32)),BI393)-29","v":{"$error":"#NUM!"}},{"$error":"#NUM!"},{"$error":"#NUM!"},true,false,{"$error":"#NUM!"}]
[null,null,null,null,null,null,null,null,null,null,null,null,null,null,null,null,null,null,null,null,null,null,null,null,null,null,null,null,null,null,null,null,null,null,null,null,null,null,null,null,null,null,null,null,null,null,null,null,null,null,null,null,false,true,0,345,{"$f":"SMALL(IF($BB$30:$BB$32<>BC394,\"\",ROW($BB$30:$BB$32)),BD394)-29","v":{"$error":"#NUM!"}},{"$error":"#NUM!"},{"$error":"#NUM!"},0,345,{"$f":"SMALL(IF($BJ$30:$BJ$32<>BH394,\"\",ROW($BJ$30:$BJ$32)),BI394)-29","v":{"$error":"#NUM!"}},{"$error":"#NUM!"},{"$error":"#NUM!"},true,false,{"$error":"#NUM!"}]
[null,null,null,null,null,null,null,null,null,null,null,null,null,null,null,null,null,null,null,null,null,null,null,null,null,null,null,null,null,null,null,null,null,null,null,null,null,null,null,null,null,null,null,null,null,null,null,null,null,null,null,null,false,true,0,346,{"$f":"SMALL(IF($BB$30:$BB$32<>BC395,\"\",ROW($BB$30:$BB$32)),BD395)-29","v":{"$error":"#NUM!"}},{"$error":"#NUM!"},{"$error":"#NUM!"},0,346,{"$f":"SMALL(IF($BJ$30:$BJ$32<>BH395,\"\",ROW($BJ$30:$BJ$32)),BI395)-29","v":{"$error":"#NUM!"}},{"$error":"#NUM!"},{"$error":"#NUM!"},true,false,{"$error":"#NUM!"}]
[null,null,null,null,null,null,null,null,null,null,null,null,null,null,null,null,null,null,null,null,null,null,null,null,null,null,null,null,null,null,null,null,null,null,null,null,null,null,null,null,null,null,null,null,null,null,null,null,null,null,null,null,false,true,0,347,{"$f":"SMALL(IF($BB$30:$BB$32<>BC396,\"\",ROW($BB$30:$BB$32)),BD396)-29","v":{"$error":"#NUM!"}},{"$error":"#NUM!"},{"$error":"#NUM!"},0,347,{"$f":"SMALL(IF($BJ$30:$BJ$32<>BH396,\"\",ROW($BJ$30:$BJ$32)),BI396)-29","v":{"$error":"#NUM!"}},{"$error":"#NUM!"},{"$error":"#NUM!"},true,false,{"$error":"#NUM!"}]
[null,null,null,null,null,null,null,null,null,null,null,null,null,null,null,null,null,null,null,null,null,null,null,null,null,null,null,null,null,null,null,null,null,null,null,null,null,null,null,null,null,null,null,null,null,null,null,null,null,null,null,null,false,true,0,348,{"$f":"SMALL(IF($BB$30:$BB$32<>BC397,\"\",ROW($BB$30:$BB$32)),BD397)-29","v":{"$error":"#NUM!"}},{"$error":"#NUM!"},{"$error":"#NUM!"},0,348,{"$f":"SMALL(IF($BJ$30:$BJ$32<>BH397,\"\",ROW($BJ$30:$BJ$32)),BI397)-29","v":{"$error":"#NUM!"}},{"$error":"#NUM!"},{"$error":"#NUM!"},true,false,{"$error":"#NUM!"}]
[null,null,null,null,null,null,null,null,null,null,null,null,null,null,null,null,null,null,null,null,null,null,null,null,null,null,null,null,null,null,null,null,null,null,null,null,null,null,null,null,null,null,null,null,null,null,null,null,null,null,null,null,false,true,0,349,{"$f":"SMALL(IF($BB$30:$BB$32<>BC398,\"\",ROW($BB$30:$BB$32)),BD398)-29","v":{"$error":"#NUM!"}},{"$error":"#NUM!"},{"$error":"#NUM!"},0,349,{"$f":"SMALL(IF($BJ$30:$BJ$32<>BH398,\"\",ROW($BJ$30:$BJ$32)),BI398)-29","v":{"$error":"#NUM!"}},{"$error":"#NUM!"},{"$error":"#NUM!"},true,false,{"$error":"#NUM!"}]
[null,null,null,null,null,null,null,null,null,null,null,null,null,null,null,null,null,null,null,null,null,null,null,null,null,null,null,null,null,null,null,null,null,null,null,null,null,null,null,null,null,null,null,null,null,null,null,null,null,null,null,null,false,true,0,350,{"$f":"SMALL(IF($BB$30:$BB$32<>BC399,\"\",ROW($BB$30:$BB$32)),BD399)-29","v":{"$error":"#NUM!"}},{"$error":"#NUM!"},{"$error":"#NUM!"},0,350,{"$f":"SMALL(IF($BJ$30:$BJ$32<>BH399,\"\",ROW($BJ$30:$BJ$32)),BI399)-29","v":{"$error":"#NUM!"}},{"$error":"#NUM!"},{"$error":"#NUM!"},true,false,{"$error":"#NUM!"}]
[null,null,null,null,null,null,null,null,null,null,null,null,null,null,null,null,null,null,null,null,null,null,null,null,null,null,null,null,null,null,null,null,null,null,null,null,null,null,null,null,null,null,null,null,null,null,null,null,null,null,null,null,false,true,0,351,{"$f":"SMALL(IF($BB$30:$BB$32<>BC400,\"\",ROW($BB$30:$BB$32)),BD400)-29","v":{"$error":"#NUM!"}},{"$error":"#NUM!"},{"$error":"#NUM!"},0,351,{"$f":"SMALL(IF($BJ$30:$BJ$32<>BH400,\"\",ROW($BJ$30:$BJ$32)),BI400)-29","v":{"$error":"#NUM!"}},{"$error":"#NUM!"},{"$error":"#NUM!"},true,false,{"$error":"#NUM!"}]
[null,null,null,null,null,null,null,null,null,null,null,null,null,null,null,null,null,null,null,null,null,null,null,null,null,null,null,null,null,null,null,null,null,null,null,null,null,null,null,null,null,null,null,null,null,null,null,null,null,null,null,null,false,true,0,352,{"$f":"SMALL(IF($BB$30:$BB$32<>BC401,\"\",ROW($BB$30:$BB$32)),BD401)-29","v":{"$error":"#NUM!"}},{"$error":"#NUM!"},{"$error":"#NUM!"},0,352,{"$f":"SMALL(IF($BJ$30:$BJ$32<>BH401,\"\",ROW($BJ$30:$BJ$32)),BI401)-29","v":{"$error":"#NUM!"}},{"$error":"#NUM!"},{"$error":"#NUM!"},true,false,{"$error":"#NUM!"}]
[null,null,null,null,null,null,null,null,null,null,null,null,null,null,null,null,null,null,null,null,null,null,null,null,null,null,null,null,null,null,null,null,null,null,null,null,null,null,null,null,null,null,null,null,null,null,null,null,null,null,null,null,false,true,0,353,{"$f":"SMALL(IF($BB$30:$BB$32<>BC402,\"\",ROW($BB$30:$BB$32)),BD402)-29","v":{"$error":"#NUM!"}},{"$error":"#NUM!"},{"$error":"#NUM!"},0,353,{"$f":"SMALL(IF($BJ$30:$BJ$32<>BH402,\"\",ROW($BJ$30:$BJ$32)),BI402)-29","v":{"$error":"#NUM!"}},{"$error":"#NUM!"},{"$error":"#NUM!"},true,false,{"$error":"#NUM!"}]
[null,null,null,null,null,null,null,null,null,null,null,null,null,null,null,null,null,null,null,null,null,null,null,null,null,null,null,null,null,null,null,null,null,null,null,null,null,null,null,null,null,null,null,null,null,null,null,null,null,null,null,null,false,true,0,354,{"$f":"SMALL(IF($BB$30:$BB$32<>BC403,\"\",ROW($BB$30:$BB$32)),BD403)-29","v":{"$error":"#NUM!"}},{"$error":"#NUM!"},{"$error":"#NUM!"},0,354,{"$f":"SMALL(IF($BJ$30:$BJ$32<>BH403,\"\",ROW($BJ$30:$BJ$32)),BI403)-29","v":{"$error":"#NUM!"}},{"$error":"#NUM!"},{"$error":"#NUM!"},true,false,{"$error":"#NUM!"}]
[null,null,null,null,null,null,null,null,null,null,null,null,null,null,null,null,null,null,null,null,null,null,null,null,null,null,null,null,null,null,null,null,null,null,null,null,null,null,null,null,null,null,null,null,null,null,null,null,null,null,null,null,false,true,0,355,{"$f":"SMALL(IF($BB$30:$BB$32<>BC404,\"\",ROW($BB$30:$BB$32)),BD404)-29","v":{"$error":"#NUM!"}},{"$error":"#NUM!"},{"$error":"#NUM!"},0,355,{"$f":"SMALL(IF($BJ$30:$BJ$32<>BH404,\"\",ROW($BJ$30:$BJ$32)),BI404)-29","v":{"$error":"#NUM!"}},{"$error":"#NUM!"},{"$error":"#NUM!"},true,false,{"$error":"#NUM!"}]
[null,null,null,null,null,null,null,null,null,null,null,null,null,null,null,null,null,null,null,null,null,null,null,null,null,null,null,null,null,null,null,null,null,null,null,null,null,null,null,null,null,null,null,null,null,null,null,null,null,null,null,null,false,true,0,356,{"$f":"SMALL(IF($BB$30:$BB$32<>BC405,\"\",ROW($BB$30:$BB$32)),BD405)-29","v":{"$error":"#NUM!"}},{"$error":"#NUM!"},{"$error":"#NUM!"},0,356,{"$f":"SMALL(IF($BJ$30:$BJ$32<>BH405,\"\",ROW($BJ$30:$BJ$32)),BI405)-29","v":{"$error":"#NUM!"}},{"$error":"#NUM!"},{"$error":"#NUM!"},true,false,{"$error":"#NUM!"}]
[null,null,null,null,null,null,null,null,null,null,null,null,null,null,null,null,null,null,null,null,null,null,null,null,null,null,null,null,null,null,null,null,null,null,null,null,null,null,null,null,null,null,null,null,null,null,null,null,null,null,null,null,false,true,0,357,{"$f":"SMALL(IF($BB$30:$BB$32<>BC406,\"\",ROW($BB$30:$BB$32)),BD406)-29","v":{"$error":"#NUM!"}},{"$error":"#NUM!"},{"$error":"#NUM!"},0,357,{"$f":"SMALL(IF($BJ$30:$BJ$32<>BH406,\"\",ROW($BJ$30:$BJ$32)),BI406)-29","v":{"$error":"#NUM!"}},{"$error":"#NUM!"},{"$error":"#NUM!"},true,false,{"$error":"#NUM!"}]
[null,null,null,null,null,null,null,null,null,null,null,null,null,null,null,null,null,null,null,null,null,null,null,null,null,null,null,null,null,null,null,null,null,null,null,null,null,null,null,null,null,null,null,null,null,null,null,null,null,null,null,null,false,true,0,358,{"$f":"SMALL(IF($BB$30:$BB$32<>BC407,\"\",ROW($BB$30:$BB$32)),BD407)-29","v":{"$error":"#NUM!"}},{"$error":"#NUM!"},{"$error":"#NUM!"},0,358,{"$f":"SMALL(IF($BJ$30:$BJ$32<>BH407,\"\",ROW($BJ$30:$BJ$32)),BI407)-29","v":{"$error":"#NUM!"}},{"$error":"#NUM!"},{"$error":"#NUM!"},true,false,{"$error":"#NUM!"}]
[null,null,null,null,null,null,null,null,null,null,null,null,null,null,null,null,null,null,null,null,null,null,null,null,null,null,null,null,null,null,null,null,null,null,null,null,null,null,null,null,null,null,null,null,null,null,null,null,null,null,null,null,false,true,0,359,{"$f":"SMALL(IF($BB$30:$BB$32<>BC408,\"\",ROW($BB$30:$BB$32)),BD408)-29","v":{"$error":"#NUM!"}},{"$error":"#NUM!"},{"$error":"#NUM!"},0,359,{"$f":"SMALL(IF($BJ$30:$BJ$32<>BH408,\"\",ROW($BJ$30:$BJ$32)),BI408)-29","v":{"$error":"#NUM!"}},{"$error":"#NUM!"},{"$error":"#NUM!"},true,false,{"$error":"#NUM!"}]
[null,null,null,null,null,null,null,null,null,null,null,null,null,null,null,null,null,null,null,null,null,null,null,null,null,null,null,null,null,null,null,null,null,null,null,null,null,null,null,null,null,null,null,null,null,null,null,null,null,null,null,null,false,true,0,360,{"$f":"SMALL(IF($BB$30:$BB$32<>BC409,\"\",ROW($BB$30:$BB$32)),BD409)-29","v":{"$error":"#NUM!"}},{"$error":"#NUM!"},{"$error":"#NUM!"},0,360,{"$f":"SMALL(IF($BJ$30:$BJ$32<>BH409,\"\",ROW($BJ$30:$BJ$32)),BI409)-29","v":{"$error":"#NUM!"}},{"$error":"#NUM!"},{"$error":"#NUM!"},true,false,{"$error":"#NUM!"}]
[null,null,null,null,null,null,null,null,null,null,null,null,null,null,null,null,null,null,null,null,null,null,null,null,null,null,null,null,null,null,null,null,null,null,null,null,null,null,null,null,null,null,null,null,null,null,null,null,null,null,null,null,false,true,0,361,{"$f":"SMALL(IF($BB$30:$BB$32<>BC410,\"\",ROW($BB$30:$BB$32)),BD410)-29","v":{"$error":"#NUM!"}},{"$error":"#NUM!"},{"$error":"#NUM!"},0,361,{"$f":"SMALL(IF($BJ$30:$BJ$32<>BH410,\"\",ROW($BJ$30:$BJ$32)),BI410)-29","v":{"$error":"#NUM!"}},{"$error":"#NUM!"},{"$error":"#NUM!"},true,false,{"$error":"#NUM!"}]
[null,null,null,null,null,null,null,null,null,null,null,null,null,null,null,null,null,null,null,null,null,null,null,null,null,null,null,null,null,null,null,null,null,null,null,null,null,null,null,null,null,null,null,null,null,null,null,null,null,null,null,null,false,true,0,362,{"$f":"SMALL(IF($BB$30:$BB$32<>BC411,\"\",ROW($BB$30:$BB$32)),BD411)-29","v":{"$error":"#NUM!"}},{"$error":"#NUM!"},{"$error":"#NUM!"},0,362,{"$f":"SMALL(IF($BJ$30:$BJ$32<>BH411,\"\",ROW($BJ$30:$BJ$32)),BI411)-29","v":{"$error":"#NUM!"}},{"$error":"#NUM!"},{"$error":"#NUM!"},true,false,{"$error":"#NUM!"}]
[null,null,null,null,null,null,null,null,null,null,null,null,null,null,null,null,null,null,null,null,null,null,null,null,null,null,null,null,null,null,null,null,null,null,null,null,null,null,null,null,null,null,null,null,null,null,null,null,null,null,null,null,false,true,0,363,{"$f":"SMALL(IF($BB$30:$BB$32<>BC412,\"\",ROW($BB$30:$BB$32)),BD412)-29","v":{"$error":"#NUM!"}},{"$error":"#NUM!"},{"$error":"#NUM!"},0,363,{"$f":"SMALL(IF($BJ$30:$BJ$32<>BH412,\"\",ROW($BJ$30:$BJ$32)),BI412)-29","v":{"$error":"#NUM!"}},{"$error":"#NUM!"},{"$error":"#NUM!"},true,false,{"$error":"#NUM!"}]
[null,null,null,null,null,null,null,null,null,null,null,null,null,null,null,null,null,null,null,null,null,null,null,null,null,null,null,null,null,null,null,null,null,null,null,null,null,null,null,null,null,null,null,null,null,null,null,null,null,null,null,null,false,true,0,364,{"$f":"SMALL(IF($BB$30:$BB$32<>BC413,\"\",ROW($BB$30:$BB$32)),BD413)-29","v":{"$error":"#NUM!"}},{"$error":"#NUM!"},{"$error":"#NUM!"},0,364,{"$f":"SMALL(IF($BJ$30:$BJ$32<>BH413,\"\",ROW($BJ$30:$BJ$32)),BI413)-29","v":{"$error":"#NUM!"}},{"$error":"#NUM!"},{"$error":"#NUM!"},true,false,{"$error":"#NUM!"}]
[null,null,null,null,null,null,null,null,null,null,null,null,null,null,null,null,null,null,null,null,null,null,null,null,null,null,null,null,null,null,null,null,null,null,null,null,null,null,null,null,null,null,null,null,null,null,null,null,null,null,null,null,false,true,0,365,{"$f":"SMALL(IF($BB$30:$BB$32<>BC414,\"\",ROW($BB$30:$BB$32)),BD414)-29","v":{"$error":"#NUM!"}},{"$error":"#NUM!"},{"$error":"#NUM!"},0,365,{"$f":"SMALL(IF($BJ$30:$BJ$32<>BH414,\"\",ROW($BJ$30:$BJ$32)),BI414)-29","v":{"$error":"#NUM!"}},{"$error":"#NUM!"},{"$error":"#NUM!"},true,false,{"$error":"#NUM!"}]
[null,null,null,null,null,null,null,null,null,null,null,null,null,null,null,null,null,null,null,null,null,null,null,null,null,null,null,null,null,null,null,null,null,null,null,null,null,null,null,null,null,null,null,null,null,null,null,null,null,null,null,null,false,true,0,366,{"$f":"SMALL(IF($BB$30:$BB$32<>BC415,\"\",ROW($BB$30:$BB$32)),BD415)-29","v":{"$error":"#NUM!"}},{"$error":"#NUM!"},{"$error":"#NUM!"},0,366,{"$f":"SMALL(IF($BJ$30:$BJ$32<>BH415,\"\",ROW($BJ$30:$BJ$32)),BI415)-29","v":{"$error":"#NUM!"}},{"$error":"#NUM!"},{"$error":"#NUM!"},true,false,{"$error":"#NUM!"}]
[null,null,null,null,null,null,null,null,null,null,null,null,null,null,null,null,null,null,null,null,null,null,null,null,null,null,null,null,null,null,null,null,null,null,null,null,null,null,null,null,null,null,null,null,null,null,null,null,null,null,null,null,false,true,0,367,{"$f":"SMALL(IF($BB$30:$BB$32<>BC416,\"\",ROW($BB$30:$BB$32)),BD416)-29","v":{"$error":"#NUM!"}},{"$error":"#NUM!"},{"$error":"#NUM!"},0,367,{"$f":"SMALL(IF($BJ$30:$BJ$32<>BH416,\"\",ROW($BJ$30:$BJ$32)),BI416)-29","v":{"$error":"#NUM!"}},{"$error":"#NUM!"},{"$error":"#NUM!"},true,false,{"$error":"#NUM!"}]
[null,null,null,null,null,null,null,null,null,null,null,null,null,null,null,null,null,null,null,null,null,null,null,null,null,null,null,null,null,null,null,null,null,null,null,null,null,null,null,null,null,null,null,null,null,null,null,null,null,null,null,null,false,true,0,368,{"$f":"SMALL(IF($BB$30:$BB$32<>BC417,\"\",ROW($BB$30:$BB$32)),BD417)-29","v":{"$error":"#NUM!"}},{"$error":"#NUM!"},{"$error":"#NUM!"},0,368,{"$f":"SMALL(IF($BJ$30:$BJ$32<>BH417,\"\",ROW($BJ$30:$BJ$32)),BI417)-29","v":{"$error":"#NUM!"}},{"$error":"#NUM!"},{"$error":"#NUM!"},true,false,{"$error":"#NUM!"}]
[null,null,null,null,null,null,null,null,null,null,null,null,null,null,null,null,null,null,null,null,null,null,null,null,null,null,null,null,null,null,null,null,null,null,null,null,null,null,null,null,null,null,null,null,null,null,null,null,null,null,null,null,false,true,0,369,{"$f":"SMALL(IF($BB$30:$BB$32<>BC418,\"\",ROW($BB$30:$BB$32)),BD418)-29","v":{"$error":"#NUM!"}},{"$error":"#NUM!"},{"$error":"#NUM!"},0,369,{"$f":"SMALL(IF($BJ$30:$BJ$32<>BH418,\"\",ROW($BJ$30:$BJ$32)),BI418)-29","v":{"$error":"#NUM!"}},{"$error":"#NUM!"},{"$error":"#NUM!"},true,false,{"$error":"#NUM!"}]
[null,null,null,null,null,null,null,null,null,null,null,null,null,null,null,null,null,null,null,null,null,null,null,null,null,null,null,null,null,null,null,null,null,null,null,null,null,null,null,null,null,null,null,null,null,null,null,null,null,null,null,null,false,true,0,370,{"$f":"SMALL(IF($BB$30:$BB$32<>BC419,\"\",ROW($BB$30:$BB$32)),BD419)-29","v":{"$error":"#NUM!"}},{"$error":"#NUM!"},{"$error":"#NUM!"},0,370,{"$f":"SMALL(IF($BJ$30:$BJ$32<>BH419,\"\",ROW($BJ$30:$BJ$32)),BI419)-29","v":{"$error":"#NUM!"}},{"$error":"#NUM!"},{"$error":"#NUM!"},true,false,{"$error":"#NUM!"}]
[null,null,null,null,null,null,null,null,null,null,null,null,null,null,null,null,null,null,null,null,null,null,null,null,null,null,null,null,null,null,null,null,null,null,null,null,null,null,null,null,null,null,null,null,null,null,null,null,null,null,null,null,false,true,0,371,{"$f":"SMALL(IF($BB$30:$BB$32<>BC420,\"\",ROW($BB$30:$BB$32)),BD420)-29","v":{"$error":"#NUM!"}},{"$error":"#NUM!"},{"$error":"#NUM!"},0,371,{"$f":"SMALL(IF($BJ$30:$BJ$32<>BH420,\"\",ROW($BJ$30:$BJ$32)),BI420)-29","v":{"$error":"#NUM!"}},{"$error":"#NUM!"},{"$error":"#NUM!"},true,false,{"$error":"#NUM!"}]
[null,null,null,null,null,null,null,null,null,null,null,null,null,null,null,null,null,null,null,null,null,null,null,null,null,null,null,null,null,null,null,null,null,null,null,null,null,null,null,null,null,null,null,null,null,null,null,null,null,null,null,null,false,true,0,372,{"$f":"SMALL(IF($BB$30:$BB$32<>BC421,\"\",ROW($BB$30:$BB$32)),BD421)-29","v":{"$error":"#NUM!"}},{"$error":"#NUM!"},{"$error":"#NUM!"},0,372,{"$f":"SMALL(IF($BJ$30:$BJ$32<>BH421,\"\",ROW($BJ$30:$BJ$32)),BI421)-29","v":{"$error":"#NUM!"}},{"$error":"#NUM!"},{"$error":"#NUM!"},true,false,{"$error":"#NUM!"}]
[null,null,null,null,null,null,null,null,null,null,null,null,null,null,null,null,null,null,null,null,null,null,null,null,null,null,null,null,null,null,null,null,null,null,null,null,null,null,null,null,null,null,null,null,null,null,null,null,null,null,null,null,false,true,0,373,{"$f":"SMALL(IF($BB$30:$BB$32<>BC422,\"\",ROW($BB$30:$BB$32)),BD422)-29","v":{"$error":"#NUM!"}},{"$error":"#NUM!"},{"$error":"#NUM!"},0,373,{"$f":"SMALL(IF($BJ$30:$BJ$32<>BH422,\"\",ROW($BJ$30:$BJ$32)),BI422)-29","v":{"$error":"#NUM!"}},{"$error":"#NUM!"},{"$error":"#NUM!"},true,false,{"$error":"#NUM!"}]
[null,null,null,null,null,null,null,null,null,null,null,null,null,null,null,null,null,null,null,null,null,null,null,null,null,null,null,null,null,null,null,null,null,null,null,null,null,null,null,null,null,null,null,null,null,null,null,null,null,null,null,null,false,true,0,374,{"$f":"SMALL(IF($BB$30:$BB$32<>BC423,\"\",ROW($BB$30:$BB$32)),BD423)-29","v":{"$error":"#NUM!"}},{"$error":"#NUM!"},{"$error":"#NUM!"},0,374,{"$f":"SMALL(IF($BJ$30:$BJ$32<>BH423,\"\",ROW($BJ$30:$BJ$32)),BI423)-29","v":{"$error":"#NUM!"}},{"$error":"#NUM!"},{"$error":"#NUM!"},true,false,{"$error":"#NUM!"}]
[null,null,null,null,null,null,null,null,null,null,null,null,null,null,null,null,null,null,null,null,null,null,null,null,null,null,null,null,null,null,null,null,null,null,null,null,null,null,null,null,null,null,null,null,null,null,null,null,null,null,null,null,false,true,0,375,{"$f":"SMALL(IF($BB$30:$BB$32<>BC424,\"\",ROW($BB$30:$BB$32)),BD424)-29","v":{"$error":"#NUM!"}},{"$error":"#NUM!"},{"$error":"#NUM!"},0,375,{"$f":"SMALL(IF($BJ$30:$BJ$32<>BH424,\"\",ROW($BJ$30:$BJ$32)),BI424)-29","v":{"$error":"#NUM!"}},{"$error":"#NUM!"},{"$error":"#NUM!"},true,false,{"$error":"#NUM!"}]
[null,null,null,null,null,null,null,null,null,null,null,null,null,null,null,null,null,null,null,null,null,null,null,null,null,null,null,null,null,null,null,null,null,null,null,null,null,null,null,null,null,null,null,null,null,null,null,null,null,null,null,null,false,true,0,376,{"$f":"SMALL(IF($BB$30:$BB$32<>BC425,\"\",ROW($BB$30:$BB$32)),BD425)-29","v":{"$error":"#NUM!"}},{"$error":"#NUM!"},{"$error":"#NUM!"},0,376,{"$f":"SMALL(IF($BJ$30:$BJ$32<>BH425,\"\",ROW($BJ$30:$BJ$32)),BI425)-29","v":{"$error":"#NUM!"}},{"$error":"#NUM!"},{"$error":"#NUM!"},true,false,{"$error":"#NUM!"}]
[null,null,null,null,null,null,null,null,null,null,null,null,null,null,null,null,null,null,null,null,null,null,null,null,null,null,null,null,null,null,null,null,null,null,null,null,null,null,null,null,null,null,null,null,null,null,null,null,null,null,null,null,false,true,0,377,{"$f":"SMALL(IF($BB$30:$BB$32<>BC426,\"\",ROW($BB$30:$BB$32)),BD426)-29","v":{"$error":"#NUM!"}},{"$error":"#NUM!"},{"$error":"#NUM!"},0,377,{"$f":"SMALL(IF($BJ$30:$BJ$32<>BH426,\"\",ROW($BJ$30:$BJ$32)),BI426)-29","v":{"$error":"#NUM!"}},{"$error":"#NUM!"},{"$error":"#NUM!"},true,false,{"$error":"#NUM!"}]
[null,null,null,null,null,null,null,null,null,null,null,null,null,null,null,null,null,null,null,null,null,null,null,null,null,null,null,null,null,null,null,null,null,null,null,null,null,null,null,null,null,null,null,null,null,null,null,null,null,null,null,null,false,true,0,378,{"$f":"SMALL(IF($BB$30:$BB$32<>BC427,\"\",ROW($BB$30:$BB$32)),BD427)-29","v":{"$error":"#NUM!"}},{"$error":"#NUM!"},{"$error":"#NUM!"},0,378,{"$f":"SMALL(IF($BJ$30:$BJ$32<>BH427,\"\",ROW($BJ$30:$BJ$32)),BI427)-29","v":{"$error":"#NUM!"}},{"$error":"#NUM!"},{"$error":"#NUM!"},true,false,{"$error":"#NUM!"}]
[null,null,null,null,null,null,null,null,null,null,null,null,null,null,null,null,null,null,null,null,null,null,null,null,null,null,null,null,null,null,null,null,null,null,null,null,null,null,null,null,null,null,null,null,null,null,null,null,null,null,null,null,false,true,0,379,{"$f":"SMALL(IF($BB$30:$BB$32<>BC428,\"\",ROW($BB$30:$BB$32)),BD428)-29","v":{"$error":"#NUM!"}},{"$error":"#NUM!"},{"$error":"#NUM!"},0,379,{"$f":"SMALL(IF($BJ$30:$BJ$32<>BH428,\"\",ROW($BJ$30:$BJ$32)),BI428)-29","v":{"$error":"#NUM!"}},{"$error":"#NUM!"},{"$error":"#NUM!"},true,false,{"$error":"#NUM!"}]
[null,null,null,null,null,null,null,null,null,null,null,null,null,null,null,null,null,null,null,null,null,null,null,null,null,null,null,null,null,null,null,null,null,null,null,null,null,null,null,null,null,null,null,null,null,null,null,null,null,null,null,null,false,true,0,380,{"$f":"SMALL(IF($BB$30:$BB$32<>BC429,\"\",ROW($BB$30:$BB$32)),BD429)-29","v":{"$error":"#NUM!"}},{"$error":"#NUM!"},{"$error":"#NUM!"},0,380,{"$f":"SMALL(IF($BJ$30:$BJ$32<>BH429,\"\",ROW($BJ$30:$BJ$32)),BI429)-29","v":{"$error":"#NUM!"}},{"$error":"#NUM!"},{"$error":"#NUM!"},true,false,{"$error":"#NUM!"}]
[null,null,null,null,null,null,null,null,null,null,null,null,null,null,null,null,null,null,null,null,null,null,null,null,null,null,null,null,null,null,null,null,null,null,null,null,null,null,null,null,null,null,null,null,null,null,null,null,null,null,null,null,false,true,0,381,{"$f":"SMALL(IF($BB$30:$BB$32<>BC430,\"\",ROW($BB$30:$BB$32)),BD430)-29","v":{"$error":"#NUM!"}},{"$error":"#NUM!"},{"$error":"#NUM!"},0,381,{"$f":"SMALL(IF($BJ$30:$BJ$32<>BH430,\"\",ROW($BJ$30:$BJ$32)),BI430)-29","v":{"$error":"#NUM!"}},{"$error":"#NUM!"},{"$error":"#NUM!"},true,false,{"$error":"#NUM!"}]
[null,null,null,null,null,null,null,null,null,null,null,null,null,null,null,null,null,null,null,null,null,null,null,null,null,null,null,null,null,null,null,null,null,null,null,null,null,null,null,null,null,null,null,null,null,null,null,null,null,null,null,null,false,true,0,382,{"$f":"SMALL(IF($BB$30:$BB$32<>BC431,\"\",ROW($BB$30:$BB$32)),BD431)-29","v":{"$error":"#NUM!"}},{"$error":"#NUM!"},{"$error":"#NUM!"},0,382,{"$f":"SMALL(IF($BJ$30:$BJ$32<>BH431,\"\",ROW($BJ$30:$BJ$32)),BI431)-29","v":{"$error":"#NUM!"}},{"$error":"#NUM!"},{"$error":"#NUM!"},true,false,{"$error":"#NUM!"}]
[null,null,null,null,null,null,null,null,null,null,null,null,null,null,null,null,null,null,null,null,null,null,null,null,null,null,null,null,null,null,null,null,null,null,null,null,null,null,null,null,null,null,null,null,null,null,null,null,null,null,null,null,false,true,0,383,{"$f":"SMALL(IF($BB$30:$BB$32<>BC432,\"\",ROW($BB$30:$BB$32)),BD432)-29","v":{"$error":"#NUM!"}},{"$error":"#NUM!"},{"$error":"#NUM!"},0,383,{"$f":"SMALL(IF($BJ$30:$BJ$32<>BH432,\"\",ROW($BJ$30:$BJ$32)),BI432)-29","v":{"$error":"#NUM!"}},{"$error":"#NUM!"},{"$error":"#NUM!"},true,false,{"$error":"#NUM!"}]
[null,null,null,null,null,null,null,null,null,null,null,null,null,null,null,null,null,null,null,null,null,null,null,null,null,null,null,null,null,null,null,null,null,null,null,null,null,null,null,null,null,null,null,null,null,null,null,null,null,null,null,null,false,true,0,384,{"$f":"SMALL(IF($BB$30:$BB$32<>BC433,\"\",ROW($BB$30:$BB$32)),BD433)-29","v":{"$error":"#NUM!"}},{"$error":"#NUM!"},{"$error":"#NUM!"},0,384,{"$f":"SMALL(IF($BJ$30:$BJ$32<>BH433,\"\",ROW($BJ$30:$BJ$32)),BI433)-29","v":{"$error":"#NUM!"}},{"$error":"#NUM!"},{"$error":"#NUM!"},true,false,{"$error":"#NUM!"}]
[null,null,null,null,null,null,null,null,null,null,null,null,null,null,null,null,null,null,null,null,null,null,null,null,null,null,null,null,null,null,null,null,null,null,null,null,null,null,null,null,null,null,null,null,null,null,null,null,null,null,null,null,false,true,{"$f":"MIN($BB$29:$BB$32)","v":0},385,{"$f":"SMALL(IF($BB$30:$BB$32<>BC434,\"\",ROW($BB$30:$BB$32)),BD434)-29","v":{"$error":"#NUM!"}},{"$f":"INDEX($BD$30:$BD$32,BE434)","v":{"$error":"#NUM!"}},{"$f":"INDEX($BG$30:$BG$32,BE434)","v":{"$error":"#NUM!"}},{"$f":"MAX($BJ$29:$BJ$32)","v":0},385,{"$f":"SMALL(IF($BJ$30:$BJ$32<>BH434,\"\",ROW($BJ$30:$BJ$32)),BI434)-29","v":{"$error":"#NUM!"}},{"$f":"INDEX($BL$30:$BL$32,BJ434)","v":{"$error":"#NUM!"}},{"$f":"INDEX($BO$30:$BO$32,BJ434)","v":{"$error":"#NUM!"}},true,false,{"$error":"#NUM!"}]
[null,null,null,null,null,null,null,null,null,null,null,null,null,null,null,null,null,null,null,null,null,null,null,null,null,null,null,null,null,null,null,null,null,null,null,null,null,null,null,null,null,null,null,null,null,null,null,null,null,null,null,null,{"$f":"IF(BB435=FALSE,BF435)","v":false},{"$f":"ISERR(BF435)","v":true},0,386,{"$f":"SMALL(IF($BB$30:$BB$32<>BC435,\"\",ROW($BB$30:$BB$32)),BD435)-29","v":{"$error":"#NUM!"}},{"$error":"#NUM!"},{"$error":"#NUM!"},0,386,{"$f":"SMALL(IF($BJ$30:$BJ$32<>BH435,\"\",ROW($BJ$30:$BJ$32)),BI435)-29","v":{"$error":"#NUM!"}},{"$error":"#NUM!"},{"$error":"#NUM!"},{"$f":"ISERR(BK435)","v":true},{"$f":"IF(BM435=FALSE,BK435)","v":false},{"$f":"BL435","v":{"$error":"#NUM!"}}]
[null,null,null,null,null,null,null,null,null,null,null,null,null,null,null,null,null,null,null,null,null,null,null,null,null,null,null,null,null,null,null,null,null,null,null,null,null,null,null,null,null,null,null,null,null,null,null,null,null,null,null,null,false,true,0,387,{"$f":"SMALL(IF($BB$30:$BB$32<>BC436,\"\",ROW($BB$30:$BB$32)),BD436)-29","v":{"$error":"#NUM!"}},{"$error":"#NUM!"},{"$error":"#NUM!"},0,387,{"$f":"SMALL(IF($BJ$30:$BJ$32<>BH436,\"\",ROW($BJ$30:$BJ$32)),BI436)-29","v":{"$error":"#NUM!"}},{"$error":"#NUM!"},{"$error":"#NUM!"},true,false,{"$error":"#NUM!"}]
[null,null,null,null,null,null,null,null,null,null,null,null,null,null,null,null,null,null,null,null,null,null,null,null,null,null,null,null,null,null,null,null,null,null,null,null,null,null,null,null,null,null,null,null,null,null,null,null,null,null,null,null,false,true,0,388,{"$f":"SMALL(IF($BB$30:$BB$32<>BC437,\"\",ROW($BB$30:$BB$32)),BD437)-29","v":{"$error":"#NUM!"}},{"$error":"#NUM!"},{"$error":"#NUM!"},0,388,{"$f":"SMALL(IF($BJ$30:$BJ$32<>BH437,\"\",ROW($BJ$30:$BJ$32)),BI437)-29","v":{"$error":"#NUM!"}},{"$error":"#NUM!"},{"$error":"#NUM!"},true,false,{"$error":"#NUM!"}]
[null,null,null,null,null,null,null,null,null,null,null,null,null,null,null,null,null,null,null,null,null,null,null,null,null,null,null,null,null,null,null,null,null,null,null,null,null,null,null,null,null,null,null,null,null,null,null,null,null,null,null,null,false,true,0,389,{"$f":"SMALL(IF($BB$30:$BB$32<>BC438,\"\",ROW($BB$30:$BB$32)),BD438)-29","v":{"$error":"#NUM!"}},{"$error":"#NUM!"},{"$error":"#NUM!"},0,389,{"$f":"SMALL(IF($BJ$30:$BJ$32<>BH438,\"\",ROW($BJ$30:$BJ$32)),BI438)-29","v":{"$error":"#NUM!"}},{"$error":"#NUM!"},{"$error":"#NUM!"},true,false,{"$error":"#NUM!"}]
[null,null,null,null,null,null,null,null,null,null,null,null,null,null,null,null,null,null,null,null,null,null,null,null,null,null,null,null,null,null,null,null,null,null,null,null,null,null,null,null,null,null,null,null,null,null,null,null,null,null,null,null,false,true,0,390,{"$f":"SMALL(IF($BB$30:$BB$32<>BC439,\"\",ROW($BB$30:$BB$32)),BD439)-29","v":{"$error":"#NUM!"}},{"$error":"#NUM!"},{"$error":"#NUM!"},0,390,{"$f":"SMALL(IF($BJ$30:$BJ$32<>BH439,\"\",ROW($BJ$30:$BJ$32)),BI439)-29","v":{"$error":"#NUM!"}},{"$error":"#NUM!"},{"$error":"#NUM!"},true,false,{"$error":"#NUM!"}]
[null,null,null,null,null,null,null,null,null,null,null,null,null,null,null,null,null,null,null,null,null,null,null,null,null,null,null,null,null,null,null,null,null,null,null,null,null,null,null,null,null,null,null,null,null,null,null,null,null,null,null,null,false,true,0,391,{"$f":"SMALL(IF($BB$30:$BB$32<>BC440,\"\",ROW($BB$30:$BB$32)),BD440)-29","v":{"$error":"#NUM!"}},{"$error":"#NUM!"},{"$error":"#NUM!"},0,391,{"$f":"SMALL(IF($BJ$30:$BJ$32<>BH440,\"\",ROW($BJ$30:$BJ$32)),BI440)-29","v":{"$error":"#NUM!"}},{"$error":"#NUM!"},{"$error":"#NUM!"},true,false,{"$error":"#NUM!"}]
[null,null,null,null,null,null,null,null,null,null,null,null,null,null,null,null,null,null,null,null,null,null,null,null,null,null,null,null,null,null,null,null,null,null,null,null,null,null,null,null,null,null,null,null,null,null,null,null,null,null,null,null,false,true,0,392,{"$f":"SMALL(IF($BB$30:$BB$32<>BC441,\"\",ROW($BB$30:$BB$32)),BD441)-29","v":{"$error":"#NUM!"}},{"$error":"#NUM!"},{"$error":"#NUM!"},0,392,{"$f":"SMALL(IF($BJ$30:$BJ$32<>BH441,\"\",ROW($BJ$30:$BJ$32)),BI441)-29","v":{"$error":"#NUM!"}},{"$error":"#NUM!"},{"$error":"#NUM!"},true,false,{"$error":"#NUM!"}]
[null,null,null,null,null,null,null,null,null,null,null,null,null,null,null,null,null,null,null,null,null,null,null,null,null,null,null,null,null,null,null,null,null,null,null,null,null,null,null,null,null,null,null,null,null,null,null,null,null,null,null,null,false,true,0,393,{"$f":"SMALL(IF($BB$30:$BB$32<>BC442,\"\",ROW($BB$30:$BB$32)),BD442)-29","v":{"$error":"#NUM!"}},{"$error":"#NUM!"},{"$error":"#NUM!"},0,393,{"$f":"SMALL(IF($BJ$30:$BJ$32<>BH442,\"\",ROW($BJ$30:$BJ$32)),BI442)-29","v":{"$error":"#NUM!"}},{"$error":"#NUM!"},{"$error":"#NUM!"},true,false,{"$error":"#NUM!"}]
[null,null,null,null,null,null,null,null,null,null,null,null,null,null,null,null,null,null,null,null,null,null,null,null,null,null,null,null,null,null,null,null,null,null,null,null,null,null,null,null,null,null,null,null,null,null,null,null,null,null,null,null,false,true,0,394,{"$f":"SMALL(IF($BB$30:$BB$32<>BC443,\"\",ROW($BB$30:$BB$32)),BD443)-29","v":{"$error":"#NUM!"}},{"$error":"#NUM!"},{"$error":"#NUM!"},0,394,{"$f":"SMALL(IF($BJ$30:$BJ$32<>BH443,\"\",ROW($BJ$30:$BJ$32)),BI443)-29","v":{"$error":"#NUM!"}},{"$error":"#NUM!"},{"$error":"#NUM!"},true,false,{"$error":"#NUM!"}]
[null,null,null,null,null,null,null,null,null,null,null,null,null,null,null,null,null,null,null,null,null,null,null,null,null,null,null,null,null,null,null,null,null,null,null,null,null,null,null,null,null,null,null,null,null,null,null,null,null,null,null,null,false,true,0,395,{"$f":"SMALL(IF($BB$30:$BB$32<>BC444,\"\",ROW($BB$30:$BB$32)),BD444)-29","v":{"$error":"#NUM!"}},{"$error":"#NUM!"},{"$error":"#NUM!"},0,395,{"$f":"SMALL(IF($BJ$30:$BJ$32<>BH444,\"\",ROW($BJ$30:$BJ$32)),BI444)-29","v":{"$error":"#NUM!"}},{"$error":"#NUM!"},{"$error":"#NUM!"},true,false,{"$error":"#NUM!"}]
[null,null,null,null,null,null,null,null,null,null,null,null,null,null,null,null,null,null,null,null,null,null,null,null,null,null,null,null,null,null,null,null,null,null,null,null,null,null,null,null,null,null,null,null,null,null,null,null,null,null,null,null,false,true,0,396,{"$f":"SMALL(IF($BB$30:$BB$32<>BC445,\"\",ROW($BB$30:$BB$32)),BD445)-29","v":{"$error":"#NUM!"}},{"$error":"#NUM!"},{"$error":"#NUM!"},0,396,{"$f":"SMALL(IF($BJ$30:$BJ$32<>BH445,\"\",ROW($BJ$30:$BJ$32)),BI445)-29","v":{"$error":"#NUM!"}},{"$error":"#NUM!"},{"$error":"#NUM!"},true,false,{"$error":"#NUM!"}]
[null,null,null,null,null,null,null,null,null,null,null,null,null,null,null,null,null,null,null,null,null,null,null,null,null,null,null,null,null,null,null,null,null,null,null,null,null,null,null,null,null,null,null,null,null,null,null,null,null,null,null,null,false,true,0,397,{"$f":"SMALL(IF($BB$30:$BB$32<>BC446,\"\",ROW($BB$30:$BB$32)),BD446)-29","v":{"$error":"#NUM!"}},{"$error":"#NUM!"},{"$error":"#NUM!"},0,397,{"$f":"SMALL(IF($BJ$30:$BJ$32<>BH446,\"\",ROW($BJ$30:$BJ$32)),BI446)-29","v":{"$error":"#NUM!"}},{"$error":"#NUM!"},{"$error":"#NUM!"},true,false,{"$error":"#NUM!"}]
[null,null,null,null,null,null,null,null,null,null,null,null,null,null,null,null,null,null,null,null,null,null,null,null,null,null,null,null,null,null,null,null,null,null,null,null,null,null,null,null,null,null,null,null,null,null,null,null,null,null,null,null,false,true,0,398,{"$f":"SMALL(IF($BB$30:$BB$32<>BC447,\"\",ROW($BB$30:$BB$32)),BD447)-29","v":{"$error":"#NUM!"}},{"$error":"#NUM!"},{"$error":"#NUM!"},0,398,{"$f":"SMALL(IF($BJ$30:$BJ$32<>BH447,\"\",ROW($BJ$30:$BJ$32)),BI447)-29","v":{"$error":"#NUM!"}},{"$error":"#NUM!"},{"$error":"#NUM!"},true,false,{"$error":"#NUM!"}]
[null,null,null,null,null,null,null,null,null,null,null,null,null,null,null,null,null,null,null,null,null,null,null,null,null,null,null,null,null,null,null,null,null,null,null,null,null,null,null,null,null,null,null,null,null,null,null,null,null,null,null,null,false,true,0,399,{"$f":"SMALL(IF($BB$30:$BB$32<>BC448,\"\",ROW($BB$30:$BB$32)),BD448)-29","v":{"$error":"#NUM!"}},{"$error":"#NUM!"},{"$error":"#NUM!"},0,399,{"$f":"SMALL(IF($BJ$30:$BJ$32<>BH448,\"\",ROW($BJ$30:$BJ$32)),BI448)-29","v":{"$error":"#NUM!"}},{"$error":"#NUM!"},{"$error":"#NUM!"},true,false,{"$error":"#NUM!"}]
[null,null,null,null,null,null,null,null,null,null,null,null,null,null,null,null,null,null,null,null,null,null,null,null,null,null,null,null,null,null,null,null,null,null,null,null,null,null,null,null,null,null,null,null,null,null,null,null,null,null,null,null,false,true,0,400,{"$f":"SMALL(IF($BB$30:$BB$32<>BC449,\"\",ROW($BB$30:$BB$32)),BD449)-29","v":{"$error":"#NUM!"}},{"$error":"#NUM!"},{"$error":"#NUM!"},0,400,{"$f":"SMALL(IF($BJ$30:$BJ$32<>BH449,\"\",ROW($BJ$30:$BJ$32)),BI449)-29","v":{"$error":"#NUM!"}},{"$error":"#NUM!"},{"$error":"#NUM!"},true,false,{"$error":"#NUM!"}]
[null,null,null,null,null,null,null,null,null,null,null,null,null,null,null,null,null,null,null,null,null,null,null,null,null,null,null,null,null,null,null,null,null,null,null,null,null,null,null,null,null,null,null,null,null,null,null,null,null,null,null,null,false,true,0,401,{"$f":"SMALL(IF($BB$30:$BB$32<>BC450,\"\",ROW($BB$30:$BB$32)),BD450)-29","v":{"$error":"#NUM!"}},{"$error":"#NUM!"},{"$error":"#NUM!"},0,401,{"$f":"SMALL(IF($BJ$30:$BJ$32<>BH450,\"\",ROW($BJ$30:$BJ$32)),BI450)-29","v":{"$error":"#NUM!"}},{"$error":"#NUM!"},{"$error":"#NUM!"},true,false,{"$error":"#NUM!"}]
[null,null,null,null,null,null,null,null,null,null,null,null,null,null,null,null,null,null,null,null,null,null,null,null,null,null,null,null,null,null,null,null,null,null,null,null,null,null,null,null,null,null,null,null,null,null,null,null,null,null,null,null,false,true,0,402,{"$f":"SMALL(IF($BB$30:$BB$32<>BC451,\"\",ROW($BB$30:$BB$32)),BD451)-29","v":{"$error":"#NUM!"}},{"$error":"#NUM!"},{"$error":"#NUM!"},0,402,{"$f":"SMALL(IF($BJ$30:$BJ$32<>BH451,\"\",ROW($BJ$30:$BJ$32)),BI451)-29","v":{"$error":"#NUM!"}},{"$error":"#NUM!"},{"$error":"#NUM!"},true,false,{"$error":"#NUM!"}]
[null,null,null,null,null,null,null,null,null,null,null,null,null,null,null,null,null,null,null,null,null,null,null,null,null,null,null,null,null,null,null,null,null,null,null,null,null,null,null,null,null,null,null,null,null,null,null,null,null,null,null,null,false,true,0,403,{"$f":"SMALL(IF($BB$30:$BB$32<>BC452,\"\",ROW($BB$30:$BB$32)),BD452)-29","v":{"$error":"#NUM!"}},{"$error":"#NUM!"},{"$error":"#NUM!"},0,403,{"$f":"SMALL(IF($BJ$30:$BJ$32<>BH452,\"\",ROW($BJ$30:$BJ$32)),BI452)-29","v":{"$error":"#NUM!"}},{"$error":"#NUM!"},{"$error":"#NUM!"},true,false,{"$error":"#NUM!"}]
[null,null,null,null,null,null,null,null,null,null,null,null,null,null,null,null,null,null,null,null,null,null,null,null,null,null,null,null,null,null,null,null,null,null,null,null,null,null,null,null,null,null,null,null,null,null,null,null,null,null,null,null,false,true,0,404,{"$f":"SMALL(IF($BB$30:$BB$32<>BC453,\"\",ROW($BB$30:$BB$32)),BD453)-29","v":{"$error":"#NUM!"}},{"$error":"#NUM!"},{"$error":"#NUM!"},0,404,{"$f":"SMALL(IF($BJ$30:$BJ$32<>BH453,\"\",ROW($BJ$30:$BJ$32)),BI453)-29","v":{"$error":"#NUM!"}},{"$error":"#NUM!"},{"$error":"#NUM!"},true,false,{"$error":"#NUM!"}]
[null,null,null,null,null,null,null,null,null,null,null,null,null,null,null,null,null,null,null,null,null,null,null,null,null,null,null,null,null,null,null,null,null,null,null,null,null,null,null,null,null,null,null,null,null,null,null,null,null,null,null,null,false,true,0,405,{"$f":"SMALL(IF($BB$30:$BB$32<>BC454,\"\",ROW($BB$30:$BB$32)),BD454)-29","v":{"$error":"#NUM!"}},{"$error":"#NUM!"},{"$error":"#NUM!"},0,405,{"$f":"SMALL(IF($BJ$30:$BJ$32<>BH454,\"\",ROW($BJ$30:$BJ$32)),BI454)-29","v":{"$error":"#NUM!"}},{"$error":"#NUM!"},{"$error":"#NUM!"},true,false,{"$error":"#NUM!"}]
[null,null,null,null,null,null,null,null,null,null,null,null,null,null,null,null,null,null,null,null,null,null,null,null,null,null,null,null,null,null,null,null,null,null,null,null,null,null,null,null,null,null,null,null,null,null,null,null,null,null,null,null,false,true,0,406,{"$f":"SMALL(IF($BB$30:$BB$32<>BC455,\"\",ROW($BB$30:$BB$32)),BD455)-29","v":{"$error":"#NUM!"}},{"$error":"#NUM!"},{"$error":"#NUM!"},0,406,{"$f":"SMALL(IF($BJ$30:$BJ$32<>BH455,\"\",ROW($BJ$30:$BJ$32)),BI455)-29","v":{"$error":"#NUM!"}},{"$error":"#NUM!"},{"$error":"#NUM!"},true,false,{"$error":"#NUM!"}]
[null,null,null,null,null,null,null,null,null,null,null,null,null,null,null,null,null,null,null,null,null,null,null,null,null,null,null,null,null,null,null,null,null,null,null,null,null,null,null,null,null,null,null,null,null,null,null,null,null,null,null,null,false,true,0,407,{"$f":"SMALL(IF($BB$30:$BB$32<>BC456,\"\",ROW($BB$30:$BB$32)),BD456)-29","v":{"$error":"#NUM!"}},{"$error":"#NUM!"},{"$error":"#NUM!"},0,407,{"$f":"SMALL(IF($BJ$30:$BJ$32<>BH456,\"\",ROW($BJ$30:$BJ$32)),BI456)-29","v":{"$error":"#NUM!"}},{"$error":"#NUM!"},{"$error":"#NUM!"},true,false,{"$error":"#NUM!"}]
[null,null,null,null,null,null,null,null,null,null,null,null,null,null,null,null,null,null,null,null,null,null,null,null,null,null,null,null,null,null,null,null,null,null,null,null,null,null,null,null,null,null,null,null,null,null,null,null,null,null,null,null,false,true,0,408,{"$f":"SMALL(IF($BB$30:$BB$32<>BC457,\"\",ROW($BB$30:$BB$32)),BD457)-29","v":{"$error":"#NUM!"}},{"$error":"#NUM!"},{"$error":"#NUM!"},0,408,{"$f":"SMALL(IF($BJ$30:$BJ$32<>BH457,\"\",ROW($BJ$30:$BJ$32)),BI457)-29","v":{"$error":"#NUM!"}},{"$error":"#NUM!"},{"$error":"#NUM!"},true,false,{"$error":"#NUM!"}]
[null,null,null,null,null,null,null,null,null,null,null,null,null,null,null,null,null,null,null,null,null,null,null,null,null,null,null,null,null,null,null,null,null,null,null,null,null,null,null,null,null,null,null,null,null,null,null,null,null,null,null,null,false,true,0,409,{"$f":"SMALL(IF($BB$30:$BB$32<>BC458,\"\",ROW($BB$30:$BB$32)),BD458)-29","v":{"$error":"#NUM!"}},{"$error":"#NUM!"},{"$error":"#NUM!"},0,409,{"$f":"SMALL(IF($BJ$30:$BJ$32<>BH458,\"\",ROW($BJ$30:$BJ$32)),BI458)-29","v":{"$error":"#NUM!"}},{"$error":"#NUM!"},{"$error":"#NUM!"},true,false,{"$error":"#NUM!"}]
[null,null,null,null,null,null,null,null,null,null,null,null,null,null,null,null,null,null,null,null,null,null,null,null,null,null,null,null,null,null,null,null,null,null,null,null,null,null,null,null,null,null,null,null,null,null,null,null,null,null,null,null,false,true,0,410,{"$f":"SMALL(IF($BB$30:$BB$32<>BC459,\"\",ROW($BB$30:$BB$32)),BD459)-29","v":{"$error":"#NUM!"}},{"$error":"#NUM!"},{"$error":"#NUM!"},0,410,{"$f":"SMALL(IF($BJ$30:$BJ$32<>BH459,\"\",ROW($BJ$30:$BJ$32)),BI459)-29","v":{"$error":"#NUM!"}},{"$error":"#NUM!"},{"$error":"#NUM!"},true,false,{"$error":"#NUM!"}]
[null,null,null,null,null,null,null,null,null,null,null,null,null,null,null,null,null,null,null,null,null,null,null,null,null,null,null,null,null,null,null,null,null,null,null,null,null,null,null,null,null,null,null,null,null,null,null,null,null,null,null,null,false,true,0,411,{"$f":"SMALL(IF($BB$30:$BB$32<>BC460,\"\",ROW($BB$30:$BB$32)),BD460)-29","v":{"$error":"#NUM!"}},{"$error":"#NUM!"},{"$error":"#NUM!"},0,411,{"$f":"SMALL(IF($BJ$30:$BJ$32<>BH460,\"\",ROW($BJ$30:$BJ$32)),BI460)-29","v":{"$error":"#NUM!"}},{"$error":"#NUM!"},{"$error":"#NUM!"},true,false,{"$error":"#NUM!"}]
[null,null,null,null,null,null,null,null,null,null,null,null,null,null,null,null,null,null,null,null,null,null,null,null,null,null,null,null,null,null,null,null,null,null,null,null,null,null,null,null,null,null,null,null,null,null,null,null,null,null,null,null,false,true,0,412,{"$f":"SMALL(IF($BB$30:$BB$32<>BC461,\"\",ROW($BB$30:$BB$32)),BD461)-29","v":{"$error":"#NUM!"}},{"$error":"#NUM!"},{"$error":"#NUM!"},0,412,{"$f":"SMALL(IF($BJ$30:$BJ$32<>BH461,\"\",ROW($BJ$30:$BJ$32)),BI461)-29","v":{"$error":"#NUM!"}},{"$error":"#NUM!"},{"$error":"#NUM!"},true,false,{"$error":"#NUM!"}]
[null,null,null,null,null,null,null,null,null,null,null,null,null,null,null,null,null,null,null,null,null,null,null,null,null,null,null,null,null,null,null,null,null,null,null,null,null,null,null,null,null,null,null,null,null,null,null,null,null,null,null,null,false,true,0,413,{"$f":"SMALL(IF($BB$30:$BB$32<>BC462,\"\",ROW($BB$30:$BB$32)),BD462)-29","v":{"$error":"#NUM!"}},{"$error":"#NUM!"},{"$error":"#NUM!"},0,413,{"$f":"SMALL(IF($BJ$30:$BJ$32<>BH462,\"\",ROW($BJ$30:$BJ$32)),BI462)-29","v":{"$error":"#NUM!"}},{"$error":"#NUM!"},{"$error":"#NUM!"},true,false,{"$error":"#NUM!"}]
[null,null,null,null,null,null,null,null,null,null,null,null,null,null,null,null,null,null,null,null,null,null,null,null,null,null,null,null,null,null,null,null,null,null,null,null,null,null,null,null,null,null,null,null,null,null,null,null,null,null,null,null,false,true,0,414,{"$f":"SMALL(IF($BB$30:$BB$32<>BC463,\"\",ROW($BB$30:$BB$32)),BD463)-29","v":{"$error":"#NUM!"}},{"$error":"#NUM!"},{"$error":"#NUM!"},0,414,{"$f":"SMALL(IF($BJ$30:$BJ$32<>BH463,\"\",ROW($BJ$30:$BJ$32)),BI463)-29","v":{"$error":"#NUM!"}},{"$error":"#NUM!"},{"$error":"#NUM!"},true,false,{"$error":"#NUM!"}]
[null,null,null,null,null,null,null,null,null,null,null,null,null,null,null,null,null,null,null,null,null,null,null,null,null,null,null,null,null,null,null,null,null,null,null,null,null,null,null,null,null,null,null,null,null,null,null,null,null,null,null,null,false,true,0,415,{"$f":"SMALL(IF($BB$30:$BB$32<>BC464,\"\",ROW($BB$30:$BB$32)),BD464)-29","v":{"$error":"#NUM!"}},{"$error":"#NUM!"},{"$error":"#NUM!"},0,415,{"$f":"SMALL(IF($BJ$30:$BJ$32<>BH464,\"\",ROW($BJ$30:$BJ$32)),BI464)-29","v":{"$error":"#NUM!"}},{"$error":"#NUM!"},{"$error":"#NUM!"},true,false,{"$error":"#NUM!"}]
[null,null,null,null,null,null,null,null,null,null,null,null,null,null,null,null,null,null,null,null,null,null,null,null,null,null,null,null,null,null,null,null,null,null,null,null,null,null,null,null,null,null,null,null,null,null,null,null,null,null,null,null,false,true,0,416,{"$f":"SMALL(IF($BB$30:$BB$32<>BC465,\"\",ROW($BB$30:$BB$32)),BD465)-29","v":{"$error":"#NUM!"}},{"$error":"#NUM!"},{"$error":"#NUM!"},0,416,{"$f":"SMALL(IF($BJ$30:$BJ$32<>BH465,\"\",ROW($BJ$30:$BJ$32)),BI465)-29","v":{"$error":"#NUM!"}},{"$error":"#NUM!"},{"$error":"#NUM!"},true,false,{"$error":"#NUM!"}]
[null,null,null,null,null,null,null,null,null,null,null,null,null,null,null,null,null,null,null,null,null,null,null,null,null,null,null,null,null,null,null,null,null,null,null,null,null,null,null,null,null,null,null,null,null,null,null,null,null,null,null,null,false,true,0,417,{"$f":"SMALL(IF($BB$30:$BB$32<>BC466,\"\",ROW($BB$30:$BB$32)),BD466)-29","v":{"$error":"#NUM!"}},{"$error":"#NUM!"},{"$error":"#NUM!"},0,417,{"$f":"SMALL(IF($BJ$30:$BJ$32<>BH466,\"\",ROW($BJ$30:$BJ$32)),BI466)-29","v":{"$error":"#NUM!"}},{"$error":"#NUM!"},{"$error":"#NUM!"},true,false,{"$error":"#NUM!"}]
[null,null,null,null,null,null,null,null,null,null,null,null,null,null,null,null,null,null,null,null,null,null,null,null,null,null,null,null,null,null,null,null,null,null,null,null,null,null,null,null,null,null,null,null,null,null,null,null,null,null,null,null,false,true,0,418,{"$f":"SMALL(IF($BB$30:$BB$32<>BC467,\"\",ROW($BB$30:$BB$32)),BD467)-29","v":{"$error":"#NUM!"}},{"$error":"#NUM!"},{"$error":"#NUM!"},0,418,{"$f":"SMALL(IF($BJ$30:$BJ$32<>BH467,\"\",ROW($BJ$30:$BJ$32)),BI467)-29","v":{"$error":"#NUM!"}},{"$error":"#NUM!"},{"$error":"#NUM!"},true,false,{"$error":"#NUM!"}]
[null,null,null,null,null,null,null,null,null,null,null,null,null,null,null,null,null,null,null,null,null,null,null,null,null,null,null,null,null,null,null,null,null,null,null,null,null,null,null,null,null,null,null,null,null,null,null,null,null,null,null,null,false,true,0,419,{"$f":"SMALL(IF($BB$30:$BB$32<>BC468,\"\",ROW($BB$30:$BB$32)),BD468)-29","v":{"$error":"#NUM!"}},{"$error":"#NUM!"},{"$error":"#NUM!"},0,419,{"$f":"SMALL(IF($BJ$30:$BJ$32<>BH468,\"\",ROW($BJ$30:$BJ$32)),BI468)-29","v":{"$error":"#NUM!"}},{"$error":"#NUM!"},{"$error":"#NUM!"},true,false,{"$error":"#NUM!"}]
[null,null,null,null,null,null,null,null,null,null,null,null,null,null,null,null,null,null,null,null,null,null,null,null,null,null,null,null,null,null,null,null,null,null,null,null,null,null,null,null,null,null,null,null,null,null,null,null,null,null,null,null,false,true,0,420,{"$f":"SMALL(IF($BB$30:$BB$32<>BC469,\"\",ROW($BB$30:$BB$32)),BD469)-29","v":{"$error":"#NUM!"}},{"$error":"#NUM!"},{"$error":"#NUM!"},0,420,{"$f":"SMALL(IF($BJ$30:$BJ$32<>BH469,\"\",ROW($BJ$30:$BJ$32)),BI469)-29","v":{"$error":"#NUM!"}},{"$error":"#NUM!"},{"$error":"#NUM!"},true,false,{"$error":"#NUM!"}]
[null,null,null,null,null,null,null,null,null,null,null,null,null,null,null,null,null,null,null,null,null,null,null,null,null,null,null,null,null,null,null,null,null,null,null,null,null,null,null,null,null,null,null,null,null,null,null,null,null,null,null,null,false,true,0,421,{"$f":"SMALL(IF($BB$30:$BB$32<>BC470,\"\",ROW($BB$30:$BB$32)),BD470)-29","v":{"$error":"#NUM!"}},{"$error":"#NUM!"},{"$error":"#NUM!"},0,421,{"$f":"SMALL(IF($BJ$30:$BJ$32<>BH470,\"\",ROW($BJ$30:$BJ$32)),BI470)-29","v":{"$error":"#NUM!"}},{"$error":"#NUM!"},{"$error":"#NUM!"},true,false,{"$error":"#NUM!"}]
[null,null,null,null,null,null,null,null,null,null,null,null,null,null,null,null,null,null,null,null,null,null,null,null,null,null,null,null,null,null,null,null,null,null,null,null,null,null,null,null,null,null,null,null,null,null,null,null,null,null,null,null,false,true,0,422,{"$f":"SMALL(IF($BB$30:$BB$32<>BC471,\"\",ROW($BB$30:$BB$32)),BD471)-29","v":{"$error":"#NUM!"}},{"$error":"#NUM!"},{"$error":"#NUM!"},0,422,{"$f":"SMALL(IF($BJ$30:$BJ$32<>BH471,\"\",ROW($BJ$30:$BJ$32)),BI471)-29","v":{"$error":"#NUM!"}},{"$error":"#NUM!"},{"$error":"#NUM!"},true,false,{"$error":"#NUM!"}]
[null,null,null,null,null,null,null,null,null,null,null,null,null,null,null,null,null,null,null,null,null,null,null,null,null,null,null,null,null,null,null,null,null,null,null,null,null,null,null,null,null,null,null,null,null,null,null,null,null,null,null,null,false,true,0,423,{"$f":"SMALL(IF($BB$30:$BB$32<>BC472,\"\",ROW($BB$30:$BB$32)),BD472)-29","v":{"$error":"#NUM!"}},{"$error":"#NUM!"},{"$error":"#NUM!"},0,423,{"$f":"SMALL(IF($BJ$30:$BJ$32<>BH472,\"\",ROW($BJ$30:$BJ$32)),BI472)-29","v":{"$error":"#NUM!"}},{"$error":"#NUM!"},{"$error":"#NUM!"},true,false,{"$error":"#NUM!"}]
[null,null,null,null,null,null,null,null,null,null,null,null,null,null,null,null,null,null,null,null,null,null,null,null,null,null,null,null,null,null,null,null,null,null,null,null,null,null,null,null,null,null,null,null,null,null,null,null,null,null,null,null,false,true,0,424,{"$f":"SMALL(IF($BB$30:$BB$32<>BC473,\"\",ROW($BB$30:$BB$32)),BD473)-29","v":{"$error":"#NUM!"}},{"$error":"#NUM!"},{"$error":"#NUM!"},0,424,{"$f":"SMALL(IF($BJ$30:$BJ$32<>BH473,\"\",ROW($BJ$30:$BJ$32)),BI473)-29","v":{"$error":"#NUM!"}},{"$error":"#NUM!"},{"$error":"#NUM!"},true,false,{"$error":"#NUM!"}]
[null,null,null,null,null,null,null,null,null,null,null,null,null,null,null,null,null,null,null,null,null,null,null,null,null,null,null,null,null,null,null,null,null,null,null,null,null,null,null,null,null,null,null,null,null,null,null,null,null,null,null,null,false,true,0,425,{"$f":"SMALL(IF($BB$30:$BB$32<>BC474,\"\",ROW($BB$30:$BB$32)),BD474)-29","v":{"$error":"#NUM!"}},{"$error":"#NUM!"},{"$error":"#NUM!"},0,425,{"$f":"SMALL(IF($BJ$30:$BJ$32<>BH474,\"\",ROW($BJ$30:$BJ$32)),BI474)-29","v":{"$error":"#NUM!"}},{"$error":"#NUM!"},{"$error":"#NUM!"},true,false,{"$error":"#NUM!"}]
[null,null,null,null,null,null,null,null,null,null,null,null,null,null,null,null,null,null,null,null,null,null,null,null,null,null,null,null,null,null,null,null,null,null,null,null,null,null,null,null,null,null,null,null,null,null,null,null,null,null,null,null,false,true,0,426,{"$f":"SMALL(IF($BB$30:$BB$32<>BC475,\"\",ROW($BB$30:$BB$32)),BD475)-29","v":{"$error":"#NUM!"}},{"$error":"#NUM!"},{"$error":"#NUM!"},0,426,{"$f":"SMALL(IF($BJ$30:$BJ$32<>BH475,\"\",ROW($BJ$30:$BJ$32)),BI475)-29","v":{"$error":"#NUM!"}},{"$error":"#NUM!"},{"$error":"#NUM!"},true,false,{"$error":"#NUM!"}]
[null,null,null,null,null,null,null,null,null,null,null,null,null,null,null,null,null,null,null,null,null,null,null,null,null,null,null,null,null,null,null,null,null,null,null,null,null,null,null,null,null,null,null,null,null,null,null,null,null,null,null,null,false,true,0,427,{"$f":"SMALL(IF($BB$30:$BB$32<>BC476,\"\",ROW($BB$30:$BB$32)),BD476)-29","v":{"$error":"#NUM!"}},{"$error":"#NUM!"},{"$error":"#NUM!"},0,427,{"$f":"SMALL(IF($BJ$30:$BJ$32<>BH476,\"\",ROW($BJ$30:$BJ$32)),BI476)-29","v":{"$error":"#NUM!"}},{"$error":"#NUM!"},{"$error":"#NUM!"},true,false,{"$error":"#NUM!"}]
[null,null,null,null,null,null,null,null,null,null,null,null,null,null,null,null,null,null,null,null,null,null,null,null,null,null,null,null,null,null,null,null,null,null,null,null,null,null,null,null,null,null,null,null,null,null,null,null,null,null,null,null,false,true,0,428,{"$f":"SMALL(IF($BB$30:$BB$32<>BC477,\"\",ROW($BB$30:$BB$32)),BD477)-29","v":{"$error":"#NUM!"}},{"$error":"#NUM!"},{"$error":"#NUM!"},0,428,{"$f":"SMALL(IF($BJ$30:$BJ$32<>BH477,\"\",ROW($BJ$30:$BJ$32)),BI477)-29","v":{"$error":"#NUM!"}},{"$error":"#NUM!"},{"$error":"#NUM!"},true,false,{"$error":"#NUM!"}]
[null,null,null,null,null,null,null,null,null,null,null,null,null,null,null,null,null,null,null,null,null,null,null,null,null,null,null,null,null,null,null,null,null,null,null,null,null,null,null,null,null,null,null,null,null,null,null,null,null,null,null,null,false,true,0,429,{"$f":"SMALL(IF($BB$30:$BB$32<>BC478,\"\",ROW($BB$30:$BB$32)),BD478)-29","v":{"$error":"#NUM!"}},{"$error":"#NUM!"},{"$error":"#NUM!"},0,429,{"$f":"SMALL(IF($BJ$30:$BJ$32<>BH478,\"\",ROW($BJ$30:$BJ$32)),BI478)-29","v":{"$error":"#NUM!"}},{"$error":"#NUM!"},{"$error":"#NUM!"},true,false,{"$error":"#NUM!"}]
[null,null,null,null,null,null,null,null,null,null,null,null,null,null,null,null,null,null,null,null,null,null,null,null,null,null,null,null,null,null,null,null,null,null,null,null,null,null,null,null,null,null,null,null,null,null,null,null,null,null,null,null,false,true,0,430,{"$f":"SMALL(IF($BB$30:$BB$32<>BC479,\"\",ROW($BB$30:$BB$32)),BD479)-29","v":{"$error":"#NUM!"}},{"$error":"#NUM!"},{"$error":"#NUM!"},0,430,{"$f":"SMALL(IF($BJ$30:$BJ$32<>BH479,\"\",ROW($BJ$30:$BJ$32)),BI479)-29","v":{"$error":"#NUM!"}},{"$error":"#NUM!"},{"$error":"#NUM!"},true,false,{"$error":"#NUM!"}]
[null,null,null,null,null,null,null,null,null,null,null,null,null,null,null,null,null,null,null,null,null,null,null,null,null,null,null,null,null,null,null,null,null,null,null,null,null,null,null,null,null,null,null,null,null,null,null,null,null,null,null,null,false,true,0,431,{"$f":"SMALL(IF($BB$30:$BB$32<>BC480,\"\",ROW($BB$30:$BB$32)),BD480)-29","v":{"$error":"#NUM!"}},{"$error":"#NUM!"},{"$error":"#NUM!"},0,431,{"$f":"SMALL(IF($BJ$30:$BJ$32<>BH480,\"\",ROW($BJ$30:$BJ$32)),BI480)-29","v":{"$error":"#NUM!"}},{"$error":"#NUM!"},{"$error":"#NUM!"},true,false,{"$error":"#NUM!"}]
[null,null,null,null,null,null,null,null,null,null,null,null,null,null,null,null,null,null,null,null,null,null,null,null,null,null,null,null,null,null,null,null,null,null,null,null,null,null,null,null,null,null,null,null,null,null,null,null,null,null,null,null,false,true,0,432,{"$f":"SMALL(IF($BB$30:$BB$32<>BC481,\"\",ROW($BB$30:$BB$32)),BD481)-29","v":{"$error":"#NUM!"}},{"$error":"#NUM!"},{"$error":"#NUM!"},0,432,{"$f":"SMALL(IF($BJ$30:$BJ$32<>BH481,\"\",ROW($BJ$30:$BJ$32)),BI481)-29","v":{"$error":"#NUM!"}},{"$error":"#NUM!"},{"$error":"#NUM!"},true,false,{"$error":"#NUM!"}]
[null,null,null,null,null,null,null,null,null,null,null,null,null,null,null,null,null,null,null,null,null,null,null,null,null,null,null,null,null,null,null,null,null,null,null,null,null,null,null,null,null,null,null,null,null,null,null,null,null,null,null,null,false,true,0,433,{"$f":"SMALL(IF($BB$30:$BB$32<>BC482,\"\",ROW($BB$30:$BB$32)),BD482)-29","v":{"$error":"#NUM!"}},{"$error":"#NUM!"},{"$error":"#NUM!"},0,433,{"$f":"SMALL(IF($BJ$30:$BJ$32<>BH482,\"\",ROW($BJ$30:$BJ$32)),BI482)-29","v":{"$error":"#NUM!"}},{"$error":"#NUM!"},{"$error":"#NUM!"},true,false,{"$error":"#NUM!"}]
[null,null,null,null,null,null,null,null,null,null,null,null,null,null,null,null,null,null,null,null,null,null,null,null,null,null,null,null,null,null,null,null,null,null,null,null,null,null,null,null,null,null,null,null,null,null,null,null,null,null,null,null,false,true,0,434,{"$f":"SMALL(IF($BB$30:$BB$32<>BC483,\"\",ROW($BB$30:$BB$32)),BD483)-29","v":{"$error":"#NUM!"}},{"$error":"#NUM!"},{"$error":"#NUM!"},0,434,{"$f":"SMALL(IF($BJ$30:$BJ$32<>BH483,\"\",ROW($BJ$30:$BJ$32)),BI483)-29","v":{"$error":"#NUM!"}},{"$error":"#NUM!"},{"$error":"#NUM!"},true,false,{"$error":"#NUM!"}]
[null,null,null,null,null,null,null,null,null,null,null,null,null,null,null,null,null,null,null,null,null,null,null,null,null,null,null,null,null,null,null,null,null,null,null,null,null,null,null,null,null,null,null,null,null,null,null,null,null,null,null,null,false,true,0,435,{"$f":"SMALL(IF($BB$30:$BB$32<>BC484,\"\",ROW($BB$30:$BB$32)),BD484)-29","v":{"$error":"#NUM!"}},{"$error":"#NUM!"},{"$error":"#NUM!"},0,435,{"$f":"SMALL(IF($BJ$30:$BJ$32<>BH484,\"\",ROW($BJ$30:$BJ$32)),BI484)-29","v":{"$error":"#NUM!"}},{"$error":"#NUM!"},{"$error":"#NUM!"},true,false,{"$error":"#NUM!"}]
[null,null,null,null,null,null,null,null,null,null,null,null,null,null,null,null,null,null,null,null,null,null,null,null,null,null,null,null,null,null,null,null,null,null,null,null,null,null,null,null,null,null,null,null,null,null,null,null,null,null,null,null,false,true,0,436,{"$f":"SMALL(IF($BB$30:$BB$32<>BC485,\"\",ROW($BB$30:$BB$32)),BD485)-29","v":{"$error":"#NUM!"}},{"$error":"#NUM!"},{"$error":"#NUM!"},0,436,{"$f":"SMALL(IF($BJ$30:$BJ$32<>BH485,\"\",ROW($BJ$30:$BJ$32)),BI485)-29","v":{"$error":"#NUM!"}},{"$error":"#NUM!"},{"$error":"#NUM!"},true,false,{"$error":"#NUM!"}]
[null,null,null,null,null,null,null,null,null,null,null,null,null,null,null,null,null,null,null,null,null,null,null,null,null,null,null,null,null,null,null,null,null,null,null,null,null,null,null,null,null,null,null,null,null,null,null,null,null,null,null,null,false,true,0,437,{"$f":"SMALL(IF($BB$30:$BB$32<>BC486,\"\",ROW($BB$30:$BB$32)),BD486)-29","v":{"$error":"#NUM!"}},{"$error":"#NUM!"},{"$error":"#NUM!"},0,437,{"$f":"SMALL(IF($BJ$30:$BJ$32<>BH486,\"\",ROW($BJ$30:$BJ$32)),BI486)-29","v":{"$error":"#NUM!"}},{"$error":"#NUM!"},{"$error":"#NUM!"},true,false,{"$error":"#NUM!"}]
[null,null,null,null,null,null,null,null,null,null,null,null,null,null,null,null,null,null,null,null,null,null,null,null,null,null,null,null,null,null,null,null,null,null,null,null,null,null,null,null,null,null,null,null,null,null,null,null,null,null,null,null,false,true,0,438,{"$f":"SMALL(IF($BB$30:$BB$32<>BC487,\"\",ROW($BB$30:$BB$32)),BD487)-29","v":{"$error":"#NUM!"}},{"$error":"#NUM!"},{"$error":"#NUM!"},0,438,{"$f":"SMALL(IF($BJ$30:$BJ$32<>BH487,\"\",ROW($BJ$30:$BJ$32)),BI487)-29","v":{"$error":"#NUM!"}},{"$error":"#NUM!"},{"$error":"#NUM!"},true,false,{"$error":"#NUM!"}]
[null,null,null,null,null,null,null,null,null,null,null,null,null,null,null,null,null,null,null,null,null,null,null,null,null,null,null,null,null,null,null,null,null,null,null,null,null,null,null,null,null,null,null,null,null,null,null,null,null,null,null,null,false,true,0,439,{"$f":"SMALL(IF($BB$30:$BB$32<>BC488,\"\",ROW($BB$30:$BB$32)),BD488)-29","v":{"$error":"#NUM!"}},{"$error":"#NUM!"},{"$error":"#NUM!"},0,439,{"$f":"SMALL(IF($BJ$30:$BJ$32<>BH488,\"\",ROW($BJ$30:$BJ$32)),BI488)-29","v":{"$error":"#NUM!"}},{"$error":"#NUM!"},{"$error":"#NUM!"},true,false,{"$error":"#NUM!"}]
[null,null,null,null,null,null,null,null,null,null,null,null,null,null,null,null,null,null,null,null,null,null,null,null,null,null,null,null,null,null,null,null,null,null,null,null,null,null,null,null,null,null,null,null,null,null,null,null,null,null,null,null,false,true,0,440,{"$f":"SMALL(IF($BB$30:$BB$32<>BC489,\"\",ROW($BB$30:$BB$32)),BD489)-29","v":{"$error":"#NUM!"}},{"$error":"#NUM!"},{"$error":"#NUM!"},0,440,{"$f":"SMALL(IF($BJ$30:$BJ$32<>BH489,\"\",ROW($BJ$30:$BJ$32)),BI489)-29","v":{"$error":"#NUM!"}},{"$error":"#NUM!"},{"$error":"#NUM!"},true,false,{"$error":"#NUM!"}]
[null,null,null,null,null,null,null,null,null,null,null,null,null,null,null,null,null,null,null,null,null,null,null,null,null,null,null,null,null,null,null,null,null,null,null,null,null,null,null,null,null,null,null,null,null,null,null,null,null,null,null,null,false,true,0,441,{"$f":"SMALL(IF($BB$30:$BB$32<>BC490,\"\",ROW($BB$30:$BB$32)),BD490)-29","v":{"$error":"#NUM!"}},{"$error":"#NUM!"},{"$error":"#NUM!"},0,441,{"$f":"SMALL(IF($BJ$30:$BJ$32<>BH490,\"\",ROW($BJ$30:$BJ$32)),BI490)-29","v":{"$error":"#NUM!"}},{"$error":"#NUM!"},{"$error":"#NUM!"},true,false,{"$error":"#NUM!"}]
[null,null,null,null,null,null,null,null,null,null,null,null,null,null,null,null,null,null,null,null,null,null,null,null,null,null,null,null,null,null,null,null,null,null,null,null,null,null,null,null,null,null,null,null,null,null,null,null,null,null,null,null,false,true,0,442,{"$f":"SMALL(IF($BB$30:$BB$32<>BC491,\"\",ROW($BB$30:$BB$32)),BD491)-29","v":{"$error":"#NUM!"}},{"$error":"#NUM!"},{"$error":"#NUM!"},0,442,{"$f":"SMALL(IF($BJ$30:$BJ$32<>BH491,\"\",ROW($BJ$30:$BJ$32)),BI491)-29","v":{"$error":"#NUM!"}},{"$error":"#NUM!"},{"$error":"#NUM!"},true,false,{"$error":"#NUM!"}]
[null,null,null,null,null,null,null,null,null,null,null,null,null,null,null,null,null,null,null,null,null,null,null,null,null,null,null,null,null,null,null,null,null,null,null,null,null,null,null,null,null,null,null,null,null,null,null,null,null,null,null,null,false,true,0,443,{"$f":"SMALL(IF($BB$30:$BB$32<>BC492,\"\",ROW($BB$30:$BB$32)),BD492)-29","v":{"$error":"#NUM!"}},{"$error":"#NUM!"},{"$error":"#NUM!"},0,443,{"$f":"SMALL(IF($BJ$30:$BJ$32<>BH492,\"\",ROW($BJ$30:$BJ$32)),BI492)-29","v":{"$error":"#NUM!"}},{"$error":"#NUM!"},{"$error":"#NUM!"},true,false,{"$error":"#NUM!"}]
[null,null,null,null,null,null,null,null,null,null,null,null,null,null,null,null,null,null,null,null,null,null,null,null,null,null,null,null,null,null,null,null,null,null,null,null,null,null,null,null,null,null,null,null,null,null,null,null,null,null,null,null,false,true,0,444,{"$f":"SMALL(IF($BB$30:$BB$32<>BC493,\"\",ROW($BB$30:$BB$32)),BD493)-29","v":{"$error":"#NUM!"}},{"$error":"#NUM!"},{"$error":"#NUM!"},0,444,{"$f":"SMALL(IF($BJ$30:$BJ$32<>BH493,\"\",ROW($BJ$30:$BJ$32)),BI493)-29","v":{"$error":"#NUM!"}},{"$error":"#NUM!"},{"$error":"#NUM!"},true,false,{"$error":"#NUM!"}]
[null,null,null,null,null,null,null,null,null,null,null,null,null,null,null,null,null,null,null,null,null,null,null,null,null,null,null,null,null,null,null,null,null,null,null,null,null,null,null,null,null,null,null,null,null,null,null,null,null,null,null,null,false,true,0,445,{"$f":"SMALL(IF($BB$30:$BB$32<>BC494,\"\",ROW($BB$30:$BB$32)),BD494)-29","v":{"$error":"#NUM!"}},{"$error":"#NUM!"},{"$error":"#NUM!"},0,445,{"$f":"SMALL(IF($BJ$30:$BJ$32<>BH494,\"\",ROW($BJ$30:$BJ$32)),BI494)-29","v":{"$error":"#NUM!"}},{"$error":"#NUM!"},{"$error":"#NUM!"},true,false,{"$error":"#NUM!"}]
[null,null,null,null,null,null,null,null,null,null,null,null,null,null,null,null,null,null,null,null,null,null,null,null,null,null,null,null,null,null,null,null,null,null,null,null,null,null,null,null,null,null,null,null,null,null,null,null,null,null,null,null,false,true,0,446,{"$f":"SMALL(IF($BB$30:$BB$32<>BC495,\"\",ROW($BB$30:$BB$32)),BD495)-29","v":{"$error":"#NUM!"}},{"$error":"#NUM!"},{"$error":"#NUM!"},0,446,{"$f":"SMALL(IF($BJ$30:$BJ$32<>BH495,\"\",ROW($BJ$30:$BJ$32)),BI495)-29","v":{"$error":"#NUM!"}},{"$error":"#NUM!"},{"$error":"#NUM!"},true,false,{"$error":"#NUM!"}]
[null,null,null,null,null,null,null,null,null,null,null,null,null,null,null,null,null,null,null,null,null,null,null,null,null,null,null,null,null,null,null,null,null,null,null,null,null,null,null,null,null,null,null,null,null,null,null,null,null,null,null,null,false,true,0,447,{"$f":"SMALL(IF($BB$30:$BB$32<>BC496,\"\",ROW($BB$30:$BB$32)),BD496)-29","v":{"$error":"#NUM!"}},{"$error":"#NUM!"},{"$error":"#NUM!"},0,447,{"$f":"SMALL(IF($BJ$30:$BJ$32<>BH496,\"\",ROW($BJ$30:$BJ$32)),BI496)-29","v":{"$error":"#NUM!"}},{"$error":"#NUM!"},{"$error":"#NUM!"},true,false,{"$error":"#NUM!"}]
[null,null,null,null,null,null,null,null,null,null,null,null,null,null,null,null,null,null,null,null,null,null,null,null,null,null,null,null,null,null,null,null,null,null,null,null,null,null,null,null,null,null,null,null,null,null,null,null,null,null,null,null,false,true,0,448,{"$f":"SMALL(IF($BB$30:$BB$32<>BC497,\"\",ROW($BB$30:$BB$32)),BD497)-29","v":{"$error":"#NUM!"}},{"$error":"#NUM!"},{"$error":"#NUM!"},0,448,{"$f":"SMALL(IF($BJ$30:$BJ$32<>BH497,\"\",ROW($BJ$30:$BJ$32)),BI497)-29","v":{"$error":"#NUM!"}},{"$error":"#NUM!"},{"$error":"#NUM!"},true,false,{"$error":"#NUM!"}]
[null,null,null,null,null,null,null,null,null,null,null,null,null,null,null,null,null,null,null,null,null,null,null,null,null,null,null,null,null,null,null,null,null,null,null,null,null,null,null,null,null,null,null,null,null,null,null,null,null,null,null,null,false,true,{"$f":"MIN($BB$29:$BB$32)","v":0},449,{"$f":"SMALL(IF($BB$30:$BB$32<>BC498,\"\",ROW($BB$30:$BB$32)),BD498)-29","v":{"$error":"#NUM!"}},{"$f":"INDEX($BD$30:$BD$32,BE498)","v":{"$error":"#NUM!"}},{"$f":"INDEX($BG$30:$BG$32,BE498)","v":{"$error":"#NUM!"}},{"$f":"MAX($BJ$29:$BJ$32)","v":0},449,{"$f":"SMALL(IF($BJ$30:$BJ$32<>BH498,\"\",ROW($BJ$30:$BJ$32)),BI498)-29","v":{"$error":"#NUM!"}},{"$f":"INDEX($BL$30:$BL$32,BJ498)","v":{"$error":"#NUM!"}},{"$f":"INDEX($BO$30:$BO$32,BJ498)","v":{"$error":"#NUM!"}},true,false,{"$error":"#NUM!"}]
[null,null,null,null,null,null,null,null,null,null,null,null,null,null,null,null,null,null,null,null,null,null,null,null,null,null,null,null,null,null,null,null,null,null,null,null,null,null,null,null,null,null,null,null,null,null,null,null,null,null,null,null,{"$f":"IF(BB499=FALSE,BF499)","v":false},{"$f":"ISERR(BF499)","v":true},0,450,{"$f":"SMALL(IF($BB$30:$BB$32<>BC499,\"\",ROW($BB$30:$BB$32)),BD499)-29","v":{"$error":"#NUM!"}},{"$error":"#NUM!"},{"$error":"#NUM!"},0,450,{"$f":"SMALL(IF($BJ$30:$BJ$32<>BH499,\"\",ROW($BJ$30:$BJ$32)),BI499)-29","v":{"$error":"#NUM!"}},{"$error":"#NUM!"},{"$error":"#NUM!"},{"$f":"ISERR(BK499)","v":true},{"$f":"IF(BM499=FALSE,BK499)","v":false},{"$f":"BL499","v":{"$error":"#NUM!"}}]
[null,null,null,null,null,null,null,null,null,null,null,null,null,null,null,null,null,null,null,null,null,null,null,null,null,null,null,null,null,null,null,null,null,null,null,null,null,null,null,null,null,null,null,null,null,null,null,null,null,null,null,null,false,true,0,451,{"$f":"SMALL(IF($BB$30:$BB$32<>BC500,\"\",ROW($BB$30:$BB$32)),BD500)-29","v":{"$error":"#NUM!"}},{"$error":"#NUM!"},{"$error":"#NUM!"},0,451,{"$f":"SMALL(IF($BJ$30:$BJ$32<>BH500,\"\",ROW($BJ$30:$BJ$32)),BI500)-29","v":{"$error":"#NUM!"}},{"$error":"#NUM!"},{"$error":"#NUM!"},true,false,{"$error":"#NUM!"}]
[null,null,null,null,null,null,null,null,null,null,null,null,null,null,null,null,null,null,null,null,null,null,null,null,null,null,null,null,null,null,null,null,null,null,null,null,null,null,null,null,null,null,null,null,null,null,null,null,null,null,null,null,false,true,0,453,{"$f":"SMALL(IF($BB$30:$BB$32<>BC502,\"\",ROW($BB$30:$BB$32)),BD502)-29","v":{"$error":"#NUM!"}},{"$error":"#NUM!"},{"$error":"#NUM!"},0,453,{"$f":"SMALL(IF($BJ$30:$BJ$32<>BH502,\"\",ROW($BJ$30:$BJ$32)),BI502)-29","v":{"$error":"#NUM!"}},{"$error":"#NUM!"},{"$error":"#NUM!"},true,false,{"$error":"#NUM!"}]
[null,null,null,null,null,null,null,null,null,null,null,null,null,null,null,null,null,null,null,null,null,null,null,null,null,null,null,null,null,null,null,null,null,null,null,null,null,null,null,null,null,null,null,null,null,null,null,null,null,null,null,null,false,true,0,455,{"$f":"SMALL(IF($BB$30:$BB$32<>BC504,\"\",ROW($BB$30:$BB$32)),BD504)-29","v":{"$error":"#NUM!"}},{"$error":"#NUM!"},{"$error":"#NUM!"},0,455,{"$f":"SMALL(IF($BJ$30:$BJ$32<>BH504,\"\",ROW($BJ$30:$BJ$32)),BI504)-29","v":{"$error":"#NUM!"}},{"$error":"#NUM!"},{"$error":"#NUM!"},true,false,{"$error":"#NUM!"}]
[null,null,null,null,null,null,null,null,null,null,null,null,null,null,null,null,null,null,null,null,null,null,null,null,null,null,null,null,null,null,null,null,null,null,null,null,null,null,null,null,null,null,null,null,null,null,null,null,null,null,null,null,false,true,0,458,{"$f":"SMALL(IF($BB$30:$BB$32<>BC507,\"\",ROW($BB$30:$BB$32)),BD507)-29","v":{"$error":"#NUM!"}},{"$error":"#NUM!"},{"$error":"#NUM!"},0,458,{"$f":"SMALL(IF($BJ$30:$BJ$32<>BH507,\"\",ROW($BJ$30:$BJ$32)),BI507)-29","v":{"$error":"#NUM!"}},{"$error":"#NUM!"},{"$error":"#NUM!"},true,false,{"$error":"#NUM!"}]
[null,null,null,null,null,null,null,null,null,null,null,null,null,null,null,null,null,null,null,null,null,null,null,null,null,null,null,null,null,null,null,null,null,null,null,null,null,null,null,null,null,null,null,null,null,null,null,null,null,null,null,null,false,true,0,461,{"$f":"SMALL(IF($BB$30:$BB$32<>BC510,\"\",ROW($BB$30:$BB$32)),BD510)-29","v":{"$error":"#NUM!"}},{"$error":"#NUM!"},{"$error":"#NUM!"},0,461,{"$f":"SMALL(IF($BJ$30:$BJ$32<>BH510,\"\",ROW($BJ$30:$BJ$32)),BI510)-29","v":{"$error":"#NUM!"}},{"$error":"#NUM!"},{"$error":"#NUM!"},true,false,{"$error":"#NUM!"}]
[null,null,null,null,null,null,null,null,null,null,null,null,null,null,null,null,null,null,null,null,null,null,null,null,null,null,null,null,null,null,null,null,null,null,null,null,null,null,null,null,null,null,null,null,null,null,null,null,null,null,null,null,false,true,0,464,{"$f":"SMALL(IF($BB$30:$BB$32<>BC513,\"\",ROW($BB$30:$BB$32)),BD513)-29","v":{"$error":"#NUM!"}},{"$error":"#NUM!"},{"$error":"#NUM!"},0,464,{"$f":"SMALL(IF($BJ$30:$BJ$32<>BH513,\"\",ROW($BJ$30:$BJ$32)),BI513)-29","v":{"$error":"#NUM!"}},{"$error":"#NUM!"},{"$error":"#NUM!"},true,false,{"$error":"#NUM!"}]
[null,null,null,null,null,null,null,null,null,null,null,null,null,null,null,null,null,null,null,null,null,null,null,null,null,null,null,null,null,null,null,null,null,null,null,null,null,null,null,null,null,null,null,null,null,null,null,null,null,null,null,null,false,true,0,465,{"$f":"SMALL(IF($BB$30:$BB$32<>BC514,\"\",ROW($BB$30:$BB$32)),BD514)-29","v":{"$error":"#NUM!"}},{"$error":"#NUM!"},{"$error":"#NUM!"},0,465,{"$f":"SMALL(IF($BJ$30:$BJ$32<>BH514,\"\",ROW($BJ$30:$BJ$32)),BI514)-29","v":{"$error":"#NUM!"}},{"$error":"#NUM!"},{"$error":"#NUM!"},true,false,{"$error":"#NUM!"}]
[null,null,null,null,null,null,null,null,null,null,null,null,null,null,null,null,null,null,null,null,null,null,null,null,null,null,null,null,null,null,null,null,null,null,null,null,null,null,null,null,null,null,null,null,null,null,null,null,null,null,null,null,false,true,0,467,{"$f":"SMALL(IF($BB$30:$BB$32<>BC516,\"\",ROW($BB$30:$BB$32)),BD516)-29","v":{"$error":"#NUM!"}},{"$error":"#NUM!"},{"$error":"#NUM!"},0,467,{"$f":"SMALL(IF($BJ$30:$BJ$32<>BH516,\"\",ROW($BJ$30:$BJ$32)),BI516)-29","v":{"$error":"#NUM!"}},{"$error":"#NUM!"},{"$error":"#NUM!"},true,false,{"$error":"#NUM!"}]
[null,null,null,null,null,null,null,null,null,null,null,null,null,null,null,null,null,null,null,null,null,null,null,null,null,null,null,null,null,null,null,null,null,null,null,null,null,null,null,null,null,null,null,null,null,null,null,null,null,null,null,null,false,true,0,470,{"$f":"SMALL(IF($BB$30:$BB$32<>BC519,\"\",ROW($BB$30:$BB$32)),BD519)-29","v":{"$error":"#NUM!"}},{"$error":"#NUM!"},{"$error":"#NUM!"},0,470,{"$f":"SMALL(IF($BJ$30:$BJ$32<>BH519,\"\",ROW($BJ$30:$BJ$32)),BI519)-29","v":{"$error":"#NUM!"}},{"$error":"#NUM!"},{"$error":"#NUM!"},true,false,{"$error":"#NUM!"}]
[null,null,null,null,null,null,null,null,null,null,null,null,null,null,null,null,null,null,null,null,null,null,null,null,null,null,null,null,null,null,null,null,null,null,null,null,null,null,null,null,null,null,null,null,null,null,null,null,null,null,null,null,false,true,0,474,{"$f":"SMALL(IF($BB$30:$BB$32<>BC523,\"\",ROW($BB$30:$BB$32)),BD523)-29","v":{"$error":"#NUM!"}},{"$error":"#NUM!"},{"$error":"#NUM!"},0,474,{"$f":"SMALL(IF($BJ$30:$BJ$32<>BH523,\"\",ROW($BJ$30:$BJ$32)),BI523)-29","v":{"$error":"#NUM!"}},{"$error":"#NUM!"},{"$error":"#NUM!"},true,false,{"$error":"#NUM!"}]
[null,null,null,null,null,null,null,null,null,null,null,null,null,null,null,null,null,null,null,null,null,null,null,null,null,null,null,null,null,null,null,null,null,null,null,null,null,null,null,null,null,null,null,null,null,null,null,null,null,null,null,null,false,true,0,476,{"$f":"SMALL(IF($BB$30:$BB$32<>BC525,\"\",ROW($BB$30:$BB$32)),BD525)-29","v":{"$error":"#NUM!"}},{"$error":"#NUM!"},{"$error":"#NUM!"},0,476,{"$f":"SMALL(IF($BJ$30:$BJ$32<>BH525,\"\",ROW($BJ$30:$BJ$32)),BI525)-29","v":{"$error":"#NUM!"}},{"$error":"#NUM!"},{"$error":"#NUM!"},true,false,{"$error":"#NUM!"}]
[null,null,null,null,null,null,null,null,null,null,null,null,null,null,null,null,null,null,null,null,null,null,null,null,null,null,null,null,null,null,null,null,null,null,null,null,null,null,null,null,null,null,null,null,null,null,null,null,null,null,null,null,false,true,0,479,{"$f":"SMALL(IF($BB$30:$BB$32<>BC528,\"\",ROW($BB$30:$BB$32)),BD528)-29","v":{"$error":"#NUM!"}},{"$error":"#NUM!"},{"$error":"#NUM!"},0,479,{"$f":"SMALL(IF($BJ$30:$BJ$32<>BH528,\"\",ROW($BJ$30:$BJ$32)),BI528)-29","v":{"$error":"#NUM!"}},{"$error":"#NUM!"},{"$error":"#NUM!"},true,false,{"$error":"#NUM!"}]
[null,null,null,null,null,null,null,null,null,null,null,null,null,null,null,null,null,null,null,null,null,null,null,null,null,null,null,null,null,null,null,null,null,null,null,null,null,null,null,null,null,null,null,null,null,null,null,null,null,null,null,null,false,true,0,481,{"$f":"SMALL(IF($BB$30:$BB$32<>BC530,\"\",ROW($BB$30:$BB$32)),BD530)-29","v":{"$error":"#NUM!"}},{"$error":"#NUM!"},{"$error":"#NUM!"},0,481,{"$f":"SMALL(IF($BJ$30:$BJ$32<>BH530,\"\",ROW($BJ$30:$BJ$32)),BI530)-29","v":{"$error":"#NUM!"}},{"$error":"#NUM!"},{"$error":"#NUM!"},true,false,{"$error":"#NUM!"}]
[null,null,null,null,null,null,null,null,null,null,null,null,null,null,null,null,null,null,null,null,null,null,null,null,null,null,null,null,null,null,null,null,null,null,null,null,null,null,null,null,null,null,null,null,null,null,null,null,null,null,null,null,false,true,0,485,{"$f":"SMALL(IF($BB$30:$BB$32<>BC534,\"\",ROW($BB$30:$BB$32)),BD534)-29","v":{"$error":"#NUM!"}},{"$error":"#NUM!"},{"$error":"#NUM!"},0,485,{"$f":"SMALL(IF($BJ$30:$BJ$32<>BH534,\"\",ROW($BJ$30:$BJ$32)),BI534)-29","v":{"$error":"#NUM!"}},{"$error":"#NUM!"},{"$error":"#NUM!"},true,false,{"$error":"#NUM!"}]
[null,null,null,null,null,null,null,null,null,null,null,null,null,null,null,null,null,null,null,null,null,null,null,null,null,null,null,null,null,null,null,null,null,null,null,null,null,null,null,null,null,null,null,null,null,null,null,null,null,null,null,null,false,true,0,488,{"$f":"SMALL(IF($BB$30:$BB$32<>BC537,\"\",ROW($BB$30:$BB$32)),BD537)-29","v":{"$error":"#NUM!"}},{"$error":"#NUM!"},{"$error":"#NUM!"},0,488,{"$f":"SMALL(IF($BJ$30:$BJ$32<>BH537,\"\",ROW($BJ$30:$BJ$32)),BI537)-29","v":{"$error":"#NUM!"}},{"$error":"#NUM!"},{"$error":"#NUM!"},true,false,{"$error":"#NUM!"}]
[null,null,null,null,null,null,null,null,null,null,null,null,null,null,null,null,null,null,null,null,null,null,null,null,null,null,null,null,null,null,null,null,null,null,null,null,null,null,null,null,null,null,null,null,null,null,null,null,null,null,null,null,false,true,0,490,{"$f":"SMALL(IF($BB$30:$BB$32<>BC539,\"\",ROW($BB$30:$BB$32)),BD539)-29","v":{"$error":"#NUM!"}},{"$error":"#NUM!"},{"$error":"#NUM!"},0,490,{"$f":"SMALL(IF($BJ$30:$BJ$32<>BH539,\"\",ROW($BJ$30:$BJ$32)),BI539)-29","v":{"$error":"#NUM!"}},{"$error":"#NUM!"},{"$error":"#NUM!"},true,false,{"$error":"#NUM!"}]
[null,null,null,null,null,null,null,null,null,null,null,null,null,null,null,null,null,null,null,null,null,null,null,null,null,null,null,null,null,null,null,null,null,null,null,null,null,null,null,null,null,null,null,null,null,null,null,null,null,null,null,null,false,true,0,491,{"$f":"SMALL(IF($BB$30:$BB$32<>BC540,\"\",ROW($BB$30:$BB$32)),BD540)-29","v":{"$error":"#NUM!"}},{"$error":"#NUM!"},{"$error":"#NUM!"},0,491,{"$f":"SMALL(IF($BJ$30:$BJ$32<>BH540,\"\",ROW($BJ$30:$BJ$32)),BI540)-29","v":{"$error":"#NUM!"}},{"$error":"#NUM!"},{"$error":"#NUM!"},true,false,{"$error":"#NUM!"}]
[null,null,null,null,null,null,null,null,null,null,null,null,null,null,null,null,null,null,null,null,null,null,null,null,null,null,null,null,null,null,null,null,null,null,null,null,null,null,null,null,null,null,null,null,null,null,null,null,null,null,null,null,false,true,0,495,{"$f":"SMALL(IF($BB$30:$BB$32<>BC544,\"\",ROW($BB$30:$BB$32)),BD544)-29","v":{"$error":"#NUM!"}},{"$error":"#NUM!"},{"$error":"#NUM!"},0,495,{"$f":"SMALL(IF($BJ$30:$BJ$32<>BH544,\"\",ROW($BJ$30:$BJ$32)),BI544)-29","v":{"$error":"#NUM!"}},{"$error":"#NUM!"},{"$error":"#NUM!"},true,false,{"$error":"#NUM!"}]
[null,null,null,null,null,null,null,null,null,null,null,null,null,null,null,null,null,null,null,null,null,null,null,null,null,null,null,null,null,null,null,null,null,null,null,null,null,null,null,null,null,null,null,null,null,null,null,null,null,null,null,null,false,true,0,497,{"$f":"SMALL(IF($BB$30:$BB$32<>BC546,\"\",ROW($BB$30:$BB$32)),BD546)-29","v":{"$error":"#NUM!"}},{"$error":"#NUM!"},{"$error":"#NUM!"},0,497,{"$f":"SMALL(IF($BJ$30:$BJ$32<>BH546,\"\",ROW($BJ$30:$BJ$32)),BI546)-29","v":{"$error":"#NUM!"}},{"$error":"#NUM!"},{"$error":"#NUM!"},true,false,{"$error":"#NUM!"}]
[null,null,null,null,null,null,null,null,null,null,null,null,null,null,null,null,null,null,null,null,null,null,null,null,null,null,null,null,null,null,null,null,null,null,null,null,null,null,null,null,null,null,null,null,null,null,null,null,null,null,null,null,false,true,0,500,{"$f":"SMALL(IF($BB$30:$BB$32<>BC549,\"\",ROW($BB$30:$BB$32)),BD549)-29","v":{"$error":"#NUM!"}},{"$error":"#NUM!"},{"$error":"#NUM!"},0,500,{"$f":"SMALL(IF($BJ$30:$BJ$32<>BH549,\"\",ROW($BJ$30:$BJ$32)),BI549)-29","v":{"$error":"#NUM!"}},{"$error":"#NUM!"},{"$error":"#NUM!"},true,false,{"$error":"#NUM!"}]
[null,null,null,null,null,null,null,null,null,null,null,null,null,null,null,null,null,null,null,null,null,null,null,null,null,null,null,null,null,null,null,null,null,null,null,null,null,null,null,null,null,null,null,null,null,null,null,null,null,null,null,null,false,true,0,504,{"$f":"SMALL(IF($BB$30:$BB$32<>BC553,\"\",ROW($BB$30:$BB$32)),BD553)-29","v":{"$error":"#NUM!"}},{"$error":"#NUM!"},{"$error":"#NUM!"},0,504,{"$f":"SMALL(IF($BJ$30:$BJ$32<>BH553,\"\",ROW($BJ$30:$BJ$32)),BI553)-29","v":{"$error":"#NUM!"}},{"$error":"#NUM!"},{"$error":"#NUM!"},true,false,{"$error":"#NUM!"}]
[null,null,null,null,null,null,null,null,null,null,null,null,null,null,null,null,null,null,null,null,null,null,null,null,null,null,null,null,null,null,null,null,null,null,null,null,null,null,null,null,null,null,null,null,null,null,null,null,null,null,null,null,false,true,0,506,{"$f":"SMALL(IF($BB$30:$BB$32<>BC555,\"\",ROW($BB$30:$BB$32)),BD555)-29","v":{"$error":"#NUM!"}},{"$error":"#NUM!"},{"$error":"#NUM!"},0,506,{"$f":"SMALL(IF($BJ$30:$BJ$32<>BH555,\"\",ROW($BJ$30:$BJ$32)),BI555)-29","v":{"$error":"#NUM!"}},{"$error":"#NUM!"},{"$error":"#NUM!"},true,false,{"$error":"#NUM!"}]
[null,null,null,null,null,null,null,null,null,null,null,null,null,null,null,null,null,null,null,null,null,null,null,null,null,null,null,null,null,null,null,null,null,null,null,null,null,null,null,null,null,null,null,null,null,null,null,null,null,null,null,null,false,true,0,507,{"$f":"SMALL(IF($BB$30:$BB$32<>BC556,\"\",ROW($BB$30:$BB$32)),BD556)-29","v":{"$error":"#NUM!"}},{"$error":"#NUM!"},{"$error":"#NUM!"},0,507,{"$f":"SMALL(IF($BJ$30:$BJ$32<>BH556,\"\",ROW($BJ$30:$BJ$32)),BI556)-29","v":{"$error":"#NUM!"}},{"$error":"#NUM!"},{"$error":"#NUM!"},true,false,{"$error":"#NUM!"}]
[null,null,null,null,null,null,null,null,null,null,null,null,null,null,null,null,null,null,null,null,null,null,null,null,null,null,null,null,null,null,null,null,null,null,null,null,null,null,null,null,null,null,null,null,null,null,null,null,null,null,null,null,false,true,0,511,{"$f":"SMALL(IF($BB$30:$BB$32<>BC560,\"\",ROW($BB$30:$BB$32)),BD560)-29","v":{"$error":"#NUM!"}},{"$error":"#NUM!"},{"$error":"#NUM!"},0,511,{"$f":"SMALL(IF($BJ$30:$BJ$32<>BH560,\"\",ROW($BJ$30:$BJ$32)),BI560)-29","v":{"$error":"#NUM!"}},{"$error":"#NUM!"},{"$error":"#NUM!"},true,false,{"$error":"#NUM!"}]
[null,null,null,null,null,null,null,null,null,null,null,null,null,null,null,null,null,null,null,null,null,null,null,null,null,null,null,null,null,null,null,null,null,null,null,null,null,null,null,null,null,null,null,null,null,null,null,null,null,null,null,null,false,true,0,512,{"$f":"SMALL(IF($BB$30:$BB$32<>BC561,\"\",ROW($BB$30:$BB$32)),BD561)-29","v":{"$error":"#NUM!"}},{"$error":"#NUM!"},{"$error":"#NUM!"},0,512,{"$f":"SMALL(IF($BJ$30:$BJ$32<>BH561,\"\",ROW($BJ$30:$BJ$32)),BI561)-29","v":{"$error":"#NUM!"}},{"$error":"#NUM!"},{"$error":"#NUM!"},true,false,{"$error":"#NUM!"}]
[null,null,null,null,null,null,null,null,null,null,null,null,null,null,null,null,null,null,null,null,null,null,null,null,null,null,null,null,null,null,null,null,null,null,null,null,null,null,null,null,null,null,null,null,null,null,null,null,null,null,null,null,false,true,0,516,{"$f":"SMALL(IF($BB$30:$BB$32<>BC565,\"\",ROW($BB$30:$BB$32)),BD565)-29","v":{"$error":"#NUM!"}},{"$error":"#NUM!"},{"$error":"#NUM!"},0,516,{"$f":"SMALL(IF($BJ$30:$BJ$32<>BH565,\"\",ROW($BJ$30:$BJ$32)),BI565)-29","v":{"$error":"#NUM!"}},{"$error":"#NUM!"},{"$error":"#NUM!"},true,false,{"$error":"#NUM!"}]
[null,null,null,null,null,null,null,null,null,null,null,null,null,null,null,null,null,null,null,null,null,null,null,null,null,null,null,null,null,null,null,null,null,null,null,null,null,null,null,null,null,null,null,null,null,null,null,null,null,null,null,null,false,true,0,518,{"$f":"SMALL(IF($BB$30:$BB$32<>BC567,\"\",ROW($BB$30:$BB$32)),BD567)-29","v":{"$error":"#NUM!"}},{"$error":"#NUM!"},{"$error":"#NUM!"},0,518,{"$f":"SMALL(IF($BJ$30:$BJ$32<>BH567,\"\",ROW($BJ$30:$BJ$32)),BI567)-29","v":{"$error":"#NUM!"}},{"$error":"#NUM!"},{"$error":"#NUM!"},true,false,{"$error":"#NUM!"}]
[null,null,null,null,null,null,null,null,null,null,null,null,null,null,null,null,null,null,null,null,null,null,null,null,null,null,null,null,null,null,null,null,null,null,null,null,null,null,null,null,null,null,null,null,null,null,null,null,null,null,null,null,false,true,0,521,{"$f":"SMALL(IF($BB$30:$BB$32<>BC570,\"\",ROW($BB$30:$BB$32)),BD570)-29","v":{"$error":"#NUM!"}},{"$error":"#NUM!"},{"$error":"#NUM!"},0,521,{"$f":"SMALL(IF($BJ$30:$BJ$32<>BH570,\"\",ROW($BJ$30:$BJ$32)),BI570)-29","v":{"$error":"#NUM!"}},{"$error":"#NUM!"},{"$error":"#NUM!"},true,false,{"$error":"#NUM!"}]
[null,null,null,null,null,null,null,null,null,null,null,null,null,null,null,null,null,null,null,null,null,null,null,null,null,null,null,null,null,null,null,null,null,null,null,null,null,null,null,null,null,null,null,null,null,null,null,null,null,null,null,null,false,true,0,525,{"$f":"SMALL(IF($BB$30:$BB$32<>BC574,\"\",ROW($BB$30:$BB$32)),BD574)-29","v":{"$error":"#NUM!"}},{"$error":"#NUM!"},{"$error":"#NUM!"},0,525,{"$f":"SMALL(IF($BJ$30:$BJ$32<>BH574,\"\",ROW($BJ$30:$BJ$32)),BI574)-29","v":{"$error":"#NUM!"}},{"$error":"#NUM!"},{"$error":"#NUM!"},true,false,{"$error":"#NUM!"}]
[null,null,null,null,null,null,null,null,null,null,null,null,null,null,null,null,null,null,null,null,null,null,null,null,null,null,null,null,null,null,null,null,null,null,null,null,null,null,null,null,null,null,null,null,null,null,null,null,null,null,null,null,false,true,0,527,{"$f":"SMALL(IF($BB$30:$BB$32<>BC576,\"\",ROW($BB$30:$BB$32)),BD576)-29","v":{"$error":"#NUM!"}},{"$error":"#NUM!"},{"$error":"#NUM!"},0,527,{"$f":"SMALL(IF($BJ$30:$BJ$32<>BH576,\"\",ROW($BJ$30:$BJ$32)),BI576)-29","v":{"$error":"#NUM!"}},{"$error":"#NUM!"},{"$error":"#NUM!"},true,false,{"$error":"#NUM!"}]
[null,null,null,null,null,null,null,null,null,null,null,null,null,null,null,null,null,null,null,null,null,null,null,null,null,null,null,null,null,null,null,null,null,null,null,null,null,null,null,null,null,null,null,null,null,null,null,null,null,null,null,null,false,true,0,528,{"$f":"SMALL(IF($BB$30:$BB$32<>BC577,\"\",ROW($BB$30:$BB$32)),BD577)-29","v":{"$error":"#NUM!"}},{"$error":"#NUM!"},{"$error":"#NUM!"},0,528,{"$f":"SMALL(IF($BJ$30:$BJ$32<>BH577,\"\",ROW($BJ$30:$BJ$32)),BI577)-29","v":{"$error":"#NUM!"}},{"$error":"#NUM!"},{"$error":"#NUM!"},true,false,{"$error":"#NUM!"}]
[null,null,null,null,null,null,null,null,null,null,null,null,null,null,null,null,null,null,null,null,null,null,null,null,null,null,null,null,null,null,null,null,null,null,null,null,null,null,null,null,null,null,null,null,null,null,null,null,null,null,null,null,false,true,0,531,{"$f":"SMALL(IF($BB$30:$BB$32<>BC580,\"\",ROW($BB$30:$BB$32)),BD580)-29","v":{"$error":"#NUM!"}},{"$error":"#NUM!"},{"$error":"#NUM!"},0,531,{"$f":"SMALL(IF($BJ$30:$BJ$32<>BH580,\"\",ROW($BJ$30:$BJ$32)),BI580)-29","v":{"$error":"#NUM!"}},{"$error":"#NUM!"},{"$error":"#NUM!"},true,false,{"$error":"#NUM!"}]
[null,null,null,null,null,null,null,null,null,null,null,null,null,null,null,null,null,null,null,null,null,null,null,null,null,null,null,null,null,null,null,null,null,null,null,null,null,null,null,null,null,null,null,null,null,null,null,null,null,null,null,null,false,true,0,534,{"$f":"SMALL(IF($BB$30:$BB$32<>BC583,\"\",ROW($BB$30:$BB$32)),BD583)-29","v":{"$error":"#NUM!"}},{"$error":"#NUM!"},{"$error":"#NUM!"},0,534,{"$f":"SMALL(IF($BJ$30:$BJ$32<>BH583,\"\",ROW($BJ$30:$BJ$32)),BI583)-29","v":{"$error":"#NUM!"}},{"$error":"#NUM!"},{"$error":"#NUM!"},true,false,{"$error":"#NUM!"}]
[null,null,null,null,null,null,null,null,null,null,null,null,null,null,null,null,null,null,null,null,null,null,null,null,null,null,null,null,null,null,null,null,null,null,null,null,null,null,null,null,null,null,null,null,null,null,null,null,null,null,null,null,false,true,0,537,{"$f":"SMALL(IF($BB$30:$BB$32<>BC586,\"\",ROW($BB$30:$BB$32)),BD586)-29","v":{"$error":"#NUM!"}},{"$error":"#NUM!"},{"$error":"#NUM!"},0,537,{"$f":"SMALL(IF($BJ$30:$BJ$32<>BH586,\"\",ROW($BJ$30:$BJ$32)),BI586)-29","v":{"$error":"#NUM!"}},{"$error":"#NUM!"},{"$error":"#NUM!"},true,false,{"$error":"#NUM!"}]
[null,null,null,null,null,null,null,null,null,null,null,null,null,null,null,null,null,null,null,null,null,null,null,null,null,null,null,null,null,null,null,null,null,null,null,null,null,null,null,null,null,null,null,null,null,null,null,null,null,null,null,null,false,true,0,540,{"$f":"SMALL(IF($BB$30:$BB$32<>BC589,\"\",ROW($BB$30:$BB$32)),BD589)-29","v":{"$error":"#NUM!"}},{"$error":"#NUM!"},{"$error":"#NUM!"},0,540,{"$f":"SMALL(IF($BJ$30:$BJ$32<>BH589,\"\",ROW($BJ$30:$BJ$32)),BI589)-29","v":{"$error":"#NUM!"}},{"$error":"#NUM!"},{"$error":"#NUM!"},true,false,{"$error":"#NUM!"}]
[null,null,null,null,null,null,null,null,null,null,null,null,null,null,null,null,null,null,null,null,null,null,null,null,null,null,null,null,null,null,null,null,null,null,null,null,null,null,null,null,null,null,null,null,null,null,null,null,null,null,null,null,false,true,0,543,{"$f":"SMALL(IF($BB$30:$BB$32<>BC592,\"\",ROW($BB$30:$BB$32)),BD592)-29","v":{"$error":"#NUM!"}},{"$error":"#NUM!"},{"$error":"#NUM!"},0,543,{"$f":"SMALL(IF($BJ$30:$BJ$32<>BH592,\"\",ROW($BJ$30:$BJ$32)),BI592)-29","v":{"$error":"#NUM!"}},{"$error":"#NUM!"},{"$error":"#NUM!"},true,false,{"$error":"#NUM!"}]
[null,null,null,null,null,null,null,null,null,null,null,null,null,null,null,null,null,null,null,null,null,null,null,null,null,null,null,null,null,null,null,null,null,null,null,null,null,null,null,null,null,null,null,null,null,null,null,null,null,null,null,null,false,true,0,546,{"$f":"SMALL(IF($BB$30:$BB$32<>BC595,\"\",ROW($BB$30:$BB$32)),BD595)-29","v":{"$error":"#NUM!"}},{"$error":"#NUM!"},{"$error":"#NUM!"},0,546,{"$f":"SMALL(IF($BJ$30:$BJ$32<>BH595,\"\",ROW($BJ$30:$BJ$32)),BI595)-29","v":{"$error":"#NUM!"}},{"$error":"#NUM!"},{"$error":"#NUM!"},true,false,{"$error":"#NUM!"}]
[null,null,null,null,null,null,null,null,null,null,null,null,null,null,null,null,null,null,null,null,null,null,null,null,null,null,null,null,null,null,null,null,null,null,null,null,null,null,null,null,null,null,null,null,null,null,null,null,null,null,null,null,false,true,0,549,{"$f":"SMALL(IF($BB$30:$BB$32<>BC598,\"\",ROW($BB$30:$BB$32)),BD598)-29","v":{"$error":"#NUM!"}},{"$error":"#NUM!"},{"$error":"#NUM!"},0,549,{"$f":"SMALL(IF($BJ$30:$BJ$32<>BH598,\"\",ROW($BJ$30:$BJ$32)),BI598)-29","v":{"$error":"#NUM!"}},{"$error":"#NUM!"},{"$error":"#NUM!"},true,false,{"$error":"#NUM!"}]
[null,null,null,null,null,null,null,null,null,null,null,null,null,null,null,null,null,null,null,null,null,null,null,null,null,null,null,null,null,null,null,null,null,null,null,null,null,null,null,null,null,null,null,null,null,null,null,null,null,null,null,null,false,true,0,550,{"$f":"SMALL(IF($BB$30:$BB$32<>BC599,\"\",ROW($BB$30:$BB$32)),BD599)-29","v":{"$error":"#NUM!"}},{"$error":"#NUM!"},{"$error":"#NUM!"},0,550,{"$f":"SMALL(IF($BJ$30:$BJ$32<>BH599,\"\",ROW($BJ$30:$BJ$32)),BI599)-29","v":{"$error":"#NUM!"}},{"$error":"#NUM!"},{"$error":"#NUM!"},true,false,{"$error":"#NUM!"}]
[null,null,null,null,null,null,null,null,null,null,null,null,null,null,null,null,null,null,null,null,null,null,null,null,null,null,null,null,null,null,null,null,null,null,null,null,null,null,null,null,null,null,null,null,null,null,null,null,null,null,null,null,false,true,0,552,{"$f":"SMALL(IF($BB$30:$BB$32<>BC601,\"\",ROW($BB$30:$BB$32)),BD601)-29","v":{"$error":"#NUM!"}},{"$error":"#NUM!"},{"$error":"#NUM!"},0,552,{"$f":"SMALL(IF($BJ$30:$BJ$32<>BH601,\"\",ROW($BJ$30:$BJ$32)),BI601)-29","v":{"$error":"#NUM!"}},{"$error":"#NUM!"},{"$error":"#NUM!"},true,false,{"$error":"#NUM!"}]
[null,null,null,null,null,null,null,null,null,null,null,null,null,null,null,null,null,null,null,null,null,null,null,null,null,null,null,null,null,null,null,null,null,null,null,null,null,null,null,null,null,null,null,null,null,null,null,null,null,null,null,null,false,true,0,555,{"$f":"SMALL(IF($BB$30:$BB$32<>BC604,\"\",ROW($BB$30:$BB$32)),BD604)-29","v":{"$error":"#NUM!"}},{"$error":"#NUM!"},{"$error":"#NUM!"},0,555,{"$f":"SMALL(IF($BJ$30:$BJ$32<>BH604,\"\",ROW($BJ$30:$BJ$32)),BI604)-29","v":{"$error":"#NUM!"}},{"$error":"#NUM!"},{"$error":"#NUM!"},true,false,{"$error":"#NUM!"}]
[null,null,null,null,null,null,null,null,null,null,null,null,null,null,null,null,null,null,null,null,null,null,null,null,null,null,null,null,null,null,null,null,null,null,null,null,null,null,null,null,null,null,null,null,null,null,null,null,null,null,null,null,false,true,0,559,{"$f":"SMALL(IF($BB$30:$BB$32<>BC608,\"\",ROW($BB$30:$BB$32)),BD608)-29","v":{"$error":"#NUM!"}},{"$error":"#NUM!"},{"$error":"#NUM!"},0,559,{"$f":"SMALL(IF($BJ$30:$BJ$32<>BH608,\"\",ROW($BJ$30:$BJ$32)),BI608)-29","v":{"$error":"#NUM!"}},{"$error":"#NUM!"},{"$error":"#NUM!"},true,false,{"$error":"#NUM!"}]
[null,null,null,null,null,null,null,null,null,null,null,null,null,null,null,null,null,null,null,null,null,null,null,null,null,null,null,null,null,null,null,null,null,null,null,null,null,null,null,null,null,null,null,null,null,null,null,null,null,null,null,null,false,true,0,561,{"$f":"SMALL(IF($BB$30:$BB$32<>BC610,\"\",ROW($BB$30:$BB$32)),BD610)-29","v":{"$error":"#NUM!"}},{"$error":"#NUM!"},{"$error":"#NUM!"},0,561,{"$f":"SMALL(IF($BJ$30:$BJ$32<>BH610,\"\",ROW($BJ$30:$BJ$32)),BI610)-29","v":{"$error":"#NUM!"}},{"$error":"#NUM!"},{"$error":"#NUM!"},true,false,{"$error":"#NUM!"}]
[null,null,null,null,null,null,null,null,null,null,null,null,null,null,null,null,null,null,null,null,null,null,null,null,null,null,null,null,null,null,null,null,null,null,null,null,null,null,null,null,null,null,null,null,null,null,null,null,null,null,null,null,false,true,0,565,{"$f":"SMALL(IF($BB$30:$BB$32<>BC614,\"\",ROW($BB$30:$BB$32)),BD614)-29","v":{"$error":"#NUM!"}},{"$error":"#NUM!"},{"$error":"#NUM!"},0,565,{"$f":"SMALL(IF($BJ$30:$BJ$32<>BH614,\"\",ROW($BJ$30:$BJ$32)),BI614)-29","v":{"$error":"#NUM!"}},{"$error":"#NUM!"},{"$error":"#NUM!"},true,false,{"$error":"#NUM!"}]
[null,null,null,null,null,null,null,null,null,null,null,null,null,null,null,null,null,null,null,null,null,null,null,null,null,null,null,null,null,null,null,null,null,null,null,null,null,null,null,null,null,null,null,null,null,null,null,null,null,null,null,null,false,true,0,566,{"$f":"SMALL(IF($BB$30:$BB$32<>BC615,\"\",ROW($BB$30:$BB$32)),BD615)-29","v":{"$error":"#NUM!"}},{"$error":"#NUM!"},{"$error":"#NUM!"},0,566,{"$f":"SMALL(IF($BJ$30:$BJ$32<>BH615,\"\",ROW($BJ$30:$BJ$32)),BI615)-29","v":{"$error":"#NUM!"}},{"$error":"#NUM!"},{"$error":"#NUM!"},true,false,{"$error":"#NUM!"}]
[null,null,null,null,null,null,null,null,null,null,null,null,null,null,null,null,null,null,null,null,null,null,null,null,null,null,null,null,null,null,null,null,null,null,null,null,null,null,null,null,null,null,null,null,null,null,null,null,null,null,null,null,false,true,0,570,{"$f":"SMALL(IF($BB$30:$BB$32<>BC619,\"\",ROW($BB$30:$BB$32)),BD619)-29","v":{"$error":"#NUM!"}},{"$error":"#NUM!"},{"$error":"#NUM!"},0,570,{"$f":"SMALL(IF($BJ$30:$BJ$32<>BH619,\"\",ROW($BJ$30:$BJ$32)),BI619)-29","v":{"$error":"#NUM!"}},{"$error":"#NUM!"},{"$error":"#NUM!"},true,false,{"$error":"#NUM!"}]
[null,null,null,null,null,null,null,null,null,null,null,null,null,null,null,null,null,null,null,null,null,null,null,null,null,null,null,null,null,null,null,null,null,null,null,null,null,null,null,null,null,null,null,null,null,null,null,null,null,null,null,null,false,true,0,571,{"$f":"SMALL(IF($BB$30:$BB$32<>BC620,\"\",ROW($BB$30:$BB$32)),BD620)-29","v":{"$error":"#NUM!"}},{"$error":"#NUM!"},{"$error":"#NUM!"},0,571,{"$f":"SMALL(IF($BJ$30:$BJ$32<>BH620,\"\",ROW($BJ$30:$BJ$32)),BI620)-29","v":{"$error":"#NUM!"}},{"$error":"#NUM!"},{"$error":"#NUM!"},true,false,{"$error":"#NUM!"}]
[null,null,null,null,null,null,null,null,null,null,null,null,null,null,null,null,null,null,null,null,null,null,null,null,null,null,null,null,null,null,null,null,null,null,null,null,null,null,null,null,null,null,null,null,null,null,null,null,null,null,null,null,false,true,0,573,{"$f":"SMALL(IF($BB$30:$BB$32<>BC622,\"\",ROW($BB$30:$BB$32)),BD622)-29","v":{"$error":"#NUM!"}},{"$error":"#NUM!"},{"$error":"#NUM!"},0,573,{"$f":"SMALL(IF($BJ$30:$BJ$32<>BH622,\"\",ROW($BJ$30:$BJ$32)),BI622)-29","v":{"$error":"#NUM!"}},{"$error":"#NUM!"},{"$error":"#NUM!"},true,false,{"$error":"#NUM!"}]
[null,null,null,null,null,null,null,null,null,null,null,null,null,null,null,null,null,null,null,null,null,null,null,null,null,null,null,null,null,null,null,null,null,null,null,null,null,null,null,null,null,null,null,null,null,null,null,null,null,null,null,null,false,true,0,576,{"$f":"SMALL(IF($BB$30:$BB$32<>BC625,\"\",ROW($BB$30:$BB$32)),BD625)-29","v":{"$error":"#NUM!"}},{"$error":"#NUM!"},{"$error":"#NUM!"},0,576,{"$f":"SMALL(IF($BJ$30:$BJ$32<>BH625,\"\",ROW($BJ$30:$BJ$32)),BI625)-29","v":{"$error":"#NUM!"}},{"$error":"#NUM!"},{"$error":"#NUM!"},true,false,{"$error":"#NUM!"}]
[null,null,null,null,null,null,null,null,null,null,null,null,null,null,null,null,null,null,null,null,null,null,null,null,null,null,null,null,null,null,null,null,null,null,null,null,null,null,null,null,null,null,null,null,null,null,null,null,null,null,null,null,false,true,0,580,{"$f":"SMALL(IF($BB$30:$BB$32<>BC629,\"\",ROW($BB$30:$BB$32)),BD629)-29","v":{"$error":"#NUM!"}},{"$error":"#NUM!"},{"$error":"#NUM!"},0,580,{"$f":"SMALL(IF($BJ$30:$BJ$32<>BH629,\"\",ROW($BJ$30:$BJ$32)),BI629)-29","v":{"$error":"#NUM!"}},{"$error":"#NUM!"},{"$error":"#NUM!"},true,false,{"$error":"#NUM!"}]
[null,null,null,null,null,null,null,null,null,null,null,null,null,null,null,null,null,null,null,null,null,null,null,null,null,null,null,null,null,null,null,null,null,null,null,null,null,null,null,null,null,null,null,null,null,null,null,null,null,null,null,null,false,true,0,582,{"$f":"SMALL(IF($BB$30:$BB$32<>BC631,\"\",ROW($BB$30:$BB$32)),BD631)-29","v":{"$error":"#NUM!"}},{"$error":"#NUM!"},{"$error":"#NUM!"},0,582,{"$f":"SMALL(IF($BJ$30:$BJ$32<>BH631,\"\",ROW($BJ$30:$BJ$32)),BI631)-29","v":{"$error":"#NUM!"}},{"$error":"#NUM!"},{"$error":"#NUM!"},true,false,{"$error":"#NUM!"}]
[null,null,null,null,null,null,null,null,null,null,null,null,null,null,null,null,null,null,null,null,null,null,null,null,null,null,null,null,null,null,null,null,null,null,null,null,null,null,null,null,null,null,null,null,null,null,null,null,null,null,null,null,false,true,0,586,{"$f":"SMALL(IF($BB$30:$BB$32<>BC635,\"\",ROW($BB$30:$BB$32)),BD635)-29","v":{"$error":"#NUM!"}},{"$error":"#NUM!"},{"$error":"#NUM!"},0,586,{"$f":"SMALL(IF($BJ$30:$BJ$32<>BH635,\"\",ROW($BJ$30:$BJ$32)),BI635)-29","v":{"$error":"#NUM!"}},{"$error":"#NUM!"},{"$error":"#NUM!"},true,false,{"$error":"#NUM!"}]
[null,null,null,null,null,null,null,null,null,null,null,null,null,null,null,null,null,null,null,null,null,null,null,null,null,null,null,null,null,null,null,null,null,null,null,null,null,null,null,null,null,null,null,null,null,null,null,null,null,null,null,null,false,true,0,587,{"$f":"SMALL(IF($BB$30:$BB$32<>BC636,\"\",ROW($BB$30:$BB$32)),BD636)-29","v":{"$error":"#NUM!"}},{"$error":"#NUM!"},{"$error":"#NUM!"},0,587,{"$f":"SMALL(IF($BJ$30:$BJ$32<>BH636,\"\",ROW($BJ$30:$BJ$32)),BI636)-29","v":{"$error":"#NUM!"}},{"$error":"#NUM!"},{"$error":"#NUM!"},true,false,{"$error":"#NUM!"}]
[null,null,null,null,null,null,null,null,null,null,null,null,null,null,null,null,null,null,null,null,null,null,null,null,null,null,null,null,null,null,null,null,null,null,null,null,null,null,null,null,null,null,null,null,null,null,null,null,null,null,null,null,false,true,0,591,{"$f":"SMALL(IF($BB$30:$BB$32<>BC640,\"\",ROW($BB$30:$BB$32)),BD640)-29","v":{"$error":"#NUM!"}},{"$error":"#NUM!"},{"$error":"#NUM!"},0,591,{"$f":"SMALL(IF($BJ$30:$BJ$32<>BH640,\"\",ROW($BJ$30:$BJ$32)),BI640)-29","v":{"$error":"#NUM!"}},{"$error":"#NUM!"},{"$error":"#NUM!"},true,false,{"$error":"#NUM!"}]
[null,null,null,null,null,null,null,null,null,null,null,null,null,null,null,null,null,null,null,null,null,null,null,null,null,null,null,null,null,null,null,null,null,null,null,null,null,null,null,null,null,null,null,null,null,null,null,null,null,null,null,null,false,true,0,592,{"$f":"SMALL(IF($BB$30:$BB$32<>BC641,\"\",ROW($BB$30:$BB$32)),BD641)-29","v":{"$error":"#NUM!"}},{"$error":"#NUM!"},{"$error":"#NUM!"},0,592,{"$f":"SMALL(IF($BJ$30:$BJ$32<>BH641,\"\",ROW($BJ$30:$BJ$32)),BI641)-29","v":{"$error":"#NUM!"}},{"$error":"#NUM!"},{"$error":"#NUM!"},true,false,{"$error":"#NUM!"}]
[null,null,null,null,null,null,null,null,null,null,null,null,null,null,null,null,null,null,null,null,null,null,null,null,null,null,null,null,null,null,null,null,null,null,null,null,null,null,null,null,null,null,null,null,null,null,null,null,null,null,null,null,false,true,0,596,{"$f":"SMALL(IF($BB$30:$BB$32<>BC645,\"\",ROW($BB$30:$BB$32)),BD645)-29","v":{"$error":"#NUM!"}},{"$error":"#NUM!"},{"$error":"#NUM!"},0,596,{"$f":"SMALL(IF($BJ$30:$BJ$32<>BH645,\"\",ROW($BJ$30:$BJ$32)),BI645)-29","v":{"$error":"#NUM!"}},{"$error":"#NUM!"},{"$error":"#NUM!"},true,false,{"$error":"#NUM!"}]
[null,null,null,null,null,null,null,null,null,null,null,null,null,null,null,null,null,null,null,null,null,null,null,null,null,null,null,null,null,null,null,null,null,null,null,null,null,null,null,null,null,null,null,null,null,null,null,null,null,null,null,null,false,true,0,598,{"$f":"SMALL(IF($BB$30:$BB$32<>BC647,\"\",ROW($BB$30:$BB$32)),BD647)-29","v":{"$error":"#NUM!"}},{"$error":"#NUM!"},{"$error":"#NUM!"},0,598,{"$f":"SMALL(IF($BJ$30:$BJ$32<>BH647,\"\",ROW($BJ$30:$BJ$32)),BI647)-29","v":{"$error":"#NUM!"}},{"$error":"#NUM!"},{"$error":"#NUM!"},true,false,{"$error":"#NUM!"}]
[null,null,null,null,null,null,null,null,null,null,null,null,null,null,null,null,null,null,null,null,null,null,null,null,null,null,null,null,null,null,null,null,null,null,null,null,null,null,null,null,null,null,null,null,null,null,null,null,null,null,null,null,false,true,0,601,{"$f":"SMALL(IF($BB$30:$BB$32<>BC650,\"\",ROW($BB$30:$BB$32)),BD650)-29","v":{"$error":"#NUM!"}},{"$error":"#NUM!"},{"$error":"#NUM!"},0,601,{"$f":"SMALL(IF($BJ$30:$BJ$32<>BH650,\"\",ROW($BJ$30:$BJ$32)),BI650)-29","v":{"$error":"#NUM!"}},{"$error":"#NUM!"},{"$error":"#NUM!"},true,false,{"$error":"#NUM!"}]
[null,null,null,null,null,null,null,null,null,null,null,null,null,null,null,null,null,null,null,null,null,null,null,null,null,null,null,null,null,null,null,null,null,null,null,null,null,null,null,null,null,null,null,null,null,null,null,null,null,null,null,null,false,true,0,603,{"$f":"SMALL(IF($BB$30:$BB$32<>BC652,\"\",ROW($BB$30:$BB$32)),BD652)-29","v":{"$error":"#NUM!"}},{"$error":"#NUM!"},{"$error":"#NUM!"},0,603,{"$f":"SMALL(IF($BJ$30:$BJ$32<>BH652,\"\",ROW($BJ$30:$BJ$32)),BI652)-29","v":{"$error":"#NUM!"}},{"$error":"#NUM!"},{"$error":"#NUM!"},true,false,{"$error":"#NUM!"}]
[null,null,null,null,null,null,null,null,null,null,null,null,null,null,null,null,null,null,null,null,null,null,null,null,null,null,null,null,null,null,null,null,null,null,null,null,null,null,null,null,null,null,null,null,null,null,null,null,null,null,null,null,false,true,0,607,{"$f":"SMALL(IF($BB$30:$BB$32<>BC656,\"\",ROW($BB$30:$BB$32)),BD656)-29","v":{"$error":"#NUM!"}},{"$error":"#NUM!"},{"$error":"#NUM!"},0,607,{"$f":"SMALL(IF($BJ$30:$BJ$32<>BH656,\"\",ROW($BJ$30:$BJ$32)),BI656)-29","v":{"$error":"#NUM!"}},{"$error":"#NUM!"},{"$error":"#NUM!"},true,false,{"$error":"#NUM!"}]
[null,null,null,null,null,null,null,null,null,null,null,null,null,null,null,null,null,null,null,null,null,null,null,null,null,null,null,null,null,null,null,null,null,null,null,null,null,null,null,null,null,null,null,null,null,null,null,null,null,null,null,null,false,true,0,610,{"$f":"SMALL(IF($BB$30:$BB$32<>BC659,\"\",ROW($BB$30:$BB$32)),BD659)-29","v":{"$error":"#NUM!"}},{"$error":"#NUM!"},{"$error":"#NUM!"},0,610,{"$f":"SMALL(IF($BJ$30:$BJ$32<>BH659,\"\",ROW($BJ$30:$BJ$32)),BI659)-29","v":{"$error":"#NUM!"}},{"$error":"#NUM!"},{"$error":"#NUM!"},true,false,{"$error":"#NUM!"}]
[null,null,null,null,null,null,null,null,null,null,null,null,null,null,null,null,null,null,null,null,null,null,null,null,null,null,null,null,null,null,null,null,null,null,null,null,null,null,null,null,null,null,null,null,null,null,null,null,null,null,null,null,false,true,0,612,{"$f":"SMALL(IF($BB$30:$BB$32<>BC661,\"\",ROW($BB$30:$BB$32)),BD661)-29","v":{"$error":"#NUM!"}},{"$error":"#NUM!"},{"$error":"#NUM!"},0,612,{"$f":"SMALL(IF($BJ$30:$BJ$32<>BH661,\"\",ROW($BJ$30:$BJ$32)),BI661)-29","v":{"$error":"#NUM!"}},{"$error":"#NUM!"},{"$error":"#NUM!"},true,false,{"$error":"#NUM!"}]
[null,null,null,null,null,null,null,null,null,null,null,null,null,null,null,null,null,null,null,null,null,null,null,null,null,null,null,null,null,null,null,null,null,null,null,null,null,null,null,null,null,null,null,null,null,null,null,null,null,null,null,null,false,true,0,613,{"$f":"SMALL(IF($BB$30:$BB$32<>BC662,\"\",ROW($BB$30:$BB$32)),BD662)-29","v":{"$error":"#NUM!"}},{"$error":"#NUM!"},{"$error":"#NUM!"},0,613,{"$f":"SMALL(IF($BJ$30:$BJ$32<>BH662,\"\",ROW($BJ$30:$BJ$32)),BI662)-29","v":{"$error":"#NUM!"}},{"$error":"#NUM!"},{"$error":"#NUM!"},true,false,{"$error":"#NUM!"}]
[null,null,null,null,null,null,null,null,null,null,null,null,null,null,null,null,null,null,null,null,null,null,null,null,null,null,null,null,null,null,null,null,null,null,null,null,null,null,null,null,null,null,null,null,null,null,null,null,null,null,null,null,false,true,0,616,{"$f":"SMALL(IF($BB$30:$BB$32<>BC665,\"\",ROW($BB$30:$BB$32)),BD665)-29","v":{"$error":"#NUM!"}},{"$error":"#NUM!"},{"$error":"#NUM!"},0,616,{"$f":"SMALL(IF($BJ$30:$BJ$32<>BH665,\"\",ROW($BJ$30:$BJ$32)),BI665)-29","v":{"$error":"#NUM!"}},{"$error":"#NUM!"},{"$error":"#NUM!"},true,false,{"$error":"#NUM!"}]
[null,null,null,null,null,null,null,null,null,null,null,null,null,null,null,null,null,null,null,null,null,null,null,null,null,null,null,null,null,null,null,null,null,null,null,null,null,null,null,null,null,null,null,null,null,null,null,null,null,null,null,null,false,true,0,619,{"$f":"SMALL(IF($BB$30:$BB$32<>BC668,\"\",ROW($BB$30:$BB$32)),BD668)-29","v":{"$error":"#NUM!"}},{"$error":"#NUM!"},{"$error":"#NUM!"},0,619,{"$f":"SMALL(IF($BJ$30:$BJ$32<>BH668,\"\",ROW($BJ$30:$BJ$32)),BI668)-29","v":{"$error":"#NUM!"}},{"$error":"#NUM!"},{"$error":"#NUM!"},true,false,{"$error":"#NUM!"}]
[null,null,null,null,null,null,null,null,null,null,null,null,null,null,null,null,null,null,null,null,null,null,null,null,null,null,null,null,null,null,null,null,null,null,null,null,null,null,null,null,null,null,null,null,null,null,null,null,null,null,null,null,false,true,0,622,{"$f":"SMALL(IF($BB$30:$BB$32<>BC671,\"\",ROW($BB$30:$BB$32)),BD671)-29","v":{"$error":"#NUM!"}},{"$error":"#NUM!"},{"$error":"#NUM!"},0,622,{"$f":"SMALL(IF($BJ$30:$BJ$32<>BH671,\"\",ROW($BJ$30:$BJ$32)),BI671)-29","v":{"$error":"#NUM!"}},{"$error":"#NUM!"},{"$error":"#NUM!"},true,false,{"$error":"#NUM!"}]
[null,null,null,null,null,null,null,null,null,null,null,null,null,null,null,null,null,null,null,null,null,null,null,null,null,null,null,null,null,null,null,null,null,null,null,null,null,null,null,null,null,null,null,null,null,null,null,null,null,null,null,null,false,true,0,625,{"$f":"SMALL(IF($BB$30:$BB$32<>BC674,\"\",ROW($BB$30:$BB$32)),BD674)-29","v":{"$error":"#NUM!"}},{"$error":"#NUM!"},{"$error":"#NUM!"},0,625,{"$f":"SMALL(IF($BJ$30:$BJ$32<>BH674,\"\",ROW($BJ$30:$BJ$32)),BI674)-29","v":{"$error":"#NUM!"}},{"$error":"#NUM!"},{"$error":"#NUM!"},true,false,{"$error":"#NUM!"}]
[null,null,null,null,null,null,null,null,null,null,null,null,null,null,null,null,null,null,null,null,null,null,null,null,null,null,null,null,null,null,null,null,null,null,null,null,null,null,null,null,null,null,null,null,null,null,null,null,null,null,null,null,false,true,0,628,{"$f":"SMALL(IF($BB$30:$BB$32<>BC677,\"\",ROW($BB$30:$BB$32)),BD677)-29","v":{"$error":"#NUM!"}},{"$error":"#NUM!"},{"$error":"#NUM!"},0,628,{"$f":"SMALL(IF($BJ$30:$BJ$32<>BH677,\"\",ROW($BJ$30:$BJ$32)),BI677)-29","v":{"$error":"#NUM!"}},{"$error":"#NUM!"},{"$error":"#NUM!"},true,false,{"$error":"#NUM!"}]
[null,null,null,null,null,null,null,null,null,null,null,null,null,null,null,null,null,null,null,null,null,null,null,null,null,null,null,null,null,null,null,null,null,null,null,null,null,null,null,null,null,null,null,null,null,null,null,null,null,null,null,null,false,true,0,631,{"$f":"SMALL(IF($BB$30:$BB$32<>BC680,\"\",ROW($BB$30:$BB$32)),BD680)-29","v":{"$error":"#NUM!"}},{"$error":"#NUM!"},{"$error":"#NUM!"},0,631,{"$f":"SMALL(IF($BJ$30:$BJ$32<>BH680,\"\",ROW($BJ$30:$BJ$32)),BI680)-29","v":{"$error":"#NUM!"}},{"$error":"#NUM!"},{"$error":"#NUM!"},true,false,{"$error":"#NUM!"}]
[null,null,null,null,null,null,null,null,null,null,null,null,null,null,null,null,null,null,null,null,null,null,null,null,null,null,null,null,null,null,null,null,null,null,null,null,null,null,null,null,null,null,null,null,null,null,null,null,null,null,null,null,false,true,0,633,{"$f":"SMALL(IF($BB$30:$BB$32<>BC682,\"\",ROW($BB$30:$BB$32)),BD682)-29","v":{"$error":"#NUM!"}},{"$error":"#NUM!"},{"$error":"#NUM!"},0,633,{"$f":"SMALL(IF($BJ$30:$BJ$32<>BH682,\"\",ROW($BJ$30:$BJ$32)),BI682)-29","v":{"$error":"#NUM!"}},{"$error":"#NUM!"},{"$error":"#NUM!"},true,false,{"$error":"#NUM!"}]
[null,null,null,null,null,null,null,null,null,null,null,null,null,null,null,null,null,null,null,null,null,null,null,null,null,null,null,null,null,null,null,null,null,null,null,null,null,null,null,null,null,null,null,null,null,null,null,null,null,null,null,null,false,true,0,634,{"$f":"SMALL(IF($BB$30:$BB$32<>BC683,\"\",ROW($BB$30:$BB$32)),BD683)-29","v":{"$error":"#NUM!"}},{"$error":"#NUM!"},{"$error":"#NUM!"},0,634,{"$f":"SMALL(IF($BJ$30:$BJ$32<>BH683,\"\",ROW($BJ$30:$BJ$32)),BI683)-29","v":{"$error":"#NUM!"}},{"$error":"#NUM!"},{"$error":"#NUM!"},true,false,{"$error":"#NUM!"}]
[null,null,null,null,null,null,null,null,null,null,null,null,null,null,null,null,null,null,null,null,null,null,null,null,null,null,null,null,null,null,null,null,null,null,null,null,null,null,null,null,null,null,null,null,null,null,null,null,null,null,null,null,false,true,0,637,{"$f":"SMALL(IF($BB$30:$BB$32<>BC686,\"\",ROW($BB$30:$BB$32)),BD686)-29","v":{"$error":"#NUM!"}},{"$error":"#NUM!"},{"$error":"#NUM!"},0,637,{"$f":"SMALL(IF($BJ$30:$BJ$32<>BH686,\"\",ROW($BJ$30:$BJ$32)),BI686)-29","v":{"$error":"#NUM!"}},{"$error":"#NUM!"},{"$error":"#NUM!"},true,false,{"$error":"#NUM!"}]
[null,null,null,null,null,null,null,null,null,null,null,null,null,null,null,null,null,null,null,null,null,null,null,null,null,null,null,null,null,null,null,null,null,null,null,null,null,null,null,null,null,null,null,null,null,null,null,null,null,null,null,null,false,true,0,640,{"$f":"SMALL(IF($BB$30:$BB$32<>BC689,\"\",ROW($BB$30:$BB$32)),BD689)-29","v":{"$error":"#NUM!"}},{"$error":"#NUM!"},{"$error":"#NUM!"},0,640,{"$f":"SMALL(IF($BJ$30:$BJ$32<>BH689,\"\",ROW($BJ$30:$BJ$32)),BI689)-29","v":{"$error":"#NUM!"}},{"$error":"#NUM!"},{"$error":"#NUM!"},true,false,{"$error":"#NUM!"}]
[null,null,null,null,null,null,null,null,null,null,null,null,null,null,null,null,null,null,null,null,null,null,null,null,null,null,null,null,null,null,null,null,null,null,null,null,null,null,null,null,null,null,null,null,null,null,null,null,null,null,null,null,false,true,0,643,{"$f":"SMALL(IF($BB$30:$BB$32<>BC692,\"\",ROW($BB$30:$BB$32)),BD692)-29","v":{"$error":"#NUM!"}},{"$error":"#NUM!"},{"$error":"#NUM!"},0,643,{"$f":"SMALL(IF($BJ$30:$BJ$32<>BH692,\"\",ROW($BJ$30:$BJ$32)),BI692)-29","v":{"$error":"#NUM!"}},{"$error":"#NUM!"},{"$error":"#NUM!"},true,false,{"$error":"#NUM!"}]
[null,null,null,null,null,null,null,null,null,null,null,null,null,null,null,null,null,null,null,null,null,null,null,null,null,null,null,null,null,null,null,null,null,null,null,null,null,null,null,null,null,null,null,null,null,null,null,null,null,null,null,null,false,true,0,646,{"$f":"SMALL(IF($BB$30:$BB$32<>BC695,\"\",ROW($BB$30:$BB$32)),BD695)-29","v":{"$error":"#NUM!"}},{"$error":"#NUM!"},{"$error":"#NUM!"},0,646,{"$f":"SMALL(IF($BJ$30:$BJ$32<>BH695,\"\",ROW($BJ$30:$BJ$32)),BI695)-29","v":{"$error":"#NUM!"}},{"$error":"#NUM!"},{"$error":"#NUM!"},true,false,{"$error":"#NUM!"}]
[null,null,null,null,null,null,null,null,null,null,null,null,null,null,null,null,null,null,null,null,null,null,null,null,null,null,null,null,null,null,null,null,null,null,null,null,null,null,null,null,null,null,null,null,null,null,null,null,null,null,null,null,false,true,0,649,{"$f":"SMALL(IF($BB$30:$BB$32<>BC698,\"\",ROW($BB$30:$BB$32)),BD698)-29","v":{"$error":"#NUM!"}},{"$error":"#NUM!"},{"$error":"#NUM!"},0,649,{"$f":"SMALL(IF($BJ$30:$BJ$32<>BH698,\"\",ROW($BJ$30:$BJ$32)),BI698)-29","v":{"$error":"#NUM!"}},{"$error":"#NUM!"},{"$error":"#NUM!"},true,false,{"$error":"#NUM!"}]
[null,null,null,null,null,null,null,null,null,null,null,null,null,null,null,null,null,null,null,null,null,null,null,null,null,null,null,null,null,null,null,null,null,null,null,null,null,null,null,null,null,null,null,null,null,null,null,null,null,null,null,null,false,true,0,652,{"$f":"SMALL(IF($BB$30:$BB$32<>BC701,\"\",ROW($BB$30:$BB$32)),BD701)-29","v":{"$error":"#NUM!"}},{"$error":"#NUM!"},{"$error":"#NUM!"},0,652,{"$f":"SMALL(IF($BJ$30:$BJ$32<>BH701,\"\",ROW($BJ$30:$BJ$32)),BI701)-29","v":{"$error":"#NUM!"}},{"$error":"#NUM!"},{"$error":"#NUM!"},true,false,{"$error":"#NUM!"}]
[null,null,null,null,null,null,null,null,null,null,null,null,null,null,null,null,null,null,null,null,null,null,null,null,null,null,null,null,null,null,null,null,null,null,null,null,null,null,null,null,null,null,null,null,null,null,null,null,null,null,null,null,false,true,0,653,{"$f":"SMALL(IF($BB$30:$BB$32<>BC702,\"\",ROW($BB$30:$BB$32)),BD702)-29","v":{"$error":"#NUM!"}},{"$error":"#NUM!"},{"$error":"#NUM!"},0,653,{"$f":"SMALL(IF($BJ$30:$BJ$32<>BH702,\"\",ROW($BJ$30:$BJ$32)),BI702)-29","v":{"$error":"#NUM!"}},{"$error":"#NUM!"},{"$error":"#NUM!"},true,false,{"$error":"#NUM!"}]
[null,null,null,null,null,null,null,null,null,null,null,null,null,null,null,null,null,null,null,null,null,null,null,null,null,null,null,null,null,null,null,null,null,null,null,null,null,null,null,null,null,null,null,null,null,null,null,null,null,null,null,null,false,true,0,656,{"$f":"SMALL(IF($BB$30:$BB$32<>BC705,\"\",ROW($BB$30:$BB$32)),BD705)-29","v":{"$error":"#NUM!"}},{"$error":"#NUM!"},{"$error":"#NUM!"},0,656,{"$f":"SMALL(IF($BJ$30:$BJ$32<>BH705,\"\",ROW($BJ$30:$BJ$32)),BI705)-29","v":{"$error":"#NUM!"}},{"$error":"#NUM!"},{"$error":"#NUM!"},true,false,{"$error":"#NUM!"}]
[null,null,null,null,null,null,null,null,null,null,null,null,null,null,null,null,null,null,null,null,null,null,null,null,null,null,null,null,null,null,null,null,null,null,null,null,null,null,null,null,null,null,null,null,null,null,null,null,null,null,null,null,false,true,0,658,{"$f":"SMALL(IF($BB$30:$BB$32<>BC707,\"\",ROW($BB$30:$BB$32)),BD707)-29","v":{"$error":"#NUM!"}},{"$error":"#NUM!"},{"$error":"#NUM!"},0,658,{"$f":"SMALL(IF($BJ$30:$BJ$32<>BH707,\"\",ROW($BJ$30:$BJ$32)),BI707)-29","v":{"$error":"#NUM!"}},{"$error":"#NUM!"},{"$error":"#NUM!"},true,false,{"$error":"#NUM!"}]
[null,null,null,null,null,null,null,null,null,null,null,null,null,null,null,null,null,null,null,null,null,null,null,null,null,null,null,null,null,null,null,null,null,null,null,null,null,null,null,null,null,null,null,null,null,null,null,null,null,null,null,null,false,true,0,662,{"$f":"SMALL(IF($BB$30:$BB$32<>BC711,\"\",ROW($BB$30:$BB$32)),BD711)-29","v":{"$error":"#NUM!"}},{"$error":"#NUM!"},{"$error":"#NUM!"},0,662,{"$f":"SMALL(IF($BJ$30:$BJ$32<>BH711,\"\",ROW($BJ$30:$BJ$32)),BI711)-29","v":{"$error":"#NUM!"}},{"$error":"#NUM!"},{"$error":"#NUM!"},true,false,{"$error":"#NUM!"}]
[null,null,null,null,null,null,null,null,null,null,null,null,null,null,null,null,null,null,null,null,null,null,null,null,null,null,null,null,null,null,null,null,null,null,null,null,null,null,null,null,null,null,null,null,null,null,null,null,null,null,null,null,false,true,0,665,{"$f":"SMALL(IF($BB$30:$BB$32<>BC714,\"\",ROW($BB$30:$BB$32)),BD714)-29","v":{"$error":"#NUM!"}},{"$error":"#NUM!"},{"$error":"#NUM!"},0,665,{"$f":"SMALL(IF($BJ$30:$BJ$32<>BH714,\"\",ROW($BJ$30:$BJ$32)),BI714)-29","v":{"$error":"#NUM!"}},{"$error":"#NUM!"},{"$error":"#NUM!"},true,false,{"$error":"#NUM!"}]
[null,null,null,null,null,null,null,null,null,null,null,null,null,null,null,null,null,null,null,null,null,null,null,null,null,null,null,null,null,null,null,null,null,null,null,null,null,null,null,null,null,null,null,null,null,null,null,null,null,null,null,null,false,true,0,667,{"$f":"SMALL(IF($BB$30:$BB$32<>BC716,\"\",ROW($BB$30:$BB$32)),BD716)-29","v":{"$error":"#NUM!"}},{"$error":"#NUM!"},{"$error":"#NUM!"},0,667,{"$f":"SMALL(IF($BJ$30:$BJ$32<>BH716,\"\",ROW($BJ$30:$BJ$32)),BI716)-29","v":{"$error":"#NUM!"}},{"$error":"#NUM!"},{"$error":"#NUM!"},true,false,{"$error":"#NUM!"}]
[null,null,null,null,null,null,null,null,null,null,null,null,null,null,null,null,null,null,null,null,null,null,null,null,null,null,null,null,null,null,null,null,null,null,null,null,null,null,null,null,null,null,null,null,null,null,null,null,null,null,null,null,false,true,0,671,{"$f":"SMALL(IF($BB$30:$BB$32<>BC720,\"\",ROW($BB$30:$BB$32)),BD720)-29","v":{"$error":"#NUM!"}},{"$error":"#NUM!"},{"$error":"#NUM!"},0,671,{"$f":"SMALL(IF($BJ$30:$BJ$32<>BH720,\"\",ROW($BJ$30:$BJ$32)),BI720)-29","v":{"$error":"#NUM!"}},{"$error":"#NUM!"},{"$error":"#NUM!"},true,false,{"$error":"#NUM!"}]
[null,null,null,null,null,null,null,null,null,null,null,null,null,null,null,null,null,null,null,null,null,null,null,null,null,null,null,null,null,null,null,null,null,null,null,null,null,null,null,null,null,null,null,null,null,null,null,null,null,null,null,null,false,true,0,672,{"$f":"SMALL(IF($BB$30:$BB$32<>BC721,\"\",ROW($BB$30:$BB$32)),BD721)-29","v":{"$error":"#NUM!"}},{"$error":"#NUM!"},{"$error":"#NUM!"},0,672,{"$f":"SMALL(IF($BJ$30:$BJ$32<>BH721,\"\",ROW($BJ$30:$BJ$32)),BI721)-29","v":{"$error":"#NUM!"}},{"$error":"#NUM!"},{"$error":"#NUM!"},true,false,{"$error":"#NUM!"}]
[null,null,null,null,null,null,null,null,null,null,null,null,null,null,null,null,null,null,null,null,null,null,null,null,null,null,null,null,null,null,null,null,null,null,null,null,null,null,null,null,null,null,null,null,null,null,null,null,null,null,null,null,false,true,0,674,{"$f":"SMALL(IF($BB$30:$BB$32<>BC723,\"\",ROW($BB$30:$BB$32)),BD723)-29","v":{"$error":"#NUM!"}},{"$error":"#NUM!"},{"$error":"#NUM!"},0,674,{"$f":"SMALL(IF($BJ$30:$BJ$32<>BH723,\"\",ROW($BJ$30:$BJ$32)),BI723)-29","v":{"$error":"#NUM!"}},{"$error":"#NUM!"},{"$error":"#NUM!"},true,false,{"$error":"#NUM!"}]
[null,null,null,null,null,null,null,null,null,null,null,null,null,null,null,null,null,null,null,null,null,null,null,null,null,null,null,null,null,null,null,null,null,null,null,null,null,null,null,null,null,null,null,null,null,null,null,null,null,null,null,null,false,true,0,677,{"$f":"SMALL(IF($BB$30:$BB$32<>BC726,\"\",ROW($BB$30:$BB$32)),BD726)-29","v":{"$error":"#NUM!"}},{"$error":"#NUM!"},{"$error":"#NUM!"},0,677,{"$f":"SMALL(IF($BJ$30:$BJ$32<>BH726,\"\",ROW($BJ$30:$BJ$32)),BI726)-29","v":{"$error":"#NUM!"}},{"$error":"#NUM!"},{"$error":"#NUM!"},true,false,{"$error":"#NUM!"}]
[null,null,null,null,null,null,null,null,null,null,null,null,null,null,null,null,null,null,null,null,null,null,null,null,null,null,null,null,null,null,null,null,null,null,null,null,null,null,null,null,null,null,null,null,null,null,null,null,null,null,null,null,false,true,0,681,{"$f":"SMALL(IF($BB$30:$BB$32<>BC730,\"\",ROW($BB$30:$BB$32)),BD730)-29","v":{"$error":"#NUM!"}},{"$error":"#NUM!"},{"$error":"#NUM!"},0,681,{"$f":"SMALL(IF($BJ$30:$BJ$32<>BH730,\"\",ROW($BJ$30:$BJ$32)),BI730)-29","v":{"$error":"#NUM!"}},{"$error":"#NUM!"},{"$error":"#NUM!"},true,false,{"$error":"#NUM!"}]
[null,null,null,null,null,null,null,null,null,null,null,null,null,null,null,null,null,null,null,null,null,null,null,null,null,null,null,null,null,null,null,null,null,null,null,null,null,null,null,null,null,null,null,null,null,null,null,null,null,null,null,null,false,true,0,683,{"$f":"SMALL(IF($BB$30:$BB$32<>BC732,\"\",ROW($BB$30:$BB$32)),BD732)-29","v":{"$error":"#NUM!"}},{"$error":"#NUM!"},{"$error":"#NUM!"},0,683,{"$f":"SMALL(IF($BJ$30:$BJ$32<>BH732,\"\",ROW($BJ$30:$BJ$32)),BI732)-29","v":{"$error":"#NUM!"}},{"$error":"#NUM!"},{"$error":"#NUM!"},true,false,{"$error":"#NUM!"}]
[null,null,null,null,null,null,null,null,null,null,null,null,null,null,null,null,null,null,null,null,null,null,null,null,null,null,null,null,null,null,null,null,null,null,null,null,null,null,null,null,null,null,null,null,null,null,null,null,null,null,null,null,false,true,0,686,{"$f":"SMALL(IF($BB$30:$BB$32<>BC735,\"\",ROW($BB$30:$BB$32)),BD735)-29","v":{"$error":"#NUM!"}},{"$error":"#NUM!"},{"$error":"#NUM!"},0,686,{"$f":"SMALL(IF($BJ$30:$BJ$32<>BH735,\"\",ROW($BJ$30:$BJ$32)),BI735)-29","v":{"$error":"#NUM!"}},{"$error":"#NUM!"},{"$error":"#NUM!"},true,false,{"$error":"#NUM!"}]
[null,null,null,null,null,null,null,null,null,null,null,null,null,null,null,null,null,null,null,null,null,null,null,null,null,null,null,null,null,null,null,null,null,null,null,null,null,null,null,null,null,null,null,null,null,null,null,null,null,null,null,null,false,true,0,688,{"$f":"SMALL(IF($BB$30:$BB$32<>BC737,\"\",ROW($BB$30:$BB$32)),BD737)-29","v":{"$error":"#NUM!"}},{"$error":"#NUM!"},{"$error":"#NUM!"},0,688,{"$f":"SMALL(IF($BJ$30:$BJ$32<>BH737,\"\",ROW($BJ$30:$BJ$32)),BI737)-29","v":{"$error":"#NUM!"}},{"$error":"#NUM!"},{"$error":"#NUM!"},true,false,{"$error":"#NUM!"}]
[null,null,null,null,null,null,null,null,null,null,null,null,null,null,null,null,null,null,null,null,null,null,null,null,null,null,null,null,null,null,null,null,null,null,null,null,null,null,null,null,null,null,null,null,null,null,null,null,null,null,null,null,false,true,0,692,{"$f":"SMALL(IF($BB$30:$BB$32<>BC741,\"\",ROW($BB$30:$BB$32)),BD741)-29","v":{"$error":"#NUM!"}},{"$error":"#NUM!"},{"$error":"#NUM!"},0,692,{"$f":"SMALL(IF($BJ$30:$BJ$32<>BH741,\"\",ROW($BJ$30:$BJ$32)),BI741)-29","v":{"$error":"#NUM!"}},{"$error":"#NUM!"},{"$error":"#NUM!"},true,false,{"$error":"#NUM!"}]
[null,null,null,null,null,null,null,null,null,null,null,null,null,null,null,null,null,null,null,null,null,null,null,null,null,null,null,null,null,null,null,null,null,null,null,null,null,null,null,null,null,null,null,null,null,null,null,null,null,null,null,null,false,true,0,693,{"$f":"SMALL(IF($BB$30:$BB$32<>BC742,\"\",ROW($BB$30:$BB$32)),BD742)-29","v":{"$error":"#NUM!"}},{"$error":"#NUM!"},{"$error":"#NUM!"},0,693,{"$f":"SMALL(IF($BJ$30:$BJ$32<>BH742,\"\",ROW($BJ$30:$BJ$32)),BI742)-29","v":{"$error":"#NUM!"}},{"$error":"#NUM!"},{"$error":"#NUM!"},true,false,{"$error":"#NUM!"}]
[null,null,null,null,null,null,null,null,null,null,null,null,null,null,null,null,null,null,null,null,null,null,null,null,null,null,null,null,null,null,null,null,null,null,null,null,null,null,null,null,null,null,null,null,null,null,null,null,null,null,null,null,false,true,0,695,{"$f":"SMALL(IF($BB$30:$BB$32<>BC744,\"\",ROW($BB$30:$BB$32)),BD744)-29","v":{"$error":"#NUM!"}},{"$error":"#NUM!"},{"$error":"#NUM!"},0,695,{"$f":"SMALL(IF($BJ$30:$BJ$32<>BH744,\"\",ROW($BJ$30:$BJ$32)),BI744)-29","v":{"$error":"#NUM!"}},{"$error":"#NUM!"},{"$error":"#NUM!"},true,false,{"$error":"#NUM!"}]
[null,null,null,null,null,null,null,null,null,null,null,null,null,null,null,null,null,null,null,null,null,null,null,null,null,null,null,null,null,null,null,null,null,null,null,null,null,null,null,null,null,null,null,null,null,null,null,null,null,null,null,null,false,true,0,698,{"$f":"SMALL(IF($BB$30:$BB$32<>BC747,\"\",ROW($BB$30:$BB$32)),BD747)-29","v":{"$error":"#NUM!"}},{"$error":"#NUM!"},{"$error":"#NUM!"},0,698,{"$f":"SMALL(IF($BJ$30:$BJ$32<>BH747,\"\",ROW($BJ$30:$BJ$32)),BI747)-29","v":{"$error":"#NUM!"}},{"$error":"#NUM!"},{"$error":"#NUM!"},true,false,{"$error":"#NUM!"}]
[null,null,null,null,null,null,null,null,null,null,null,null,null,null,null,null,null,null,null,null,null,null,null,null,null,null,null,null,null,null,null,null,null,null,null,null,null,null,null,null,null,null,null,null,null,null,null,null,null,null,null,null,false,true,0,702,{"$f":"SMALL(IF($BB$30:$BB$32<>BC751,\"\",ROW($BB$30:$BB$32)),BD751)-29","v":{"$error":"#NUM!"}},{"$error":"#NUM!"},{"$error":"#NUM!"},0,702,{"$f":"SMALL(IF($BJ$30:$BJ$32<>BH751,\"\",ROW($BJ$30:$BJ$32)),BI751)-29","v":{"$error":"#NUM!"}},{"$error":"#NUM!"},{"$error":"#NUM!"},true,false,{"$error":"#NUM!"}]
[null,null,null,null,null,null,null,null,null,null,null,null,null,null,null,null,null,null,null,null,null,null,null,null,null,null,null,null,null,null,null,null,null,null,null,null,null,null,null,null,null,null,null,null,null,null,null,null,null,null,null,null,false,true,0,704,{"$f":"SMALL(IF($BB$30:$BB$32<>BC753,\"\",ROW($BB$30:$BB$32)),BD753)-29","v":{"$error":"#NUM!"}},{"$error":"#NUM!"},{"$error":"#NUM!"},0,704,{"$f":"SMALL(IF($BJ$30:$BJ$32<>BH753,\"\",ROW($BJ$30:$BJ$32)),BI753)-29","v":{"$error":"#NUM!"}},{"$error":"#NUM!"},{"$error":"#NUM!"},true,false,{"$error":"#NUM!"}]
[null,null,null,null,null,null,null,null,null,null,null,null,null,null,null,null,null,null,null,null,null,null,null,null,null,null,null,null,null,null,null,null,null,null,null,null,null,null,null,null,null,null,null,null,null,null,null,null,null,null,null,null,false,true,0,707,{"$f":"SMALL(IF($BB$30:$BB$32<>BC756,\"\",ROW($BB$30:$BB$32)),BD756)-29","v":{"$error":"#NUM!"}},{"$error":"#NUM!"},{"$error":"#NUM!"},0,707,{"$f":"SMALL(IF($BJ$30:$BJ$32<>BH756,\"\",ROW($BJ$30:$BJ$32)),BI756)-29","v":{"$error":"#NUM!"}},{"$error":"#NUM!"},{"$error":"#NUM!"},true,false,{"$error":"#NUM!"}]
[null,null,null,null,null,null,null,null,null,null,null,null,null,null,null,null,null,null,null,null,null,null,null,null,null,null,null,null,null,null,null,null,null,null,null,null,null,null,null,null,null,null,null,null,null,null,null,null,null,null,null,null,false,true,0,709,{"$f":"SMALL(IF($BB$30:$BB$32<>BC758,\"\",ROW($BB$30:$BB$32)),BD758)-29","v":{"$error":"#NUM!"}},{"$error":"#NUM!"},{"$error":"#NUM!"},0,709,{"$f":"SMALL(IF($BJ$30:$BJ$32<>BH758,\"\",ROW($BJ$30:$BJ$32)),BI758)-29","v":{"$error":"#NUM!"}},{"$error":"#NUM!"},{"$error":"#NUM!"},true,false,{"$error":"#NUM!"}]
[null,null,null,null,null,null,null,null,null,null,null,null,null,null,null,null,null,null,null,null,null,null,null,null,null,null,null,null,null,null,null,null,null,null,null,null,null,null,null,null,null,null,null,null,null,null,null,null,null,null,null,null,false,true,0,713,{"$f":"SMALL(IF($BB$30:$BB$32<>BC762,\"\",ROW($BB$30:$BB$32)),BD762)-29","v":{"$error":"#NUM!"}},{"$error":"#NUM!"},{"$error":"#NUM!"},0,713,{"$f":"SMALL(IF($BJ$30:$BJ$32<>BH762,\"\",ROW($BJ$30:$BJ$32)),BI762)-29","v":{"$error":"#NUM!"}},{"$error":"#NUM!"},{"$error":"#NUM!"},true,false,{"$error":"#NUM!"}]
[null,null,null,null,null,null,null,null,null,null,null,null,null,null,null,null,null,null,null,null,null,null,null,null,null,null,null,null,null,null,null,null,null,null,null,null,null,null,null,null,null,null,null,null,null,null,null,null,null,null,null,null,false,true,0,716,{"$f":"SMALL(IF($BB$30:$BB$32<>BC765,\"\",ROW($BB$30:$BB$32)),BD765)-29","v":{"$error":"#NUM!"}},{"$error":"#NUM!"},{"$error":"#NUM!"},0,716,{"$f":"SMALL(IF($BJ$30:$BJ$32<>BH765,\"\",ROW($BJ$30:$BJ$32)),BI765)-29","v":{"$error":"#NUM!"}},{"$error":"#NUM!"},{"$error":"#NUM!"},true,false,{"$error":"#NUM!"}]
[null,null,null,null,null,null,null,null,null,null,null,null,null,null,null,null,null,null,null,null,null,null,null,null,null,null,null,null,null,null,null,null,null,null,null,null,null,null,null,null,null,null,null,null,null,null,null,null,null,null,null,null,false,true,0,718,{"$f":"SMALL(IF($BB$30:$BB$32<>BC767,\"\",ROW($BB$30:$BB$32)),BD767)-29","v":{"$error":"#NUM!"}},{"$error":"#NUM!"},{"$error":"#NUM!"},0,718,{"$f":"SMALL(IF($BJ$30:$BJ$32<>BH767,\"\",ROW($BJ$30:$BJ$32)),BI767)-29","v":{"$error":"#NUM!"}},{"$error":"#NUM!"},{"$error":"#NUM!"},true,false,{"$error":"#NUM!"}]
[null,null,null,null,null,null,null,null,null,null,null,null,null,null,null,null,null,null,null,null,null,null,null,null,null,null,null,null,null,null,null,null,null,null,null,null,null,null,null,null,null,null,null,null,null,null,null,null,null,null,null,null,false,true,0,719,{"$f":"SMALL(IF($BB$30:$BB$32<>BC768,\"\",ROW($BB$30:$BB$32)),BD768)-29","v":{"$error":"#NUM!"}},{"$error":"#NUM!"},{"$error":"#NUM!"},0,719,{"$f":"SMALL(IF($BJ$30:$BJ$32<>BH768,\"\",ROW($BJ$30:$BJ$32)),BI768)-29","v":{"$error":"#NUM!"}},{"$error":"#NUM!"},{"$error":"#NUM!"},true,false,{"$error":"#NUM!"}]
[null,null,null,null,null,null,null,null,null,null,null,null,null,null,null,null,null,null,null,null,null,null,null,null,null,null,null,null,null,null,null,null,null,null,null,null,null,null,null,null,null,null,null,null,null,null,null,null,null,null,null,null,false,true,0,722,{"$f":"SMALL(IF($BB$30:$BB$32<>BC771,\"\",ROW($BB$30:$BB$32)),BD771)-29","v":{"$error":"#NUM!"}},{"$error":"#NUM!"},{"$error":"#NUM!"},0,722,{"$f":"SMALL(IF($BJ$30:$BJ$32<>BH771,\"\",ROW($BJ$30:$BJ$32)),BI771)-29","v":{"$error":"#NUM!"}},{"$error":"#NUM!"},{"$error":"#NUM!"},true,false,{"$error":"#NUM!"}]
[null,null,null,null,null,null,null,null,null,null,null,null,null,null,null,null,null,null,null,null,null,null,null,null,null,null,null,null,null,null,null,null,null,null,null,null,null,null,null,null,null,null,null,null,null,null,null,null,null,null,null,null,false,true,0,725,{"$f":"SMALL(IF($BB$30:$BB$32<>BC774,\"\",ROW($BB$30:$BB$32)),BD774)-29","v":{"$error":"#NUM!"}},{"$error":"#NUM!"},{"$error":"#NUM!"},0,725,{"$f":"SMALL(IF($BJ$30:$BJ$32<>BH774,\"\",ROW($BJ$30:$BJ$32)),BI774)-29","v":{"$error":"#NUM!"}},{"$error":"#NUM!"},{"$error":"#NUM!"},true,false,{"$error":"#NUM!"}]
[null,null,null,null,null,null,null,null,null,null,null,null,null,null,null,null,null,null,null,null,null,null,null,null,null,null,null,null,null,null,null,null,null,null,null,null,null,null,null,null,null,null,null,null,null,null,null,null,null,null,null,null,false,true,0,728,{"$f":"SMALL(IF($BB$30:$BB$32<>BC777,\"\",ROW($BB$30:$BB$32)),BD777)-29","v":{"$error":"#NUM!"}},{"$error":"#NUM!"},{"$error":"#NUM!"},0,728,{"$f":"SMALL(IF($BJ$30:$BJ$32<>BH777,\"\",ROW($BJ$30:$BJ$32)),BI777)-29","v":{"$error":"#NUM!"}},{"$error":"#NUM!"},{"$error":"#NUM!"},true,false,{"$error":"#NUM!"}]
[null,null,null,null,null,null,null,null,null,null,null,null,null,null,null,null,null,null,null,null,null,null,null,null,null,null,null,null,null,null,null,null,null,null,null,null,null,null,null,null,null,null,null,null,null,null,null,null,null,null,null,null,false,true,0,732,{"$f":"SMALL(IF($BB$30:$BB$32<>BC781,\"\",ROW($BB$30:$BB$32)),BD781)-29","v":{"$error":"#NUM!"}},{"$error":"#NUM!"},{"$error":"#NUM!"},0,732,{"$f":"SMALL(IF($BJ$30:$BJ$32<>BH781,\"\",ROW($BJ$30:$BJ$32)),BI781)-29","v":{"$error":"#NUM!"}},{"$error":"#NUM!"},{"$error":"#NUM!"},true,false,{"$error":"#NUM!"}]
[null,null,null,null,null,null,null,null,null,null,null,null,null,null,null,null,null,null,null,null,null,null,null,null,null,null,null,null,null,null,null,null,null,null,null,null,null,null,null,null,null,null,null,null,null,null,null,null,null,null,null,null,false,true,0,734,{"$f":"SMALL(IF($BB$30:$BB$32<>BC783,\"\",ROW($BB$30:$BB$32)),BD783)-29","v":{"$error":"#NUM!"}},{"$error":"#NUM!"},{"$error":"#NUM!"},0,734,{"$f":"SMALL(IF($BJ$30:$BJ$32<>BH783,\"\",ROW($BJ$30:$BJ$32)),BI783)-29","v":{"$error":"#NUM!"}},{"$error":"#NUM!"},{"$error":"#NUM!"},true,false,{"$error":"#NUM!"}]
[null,null,null,null,null,null,null,null,null,null,null,null,null,null,null,null,null,null,null,null,null,null,null,null,null,null,null,null,null,null,null,null,null,null,null,null,null,null,null,null,null,null,null,null,null,null,null,null,null,null,null,null,false,true,0,737,{"$f":"SMALL(IF($BB$30:$BB$32<>BC786,\"\",ROW($BB$30:$BB$32)),BD786)-29","v":{"$error":"#NUM!"}},{"$error":"#NUM!"},{"$error":"#NUM!"},0,737,{"$f":"SMALL(IF($BJ$30:$BJ$32<>BH786,\"\",ROW($BJ$30:$BJ$32)),BI786)-29","v":{"$error":"#NUM!"}},{"$error":"#NUM!"},{"$error":"#NUM!"},true,false,{"$error":"#NUM!"}]
[null,null,null,null,null,null,null,null,null,null,null,null,null,null,null,null,null,null,null,null,null,null,null,null,null,null,null,null,null,null,null,null,null,null,null,null,null,null,null,null,null,null,null,null,null,null,null,null,null,null,null,null,false,true,0,738,{"$f":"SMALL(IF($BB$30:$BB$32<>BC787,\"\",ROW($BB$30:$BB$32)),BD787)-29","v":{"$error":"#NUM!"}},{"$error":"#NUM!"},{"$error":"#NUM!"},0,738,{"$f":"SMALL(IF($BJ$30:$BJ$32<>BH787,\"\",ROW($BJ$30:$BJ$32)),BI787)-29","v":{"$error":"#NUM!"}},{"$error":"#NUM!"},{"$error":"#NUM!"},true,false,{"$error":"#NUM!"}]
[null,null,null,null,null,null,null,null,null,null,null,null,null,null,null,null,null,null,null,null,null,null,null,null,null,null,null,null,null,null,null,null,null,null,null,null,null,null,null,null,null,null,null,null,null,null,null,null,null,null,null,null,false,true,0,741,{"$f":"SMALL(IF($BB$30:$BB$32<>BC790,\"\",ROW($BB$30:$BB$32)),BD790)-29","v":{"$error":"#NUM!"}},{"$error":"#NUM!"},{"$error":"#NUM!"},0,741,{"$f":"SMALL(IF($BJ$30:$BJ$32<>BH790,\"\",ROW($BJ$30:$BJ$32)),BI790)-29","v":{"$error":"#NUM!"}},{"$error":"#NUM!"},{"$error":"#NUM!"},true,false,{"$error":"#NUM!"}]
[null,null,null,null,null,null,null,null,null,null,null,null,null,null,null,null,null,null,null,null,null,null,null,null,null,null,null,null,null,null,null,null,null,null,null,null,null,null,null,null,null,null,null,null,null,null,null,null,null,null,null,null,false,true,0,744,{"$f":"SMALL(IF($BB$30:$BB$32<>BC793,\"\",ROW($BB$30:$BB$32)),BD793)-29","v":{"$error":"#NUM!"}},{"$error":"#NUM!"},{"$error":"#NUM!"},0,744,{"$f":"SMALL(IF($BJ$30:$BJ$32<>BH793,\"\",ROW($BJ$30:$BJ$32)),BI793)-29","v":{"$error":"#NUM!"}},{"$error":"#NUM!"},{"$error":"#NUM!"},true,false,{"$error":"#NUM!"}]
[null,null,null,null,null,null,null,null,null,null,null,null,null,null,null,null,null,null,null,null,null,null,null,null,null,null,null,null,null,null,null,null,null,null,null,null,null,null,null,null,null,null,null,null,null,null,null,null,null,null,null,null,false,true,0,747,{"$f":"SMALL(IF($BB$30:$BB$32<>BC796,\"\",ROW($BB$30:$BB$32)),BD796)-29","v":{"$error":"#NUM!"}},{"$error":"#NUM!"},{"$error":"#NUM!"},0,747,{"$f":"SMALL(IF($BJ$30:$BJ$32<>BH796,\"\",ROW($BJ$30:$BJ$32)),BI796)-29","v":{"$error":"#NUM!"}},{"$error":"#NUM!"},{"$error":"#NUM!"},true,false,{"$error":"#NUM!"}]
[null,null,null,null,null,null,null,null,null,null,null,null,null,null,null,null,null,null,null,null,null,null,null,null,null,null,null,null,null,null,null,null,null,null,null,null,null,null,null,null,null,null,null,null,null,null,null,null,null,null,null,null,false,true,0,750,{"$f":"SMALL(IF($BB$30:$BB$32<>BC799,\"\",ROW($BB$30:$BB$32)),BD799)-29","v":{"$error":"#NUM!"}},{"$error":"#NUM!"},{"$error":"#NUM!"},0,750,{"$f":"SMALL(IF($BJ$30:$BJ$32<>BH799,\"\",ROW($BJ$30:$BJ$32)),BI799)-29","v":{"$error":"#NUM!"}},{"$error":"#NUM!"},{"$error":"#NUM!"},true,false,{"$error":"#NUM!"}]
[null,null,null,null,null,null,null,null,null,null,null,null,null,null,null,null,null,null,null,null,null,null,null,null,null,null,null,null,null,null,null,null,null,null,null,null,null,null,null,null,null,null,null,null,null,null,null,null,null,null,null,null,false,true,0,753,{"$f":"SMALL(IF($BB$30:$BB$32<>BC802,\"\",ROW($BB$30:$BB$32)),BD802)-29","v":{"$error":"#NUM!"}},{"$error":"#NUM!"},{"$error":"#NUM!"},0,753,{"$f":"SMALL(IF($BJ$30:$BJ$32<>BH802,\"\",ROW($BJ$30:$BJ$32)),BI802)-29","v":{"$error":"#NUM!"}},{"$error":"#NUM!"},{"$error":"#NUM!"},true,false,{"$error":"#NUM!"}]
[null,null,null,null,null,null,null,null,null,null,null,null,null,null,null,null,null,null,null,null,null,null,null,null,null,null,null,null,null,null,null,null,null,null,null,null,null,null,null,null,null,null,null,null,null,null,null,null,null,null,null,null,false,true,0,755,{"$f":"SMALL(IF($BB$30:$BB$32<>BC804,\"\",ROW($BB$30:$BB$32)),BD804)-29","v":{"$error":"#NUM!"}},{"$error":"#NUM!"},{"$error":"#NUM!"},0,755,{"$f":"SMALL(IF($BJ$30:$BJ$32<>BH804,\"\",ROW($BJ$30:$BJ$32)),BI804)-29","v":{"$error":"#NUM!"}},{"$error":"#NUM!"},{"$error":"#NUM!"},true,false,{"$error":"#NUM!"}]
[null,null,null,null,null,null,null,null,null,null,null,null,null,null,null,null,null,null,null,null,null,null,null,null,null,null,null,null,null,null,null,null,null,null,null,null,null,null,null,null,null,null,null,null,null,null,null,null,null,null,null,null,false,true,0,758,{"$f":"SMALL(IF($BB$30:$BB$32<>BC807,\"\",ROW($BB$30:$BB$32)),BD807)-29","v":{"$error":"#NUM!"}},{"$error":"#NUM!"},{"$error":"#NUM!"},0,758,{"$f":"SMALL(IF($BJ$30:$BJ$32<>BH807,\"\",ROW($BJ$30:$BJ$32)),BI807)-29","v":{"$error":"#NUM!"}},{"$error":"#NUM!"},{"$error":"#NUM!"},true,false,{"$error":"#NUM!"}]
[null,null,null,null,null,null,null,null,null,null,null,null,null,null,null,null,null,null,null,null,null,null,null,null,null,null,null,null,null,null,null,null,null,null,null,null,null,null,null,null,null,null,null,null,null,null,null,null,null,null,null,null,false,true,0,759,{"$f":"SMALL(IF($BB$30:$BB$32<>BC808,\"\",ROW($BB$30:$BB$32)),BD808)-29","v":{"$error":"#NUM!"}},{"$error":"#NUM!"},{"$error":"#NUM!"},0,759,{"$f":"SMALL(IF($BJ$30:$BJ$32<>BH808,\"\",ROW($BJ$30:$BJ$32)),BI808)-29","v":{"$error":"#NUM!"}},{"$error":"#NUM!"},{"$error":"#NUM!"},true,false,{"$error":"#NUM!"}]
[null,null,null,null,null,null,null,null,null,null,null,null,null,null,null,null,null,null,null,null,null,null,null,null,null,null,null,null,null,null,null,null,null,null,null,null,null,null,null,null,null,null,null,null,null,null,null,null,null,null,null,null,false,true,0,762,{"$f":"SMALL(IF($BB$30:$BB$32<>BC811,\"\",ROW($BB$30:$BB$32)),BD811)-29","v":{"$error":"#NUM!"}},{"$error":"#NUM!"},{"$error":"#NUM!"},0,762,{"$f":"SMALL(IF($BJ$30:$BJ$32<>BH811,\"\",ROW($BJ$30:$BJ$32)),BI811)-29","v":{"$error":"#NUM!"}},{"$error":"#NUM!"},{"$error":"#NUM!"},true,false,{"$error":"#NUM!"}]
[null,null,null,null,null,null,null,null,null,null,null,null,null,null,null,null,null,null,null,null,null,null,null,null,null,null,null,null,null,null,null,null,null,null,null,null,null,null,null,null,null,null,null,null,null,null,null,null,null,null,null,null,false,true,0,765,{"$f":"SMALL(IF($BB$30:$BB$32<>BC814,\"\",ROW($BB$30:$BB$32)),BD814)-29","v":{"$error":"#NUM!"}},{"$error":"#NUM!"},{"$error":"#NUM!"},0,765,{"$f":"SMALL(IF($BJ$30:$BJ$32<>BH814,\"\",ROW($BJ$30:$BJ$32)),BI814)-29","v":{"$error":"#NUM!"}},{"$error":"#NUM!"},{"$error":"#NUM!"},true,false,{"$error":"#NUM!"}]
[null,null,null,null,null,null,null,null,null,null,null,null,null,null,null,null,null,null,null,null,null,null,null,null,null,null,null,null,null,null,null,null,null,null,null,null,null,null,null,null,null,null,null,null,null,null,null,null,null,null,null,null,false,true,0,768,{"$f":"SMALL(IF($BB$30:$BB$32<>BC817,\"\",ROW($BB$30:$BB$32)),BD817)-29","v":{"$error":"#NUM!"}},{"$error":"#NUM!"},{"$error":"#NUM!"},0,768,{"$f":"SMALL(IF($BJ$30:$BJ$32<>BH817,\"\",ROW($BJ$30:$BJ$32)),BI817)-29","v":{"$error":"#NUM!"}},{"$error":"#NUM!"},{"$error":"#NUM!"},true,false,{"$error":"#NUM!"}]
[null,null,null,null,null,null,null,null,null,null,null,null,null,null,null,null,null,null,null,null,null,null,null,null,null,null,null,null,null,null,null,null,null,null,null,null,null,null,null,null,null,null,null,null,null,null,null,null,null,null,null,null,false,true,0,771,{"$f":"SMALL(IF($BB$30:$BB$32<>BC820,\"\",ROW($BB$30:$BB$32)),BD820)-29","v":{"$error":"#NUM!"}},{"$error":"#NUM!"},{"$error":"#NUM!"},0,771,{"$f":"SMALL(IF($BJ$30:$BJ$32<>BH820,\"\",ROW($BJ$30:$BJ$32)),BI820)-29","v":{"$error":"#NUM!"}},{"$error":"#NUM!"},{"$error":"#NUM!"},true,false,{"$error":"#NUM!"}]
[null,null,null,null,null,null,null,null,null,null,null,null,null,null,null,null,null,null,null,null,null,null,null,null,null,null,null,null,null,null,null,null,null,null,null,null,null,null,null,null,null,null,null,null,null,null,null,null,null,null,null,null,false,true,0,774,{"$f":"SMALL(IF($BB$30:$BB$32<>BC823,\"\",ROW($BB$30:$BB$32)),BD823)-29","v":{"$error":"#NUM!"}},{"$error":"#NUM!"},{"$error":"#NUM!"},0,774,{"$f":"SMALL(IF($BJ$30:$BJ$32<>BH823,\"\",ROW($BJ$30:$BJ$32)),BI823)-29","v":{"$error":"#NUM!"}},{"$error":"#NUM!"},{"$error":"#NUM!"},true,false,{"$error":"#NUM!"}]
[null,null,null,null,null,null,null,null,null,null,null,null,null,null,null,null,null,null,null,null,null,null,null,null,null,null,null,null,null,null,null,null,null,null,null,null,null,null,null,null,null,null,null,null,null,null,null,null,null,null,null,null,false,true,0,777,{"$f":"SMALL(IF($BB$30:$BB$32<>BC826,\"\",ROW($BB$30:$BB$32)),BD826)-29","v":{"$error":"#NUM!"}},{"$error":"#NUM!"},{"$error":"#NUM!"},0,777,{"$f":"SMALL(IF($BJ$30:$BJ$32<>BH826,\"\",ROW($BJ$30:$BJ$32)),BI826)-29","v":{"$error":"#NUM!"}},{"$error":"#NUM!"},{"$error":"#NUM!"},true,false,{"$error":"#NUM!"}]
[null,null,null,null,null,null,null,null,null,null,null,null,null,null,null,null,null,null,null,null,null,null,null,null,null,null,null,null,null,null,null,null,null,null,null,null,null,null,null,null,null,null,null,null,null,null,null,null,null,null,null,null,false,true,0,778,{"$f":"SMALL(IF($BB$30:$BB$32<>BC827,\"\",ROW($BB$30:$BB$32)),BD827)-29","v":{"$error":"#NUM!"}},{"$error":"#NUM!"},{"$error":"#NUM!"},0,778,{"$f":"SMALL(IF($BJ$30:$BJ$32<>BH827,\"\",ROW($BJ$30:$BJ$32)),BI827)-29","v":{"$error":"#NUM!"}},{"$error":"#NUM!"},{"$error":"#NUM!"},true,false,{"$error":"#NUM!"}]
[null,null,null,null,null,null,null,null,null,null,null,null,null,null,null,null,null,null,null,null,null,null,null,null,null,null,null,null,null,null,null,null,null,null,null,null,null,null,null,null,null,null,null,null,null,null,null,null,null,null,null,null,false,true,0,780,{"$f":"SMALL(IF($BB$30:$BB$32<>BC829,\"\",ROW($BB$30:$BB$32)),BD829)-29","v":{"$error":"#NUM!"}},{"$error":"#NUM!"},{"$error":"#NUM!"},0,780,{"$f":"SMALL(IF($BJ$30:$BJ$32<>BH829,\"\",ROW($BJ$30:$BJ$32)),BI829)-29","v":{"$error":"#NUM!"}},{"$error":"#NUM!"},{"$error":"#NUM!"},true,false,{"$error":"#NUM!"}]
[null,null,null,null,null,null,null,null,null,null,null,null,null,null,null,null,null,null,null,null,null,null,null,null,null,null,null,null,null,null,null,null,null,null,null,null,null,null,null,null,null,null,null,null,null,null,null,null,null,null,null,null,false,true,0,783,{"$f":"SMALL(IF($BB$30:$BB$32<>BC832,\"\",ROW($BB$30:$BB$32)),BD832)-29","v":{"$error":"#NUM!"}},{"$error":"#NUM!"},{"$error":"#NUM!"},0,783,{"$f":"SMALL(IF($BJ$30:$BJ$32<>BH832,\"\",ROW($BJ$30:$BJ$32)),BI832)-29","v":{"$error":"#NUM!"}},{"$error":"#NUM!"},{"$error":"#NUM!"},true,false,{"$error":"#NUM!"}]
[null,null,null,null,null,null,null,null,null,null,null,null,null,null,null,null,null,null,null,null,null,null,null,null,null,null,null,null,null,null,null,null,null,null,null,null,null,null,null,null,null,null,null,null,null,null,null,null,null,null,null,null,false,true,0,787,{"$f":"SMALL(IF($BB$30:$BB$32<>BC836,\"\",ROW($BB$30:$BB$32)),BD836)-29","v":{"$error":"#NUM!"}},{"$error":"#NUM!"},{"$error":"#NUM!"},0,787,{"$f":"SMALL(IF($BJ$30:$BJ$32<>BH836,\"\",ROW($BJ$30:$BJ$32)),BI836)-29","v":{"$error":"#NUM!"}},{"$error":"#NUM!"},{"$error":"#NUM!"},true,false,{"$error":"#NUM!"}]
[null,null,null,null,null,null,null,null,null,null,null,null,null,null,null,null,null,null,null,null,null,null,null,null,null,null,null,null,null,null,null,null,null,null,null,null,null,null,null,null,null,null,null,null,null,null,null,null,null,null,null,null,false,true,0,789,{"$f":"SMALL(IF($BB$30:$BB$32<>BC838,\"\",ROW($BB$30:$BB$32)),BD838)-29","v":{"$error":"#NUM!"}},{"$error":"#NUM!"},{"$error":"#NUM!"},0,789,{"$f":"SMALL(IF($BJ$30:$BJ$32<>BH838,\"\",ROW($BJ$30:$BJ$32)),BI838)-29","v":{"$error":"#NUM!"}},{"$error":"#NUM!"},{"$error":"#NUM!"},true,false,{"$error":"#NUM!"}]
[null,null,null,null,null,null,null,null,null,null,null,null,null,null,null,null,null,null,null,null,null,null,null,null,null,null,null,null,null,null,null,null,null,null,null,null,null,null,null,null,null,null,null,null,null,null,null,null,null,null,null,null,false,true,0,792,{"$f":"SMALL(IF($BB$30:$BB$32<>BC841,\"\",ROW($BB$30:$BB$32)),BD841)-29","v":{"$error":"#NUM!"}},{"$error":"#NUM!"},{"$error":"#NUM!"},0,792,{"$f":"SMALL(IF($BJ$30:$BJ$32<>BH841,\"\",ROW($BJ$30:$BJ$32)),BI841)-29","v":{"$error":"#NUM!"}},{"$error":"#NUM!"},{"$error":"#NUM!"},true,false,{"$error":"#NUM!"}]
[null,null,null,null,null,null,null,null,null,null,null,null,null,null,null,null,null,null,null,null,null,null,null,null,null,null,null,null,null,null,null,null,null,null,null,null,null,null,null,null,null,null,null,null,null,null,null,null,null,null,null,null,false,true,0,794,{"$f":"SMALL(IF($BB$30:$BB$32<>BC843,\"\",ROW($BB$30:$BB$32)),BD843)-29","v":{"$error":"#NUM!"}},{"$error":"#NUM!"},{"$error":"#NUM!"},0,794,{"$f":"SMALL(IF($BJ$30:$BJ$32<>BH843,\"\",ROW($BJ$30:$BJ$32)),BI843)-29","v":{"$error":"#NUM!"}},{"$error":"#NUM!"},{"$error":"#NUM!"},true,false,{"$error":"#NUM!"}]
[null,null,null,null,null,null,null,null,null,null,null,null,null,null,null,null,null,null,null,null,null,null,null,null,null,null,null,null,null,null,null,null,null,null,null,null,null,null,null,null,null,null,null,null,null,null,null,null,null,null,null,null,false,true,0,798,{"$f":"SMALL(IF($BB$30:$BB$32<>BC847,\"\",ROW($BB$30:$BB$32)),BD847)-29","v":{"$error":"#NUM!"}},{"$error":"#NUM!"},{"$error":"#NUM!"},0,798,{"$f":"SMALL(IF($BJ$30:$BJ$32<>BH847,\"\",ROW($BJ$30:$BJ$32)),BI847)-29","v":{"$error":"#NUM!"}},{"$error":"#NUM!"},{"$error":"#NUM!"},true,false,{"$error":"#NUM!"}]
[null,null,null,null,null,null,null,null,null,null,null,null,null,null,null,null,null,null,null,null,null,null,null,null,null,null,null,null,null,null,null,null,null,null,null,null,null,null,null,null,null,null,null,null,null,null,null,null,null,null,null,null,false,true,0,799,{"$f":"SMALL(IF($BB$30:$BB$32<>BC848,\"\",ROW($BB$30:$BB$32)),BD848)-29","v":{"$error":"#NUM!"}},{"$error":"#NUM!"},{"$error":"#NUM!"},0,799,{"$f":"SMALL(IF($BJ$30:$BJ$32<>BH848,\"\",ROW($BJ$30:$BJ$32)),BI848)-29","v":{"$error":"#NUM!"}},{"$error":"#NUM!"},{"$error":"#NUM!"},true,false,{"$error":"#NUM!"}]
[null,null,null,null,null,null,null,null,null,null,null,null,null,null,null,null,null,null,null,null,null,null,null,null,null,null,null,null,null,null,null,null,null,null,null,null,null,null,null,null,null,null,null,null,null,null,null,null,null,null,null,null,false,true,0,803,{"$f":"SMALL(IF($BB$30:$BB$32<>BC852,\"\",ROW($BB$30:$BB$32)),BD852)-29","v":{"$error":"#NUM!"}},{"$error":"#NUM!"},{"$error":"#NUM!"},0,803,{"$f":"SMALL(IF($BJ$30:$BJ$32<>BH852,\"\",ROW($BJ$30:$BJ$32)),BI852)-29","v":{"$error":"#NUM!"}},{"$error":"#NUM!"},{"$error":"#NUM!"},true,false,{"$error":"#NUM!"}]
[null,null,null,null,null,null,null,null,null,null,null,null,null,null,null,null,null,null,null,null,null,null,null,null,null,null,null,null,null,null,null,null,null,null,null,null,null,null,null,null,null,null,null,null,null,null,null,null,null,null,null,null,false,true,0,804,{"$f":"SMALL(IF($BB$30:$BB$32<>BC853,\"\",ROW($BB$30:$BB$32)),BD853)-29","v":{"$error":"#NUM!"}},{"$error":"#NUM!"},{"$error":"#NUM!"},0,804,{"$f":"SMALL(IF($BJ$30:$BJ$32<>BH853,\"\",ROW($BJ$30:$BJ$32)),BI853)-29","v":{"$error":"#NUM!"}},{"$error":"#NUM!"},{"$error":"#NUM!"},true,false,{"$error":"#NUM!"}]
[null,null,null,null,null,null,null,null,null,null,null,null,null,null,null,null,null,null,null,null,null,null,null,null,null,null,null,null,null,null,null,null,null,null,null,null,null,null,null,null,null,null,null,null,null,null,null,null,null,null,null,null,false,true,0,808,{"$f":"SMALL(IF($BB$30:$BB$32<>BC857,\"\",ROW($BB$30:$BB$32)),BD857)-29","v":{"$error":"#NUM!"}},{"$error":"#NUM!"},{"$error":"#NUM!"},0,808,{"$f":"SMALL(IF($BJ$30:$BJ$32<>BH857,\"\",ROW($BJ$30:$BJ$32)),BI857)-29","v":{"$error":"#NUM!"}},{"$error":"#NUM!"},{"$error":"#NUM!"},true,false,{"$error":"#NUM!"}]
[null,null,null,null,null,null,null,null,null,null,null,null,null,null,null,null,null,null,null,null,null,null,null,null,null,null,null,null,null,null,null,null,null,null,null,null,null,null,null,null,null,null,null,null,null,null,null,null,null,null,null,null,false,true,0,810,{"$f":"SMALL(IF($BB$30:$BB$32<>BC859,\"\",ROW($BB$30:$BB$32)),BD859)-29","v":{"$error":"#NUM!"}},{"$error":"#NUM!"},{"$error":"#NUM!"},0,810,{"$f":"SMALL(IF($BJ$30:$BJ$32<>BH859,\"\",ROW($BJ$30:$BJ$32)),BI859)-29","v":{"$error":"#NUM!"}},{"$error":"#NUM!"},{"$error":"#NUM!"},true,false,{"$error":"#NUM!"}]
[null,null,null,null,null,null,null,null,null,null,null,null,null,null,null,null,null,null,null,null,null,null,null,null,null,null,null,null,null,null,null,null,null,null,null,null,null,null,null,null,null,null,null,null,null,null,null,null,null,null,null,null,false,true,0,813,{"$f":"SMALL(IF($BB$30:$BB$32<>BC862,\"\",ROW($BB$30:$BB$32)),BD862)-29","v":{"$error":"#NUM!"}},{"$error":"#NUM!"},{"$error":"#NUM!"},0,813,{"$f":"SMALL(IF($BJ$30:$BJ$32<>BH862,\"\",ROW($BJ$30:$BJ$32)),BI862)-29","v":{"$error":"#NUM!"}},{"$error":"#NUM!"},{"$error":"#NUM!"},true,false,{"$error":"#NUM!"}]
[null,null,null,null,null,null,null,null,null,null,null,null,null,null,null,null,null,null,null,null,null,null,null,null,null,null,null,null,null,null,null,null,null,null,null,null,null,null,null,null,null,null,null,null,null,null,null,null,null,null,null,null,false,true,0,815,{"$f":"SMALL(IF($BB$30:$BB$32<>BC864,\"\",ROW($BB$30:$BB$32)),BD864)-29","v":{"$error":"#NUM!"}},{"$error":"#NUM!"},{"$error":"#NUM!"},0,815,{"$f":"SMALL(IF($BJ$30:$BJ$32<>BH864,\"\",ROW($BJ$30:$BJ$32)),BI864)-29","v":{"$error":"#NUM!"}},{"$error":"#NUM!"},{"$error":"#NUM!"},true,false,{"$error":"#NUM!"}]
[null,null,null,null,null,null,null,null,null,null,null,null,null,null,null,null,null,null,null,null,null,null,null,null,null,null,null,null,null,null,null,null,null,null,null,null,null,null,null,null,null,null,null,null,null,null,null,null,null,null,null,null,false,true,0,819,{"$f":"SMALL(IF($BB$30:$BB$32<>BC868,\"\",ROW($BB$30:$BB$32)),BD868)-29","v":{"$error":"#NUM!"}},{"$error":"#NUM!"},{"$error":"#NUM!"},0,819,{"$f":"SMALL(IF($BJ$30:$BJ$32<>BH868,\"\",ROW($BJ$30:$BJ$32)),BI868)-29","v":{"$error":"#NUM!"}},{"$error":"#NUM!"},{"$error":"#NUM!"},true,false,{"$error":"#NUM!"}]
[null,null,null,null,null,null,null,null,null,null,null,null,null,null,null,null,null,null,null,null,null,null,null,null,null,null,null,null,null,null,null,null,null,null,null,null,null,null,null,null,null,null,null,null,null,null,null,null,null,null,null,null,false,true,0,820,{"$f":"SMALL(IF($BB$30:$BB$32<>BC869,\"\",ROW($BB$30:$BB$32)),BD869)-29","v":{"$error":"#NUM!"}},{"$error":"#NUM!"},{"$error":"#NUM!"},0,820,{"$f":"SMALL(IF($BJ$30:$BJ$32<>BH869,\"\",ROW($BJ$30:$BJ$32)),BI869)-29","v":{"$error":"#NUM!"}},{"$error":"#NUM!"},{"$error":"#NUM!"},true,false,{"$error":"#NUM!"}]
[null,null,null,null,null,null,null,null,null,null,null,null,null,null,null,null,null,null,null,null,null,null,null,null,null,null,null,null,null,null,null,null,null,null,null,null,null,null,null,null,null,null,null,null,null,null,null,null,null,null,null,null,false,true,0,824,{"$f":"SMALL(IF($BB$30:$BB$32<>BC873,\"\",ROW($BB$30:$BB$32)),BD873)-29","v":{"$error":"#NUM!"}},{"$error":"#NUM!"},{"$error":"#NUM!"},0,824,{"$f":"SMALL(IF($BJ$30:$BJ$32<>BH873,\"\",ROW($BJ$30:$BJ$32)),BI873)-29","v":{"$error":"#NUM!"}},{"$error":"#NUM!"},{"$error":"#NUM!"},true,false,{"$error":"#NUM!"}]
[null,null,null,null,null,null,null,null,null,null,null,null,null,null,null,null,null,null,null,null,null,null,null,null,null,null,null,null,null,null,null,null,null,null,null,null,null,null,null,null,null,null,null,null,null,null,null,null,null,null,null,null,false,true,0,825,{"$f":"SMALL(IF($BB$30:$BB$32<>BC874,\"\",ROW($BB$30:$BB$32)),BD874)-29","v":{"$error":"#NUM!"}},{"$error":"#NUM!"},{"$error":"#NUM!"},0,825,{"$f":"SMALL(IF($BJ$30:$BJ$32<>BH874,\"\",ROW($BJ$30:$BJ$32)),BI874)-29","v":{"$error":"#NUM!"}},{"$error":"#NUM!"},{"$error":"#NUM!"},true,false,{"$error":"#NUM!"}]
[null,null,null,null,null,null,null,null,null,null,null,null,null,null,null,null,null,null,null,null,null,null,null,null,null,null,null,null,null,null,null,null,null,null,null,null,null,null,null,null,null,null,null,null,null,null,null,null,null,null,null,null,false,true,0,829,{"$f":"SMALL(IF($BB$30:$BB$32<>BC878,\"\",ROW($BB$30:$BB$32)),BD878)-29","v":{"$error":"#NUM!"}},{"$error":"#NUM!"},{"$error":"#NUM!"},0,829,{"$f":"SMALL(IF($BJ$30:$BJ$32<>BH878,\"\",ROW($BJ$30:$BJ$32)),BI878)-29","v":{"$error":"#NUM!"}},{"$error":"#NUM!"},{"$error":"#NUM!"},true,false,{"$error":"#NUM!"}]
[null,null,null,null,null,null,null,null,null,null,null,null,null,null,null,null,null,null,null,null,null,null,null,null,null,null,null,null,null,null,null,null,null,null,null,null,null,null,null,null,null,null,null,null,null,null,null,null,null,null,null,null,false,true,0,831,{"$f":"SMALL(IF($BB$30:$BB$32<>BC880,\"\",ROW($BB$30:$BB$32)),BD880)-29","v":{"$error":"#NUM!"}},{"$error":"#NUM!"},{"$error":"#NUM!"},0,831,{"$f":"SMALL(IF($BJ$30:$BJ$32<>BH880,\"\",ROW($BJ$30:$BJ$32)),BI880)-29","v":{"$error":"#NUM!"}},{"$error":"#NUM!"},{"$error":"#NUM!"},true,false,{"$error":"#NUM!"}]
[null,null,null,null,null,null,null,null,null,null,null,null,null,null,null,null,null,null,null,null,null,null,null,null,null,null,null,null,null,null,null,null,null,null,null,null,null,null,null,null,null,null,null,null,null,null,null,null,null,null,null,null,false,true,0,835,{"$f":"SMALL(IF($BB$30:$BB$32<>BC884,\"\",ROW($BB$30:$BB$32)),BD884)-29","v":{"$error":"#NUM!"}},{"$error":"#NUM!"},{"$error":"#NUM!"},0,835,{"$f":"SMALL(IF($BJ$30:$BJ$32<>BH884,\"\",ROW($BJ$30:$BJ$32)),BI884)-29","v":{"$error":"#NUM!"}},{"$error":"#NUM!"},{"$error":"#NUM!"},true,false,{"$error":"#NUM!"}]
[null,null,null,null,null,null,null,null,null,null,null,null,null,null,null,null,null,null,null,null,null,null,null,null,null,null,null,null,null,null,null,null,null,null,null,null,null,null,null,null,null,null,null,null,null,null,null,null,null,null,null,null,false,true,0,838,{"$f":"SMALL(IF($BB$30:$BB$32<>BC887,\"\",ROW($BB$30:$BB$32)),BD887)-29","v":{"$error":"#NUM!"}},{"$error":"#NUM!"},{"$error":"#NUM!"},0,838,{"$f":"SMALL(IF($BJ$30:$BJ$32<>BH887,\"\",ROW($BJ$30:$BJ$32)),BI887)-29","v":{"$error":"#NUM!"}},{"$error":"#NUM!"},{"$error":"#NUM!"},true,false,{"$error":"#NUM!"}]
[null,null,null,null,null,null,null,null,null,null,null,null,null,null,null,null,null,null,null,null,null,null,null,null,null,null,null,null,null,null,null,null,null,null,null,null,null,null,null,null,null,null,null,null,null,null,null,null,null,null,null,null,false,true,0,840,{"$f":"SMALL(IF($BB$30:$BB$32<>BC889,\"\",ROW($BB$30:$BB$32)),BD889)-29","v":{"$error":"#NUM!"}},{"$error":"#NUM!"},{"$error":"#NUM!"},0,840,{"$f":"SMALL(IF($BJ$30:$BJ$32<>BH889,\"\",ROW($BJ$30:$BJ$32)),BI889)-29","v":{"$error":"#NUM!"}},{"$error":"#NUM!"},{"$error":"#NUM!"},true,false,{"$error":"#NUM!"}]
[null,null,null,null,null,null,null,null,null,null,null,null,null,null,null,null,null,null,null,null,null,null,null,null,null,null,null,null,null,null,null,null,null,null,null,null,null,null,null,null,null,null,null,null,null,null,null,null,null,null,null,null,false,true,0,841,{"$f":"SMALL(IF($BB$30:$BB$32<>BC890,\"\",ROW($BB$30:$BB$32)),BD890)-29","v":{"$error":"#NUM!"}},{"$error":"#NUM!"},{"$error":"#NUM!"},0,841,{"$f":"SMALL(IF($BJ$30:$BJ$32<>BH890,\"\",ROW($BJ$30:$BJ$32)),BI890)-29","v":{"$error":"#NUM!"}},{"$error":"#NUM!"},{"$error":"#NUM!"},true,false,{"$error":"#NUM!"}]
[null,null,null,null,null,null,null,null,null,null,null,null,null,null,null,null,null,null,null,null,null,null,null,null,null,null,null,null,null,null,null,null,null,null,null,null,null,null,null,null,null,null,null,null,null,null,null,null,null,null,null,null,false,true,0,844,{"$f":"SMALL(IF($BB$30:$BB$32<>BC893,\"\",ROW($BB$30:$BB$32)),BD893)-29","v":{"$error":"#NUM!"}},{"$error":"#NUM!"},{"$error":"#NUM!"},0,844,{"$f":"SMALL(IF($BJ$30:$BJ$32<>BH893,\"\",ROW($BJ$30:$BJ$32)),BI893)-29","v":{"$error":"#NUM!"}},{"$error":"#NUM!"},{"$error":"#NUM!"},true,false,{"$error":"#NUM!"}]
[null,null,null,null,null,null,null,null,null,null,null,null,null,null,null,null,null,null,null,null,null,null,null,null,null,null,null,null,null,null,null,null,null,null,null,null,null,null,null,null,null,null,null,null,null,null,null,null,null,null,null,null,false,true,0,847,{"$f":"SMALL(IF($BB$30:$BB$32<>BC896,\"\",ROW($BB$30:$BB$32)),BD896)-29","v":{"$error":"#NUM!"}},{"$error":"#NUM!"},{"$error":"#NUM!"},0,847,{"$f":"SMALL(IF($BJ$30:$BJ$32<>BH896,\"\",ROW($BJ$30:$BJ$32)),BI896)-29","v":{"$error":"#NUM!"}},{"$error":"#NUM!"},{"$error":"#NUM!"},true,false,{"$error":"#NUM!"}]
[null,null,null,null,null,null,null,null,null,null,null,null,null,null,null,null,null,null,null,null,null,null,null,null,null,null,null,null,null,null,null,null,null,null,null,null,null,null,null,null,null,null,null,null,null,null,null,null,null,null,null,null,false,true,0,850,{"$f":"SMALL(IF($BB$30:$BB$32<>BC899,\"\",ROW($BB$30:$BB$32)),BD899)-29","v":{"$error":"#NUM!"}},{"$error":"#NUM!"},{"$error":"#NUM!"},0,850,{"$f":"SMALL(IF($BJ$30:$BJ$32<>BH899,\"\",ROW($BJ$30:$BJ$32)),BI899)-29","v":{"$error":"#NUM!"}},{"$error":"#NUM!"},{"$error":"#NUM!"},true,false,{"$error":"#NUM!"}]
[null,null,null,null,null,null,null,null,null,null,null,null,null,null,null,null,null,null,null,null,null,null,null,null,null,null,null,null,null,null,null,null,null,null,null,null,null,null,null,null,null,null,null,null,null,null,null,null,null,null,null,null,false,true,0,853,{"$f":"SMALL(IF($BB$30:$BB$32<>BC902,\"\",ROW($BB$30:$BB$32)),BD902)-29","v":{"$error":"#NUM!"}},{"$error":"#NUM!"},{"$error":"#NUM!"},0,853,{"$f":"SMALL(IF($BJ$30:$BJ$32<>BH902,\"\",ROW($BJ$30:$BJ$32)),BI902)-29","v":{"$error":"#NUM!"}},{"$error":"#NUM!"},{"$error":"#NUM!"},true,false,{"$error":"#NUM!"}]
[null,null,null,null,null,null,null,null,null,null,null,null,null,null,null,null,null,null,null,null,null,null,null,null,null,null,null,null,null,null,null,null,null,null,null,null,null,null,null,null,null,null,null,null,null,null,null,null,null,null,null,null,false,true,0,856,{"$f":"SMALL(IF($BB$30:$BB$32<>BC905,\"\",ROW($BB$30:$BB$32)),BD905)-29","v":{"$error":"#NUM!"}},{"$error":"#NUM!"},{"$error":"#NUM!"},0,856,{"$f":"SMALL(IF($BJ$30:$BJ$32<>BH905,\"\",ROW($BJ$30:$BJ$32)),BI905)-29","v":{"$error":"#NUM!"}},{"$error":"#NUM!"},{"$error":"#NUM!"},true,false,{"$error":"#NUM!"}]
[null,null,null,null,null,null,null,null,null,null,null,null,null,null,null,null,null,null,null,null,null,null,null,null,null,null,null,null,null,null,null,null,null,null,null,null,null,null,null,null,null,null,null,null,null,null,null,null,null,null,null,null,false,true,0,859,{"$f":"SMALL(IF($BB$30:$BB$32<>BC908,\"\",ROW($BB$30:$BB$32)),BD908)-29","v":{"$error":"#NUM!"}},{"$error":"#NUM!"},{"$error":"#NUM!"},0,859,{"$f":"SMALL(IF($BJ$30:$BJ$32<>BH908,\"\",ROW($BJ$30:$BJ$32)),BI908)-29","v":{"$error":"#NUM!"}},{"$error":"#NUM!"},{"$error":"#NUM!"},true,false,{"$error":"#NUM!"}]
[null,null,null,null,null,null,null,null,null,null,null,null,null,null,null,null,null,null,null,null,null,null,null,null,null,null,null,null,null,null,null,null,null,null,null,null,null,null,null,null,null,null,null,null,null,null,null,null,null,null,null,null,false,true,0,862,{"$f":"SMALL(IF($BB$30:$BB$32<>BC911,\"\",ROW($BB$30:$BB$32)),BD911)-29","v":{"$error":"#NUM!"}},{"$error":"#NUM!"},{"$error":"#NUM!"},0,862,{"$f":"SMALL(IF($BJ$30:$BJ$32<>BH911,\"\",ROW($BJ$30:$BJ$32)),BI911)-29","v":{"$error":"#NUM!"}},{"$error":"#NUM!"},{"$error":"#NUM!"},true,false,{"$error":"#NUM!"}]
[null,null,null,null,null,null,null,null,null,null,null,null,null,null,null,null,null,null,null,null,null,null,null,null,null,null,null,null,null,null,null,null,null,null,null,null,null,null,null,null,null,null,null,null,null,null,null,null,null,null,null,null,false,true,0,863,{"$f":"SMALL(IF($BB$30:$BB$32<>BC912,\"\",ROW($BB$30:$BB$32)),BD912)-29","v":{"$error":"#NUM!"}},{"$error":"#NUM!"},{"$error":"#NUM!"},0,863,{"$f":"SMALL(IF($BJ$30:$BJ$32<>BH912,\"\",ROW($BJ$30:$BJ$32)),BI912)-29","v":{"$error":"#NUM!"}},{"$error":"#NUM!"},{"$error":"#NUM!"},true,false,{"$error":"#NUM!"}]
[null,null,null,null,null,null,null,null,null,null,null,null,null,null,null,null,null,null,null,null,null,null,null,null,null,null,null,null,null,null,null,null,null,null,null,null,null,null,null,null,null,null,null,null,null,null,null,null,null,null,null,null,false,true,0,865,{"$f":"SMALL(IF($BB$30:$BB$32<>BC914,\"\",ROW($BB$30:$BB$32)),BD914)-29","v":{"$error":"#NUM!"}},{"$error":"#NUM!"},{"$error":"#NUM!"},0,865,{"$f":"SMALL(IF($BJ$30:$BJ$32<>BH914,\"\",ROW($BJ$30:$BJ$32)),BI914)-29","v":{"$error":"#NUM!"}},{"$error":"#NUM!"},{"$error":"#NUM!"},true,false,{"$error":"#NUM!"}]
[null,null,null,null,null,null,null,null,null,null,null,null,null,null,null,null,null,null,null,null,null,null,null,null,null,null,null,null,null,null,null,null,null,null,null,null,null,null,null,null,null,null,null,null,null,null,null,null,null,null,null,null,false,true,0,868,{"$f":"SMALL(IF($BB$30:$BB$32<>BC917,\"\",ROW($BB$30:$BB$32)),BD917)-29","v":{"$error":"#NUM!"}},{"$error":"#NUM!"},{"$error":"#NUM!"},0,868,{"$f":"SMALL(IF($BJ$30:$BJ$32<>BH917,\"\",ROW($BJ$30:$BJ$32)),BI917)-29","v":{"$error":"#NUM!"}},{"$error":"#NUM!"},{"$error":"#NUM!"},true,false,{"$error":"#NUM!"}]
[null,null,null,null,null,null,null,null,null,null,null,null,null,null,null,null,null,null,null,null,null,null,null,null,null,null,null,null,null,null,null,null,null,null,null,null,null,null,null,null,null,null,null,null,null,null,null,null,null,null,null,null,false,true,0,872,{"$f":"SMALL(IF($BB$30:$BB$32<>BC921,\"\",ROW($BB$30:$BB$32)),BD921)-29","v":{"$error":"#NUM!"}},{"$error":"#NUM!"},{"$error":"#NUM!"},0,872,{"$f":"SMALL(IF($BJ$30:$BJ$32<>BH921,\"\",ROW($BJ$30:$BJ$32)),BI921)-29","v":{"$error":"#NUM!"}},{"$error":"#NUM!"},{"$error":"#NUM!"},true,false,{"$error":"#NUM!"}]
[null,null,null,null,null,null,null,null,null,null,null,null,null,null,null,null,null,null,null,null,null,null,null,null,null,null,null,null,null,null,null,null,null,null,null,null,null,null,null,null,null,null,null,null,null,null,null,null,null,null,null,null,false,true,0,874,{"$f":"SMALL(IF($BB$30:$BB$32<>BC923,\"\",ROW($BB$30:$BB$32)),BD923)-29","v":{"$error":"#NUM!"}},{"$error":"#NUM!"},{"$error":"#NUM!"},0,874,{"$f":"SMALL(IF($BJ$30:$BJ$32<>BH923,\"\",ROW($BJ$30:$BJ$32)),BI923)-29","v":{"$error":"#NUM!"}},{"$error":"#NUM!"},{"$error":"#NUM!"},true,false,{"$error":"#NUM!"}]
[null,null,null,null,null,null,null,null,null,null,null,null,null,null,null,null,null,null,null,null,null,null,null,null,null,null,null,null,null,null,null,null,null,null,null,null,null,null,null,null,null,null,null,null,null,null,null,null,null,null,null,null,false,true,0,877,{"$f":"SMALL(IF($BB$30:$BB$32<>BC926,\"\",ROW($BB$30:$BB$32)),BD926)-29","v":{"$error":"#NUM!"}},{"$error":"#NUM!"},{"$error":"#NUM!"},0,877,{"$f":"SMALL(IF($BJ$30:$BJ$32<>BH926,\"\",ROW($BJ$30:$BJ$32)),BI926)-29","v":{"$error":"#NUM!"}},{"$error":"#NUM!"},{"$error":"#NUM!"},true,false,{"$error":"#NUM!"}]
[null,null,null,null,null,null,null,null,null,null,null,null,null,null,null,null,null,null,null,null,null,null,null,null,null,null,null,null,null,null,null,null,null,null,null,null,null,null,null,null,null,null,null,null,null,null,null,null,null,null,null,null,false,true,0,880,{"$f":"SMALL(IF($BB$30:$BB$32<>BC929,\"\",ROW($BB$30:$BB$32)),BD929)-29","v":{"$error":"#NUM!"}},{"$error":"#NUM!"},{"$error":"#NUM!"},0,880,{"$f":"SMALL(IF($BJ$30:$BJ$32<>BH929,\"\",ROW($BJ$30:$BJ$32)),BI929)-29","v":{"$error":"#NUM!"}},{"$error":"#NUM!"},{"$error":"#NUM!"},true,false,{"$error":"#NUM!"}]
[null,null,null,null,null,null,null,null,null,null,null,null,null,null,null,null,null,null,null,null,null,null,null,null,null,null,null,null,null,null,null,null,null,null,null,null,null,null,null,null,null,null,null,null,null,null,null,null,null,null,null,null,false,true,0,883,{"$f":"SMALL(IF($BB$30:$BB$32<>BC932,\"\",ROW($BB$30:$BB$32)),BD932)-29","v":{"$error":"#NUM!"}},{"$error":"#NUM!"},{"$error":"#NUM!"},0,883,{"$f":"SMALL(IF($BJ$30:$BJ$32<>BH932,\"\",ROW($BJ$30:$BJ$32)),BI932)-29","v":{"$error":"#NUM!"}},{"$error":"#NUM!"},{"$error":"#NUM!"},true,false,{"$error":"#NUM!"}]
[null,null,null,null,null,null,null,null,null,null,null,null,null,null,null,null,null,null,null,null,null,null,null,null,null,null,null,null,null,null,null,null,null,null,null,null,null,null,null,null,null,null,null,null,null,null,null,null,null,null,null,null,false,true,0,884,{"$f":"SMALL(IF($BB$30:$BB$32<>BC933,\"\",ROW($BB$30:$BB$32)),BD933)-29","v":{"$error":"#NUM!"}},{"$error":"#NUM!"},{"$error":"#NUM!"},0,884,{"$f":"SMALL(IF($BJ$30:$BJ$32<>BH933,\"\",ROW($BJ$30:$BJ$32)),BI933)-29","v":{"$error":"#NUM!"}},{"$error":"#NUM!"},{"$error":"#NUM!"},true,false,{"$error":"#NUM!"}]
[null,null,null,null,null,null,null,null,null,null,null,null,null,null,null,null,null,null,null,null,null,null,null,null,null,null,null,null,null,null,null,null,null,null,null,null,null,null,null,null,null,null,null,null,null,null,null,null,null,null,null,null,false,true,0,886,{"$f":"SMALL(IF($BB$30:$BB$32<>BC935,\"\",ROW($BB$30:$BB$32)),BD935)-29","v":{"$error":"#NUM!"}},{"$error":"#NUM!"},{"$error":"#NUM!"},0,886,{"$f":"SMALL(IF($BJ$30:$BJ$32<>BH935,\"\",ROW($BJ$30:$BJ$32)),BI935)-29","v":{"$error":"#NUM!"}},{"$error":"#NUM!"},{"$error":"#NUM!"},true,false,{"$error":"#NUM!"}]
[null,null,null,null,null,null,null,null,null,null,null,null,null,null,null,null,null,null,null,null,null,null,null,null,null,null,null,null,null,null,null,null,null,null,null,null,null,null,null,null,null,null,null,null,null,null,null,null,null,null,null,null,false,true,0,890,{"$f":"SMALL(IF($BB$30:$BB$32<>BC939,\"\",ROW($BB$30:$BB$32)),BD939)-29","v":{"$error":"#NUM!"}},{"$error":"#NUM!"},{"$error":"#NUM!"},0,890,{"$f":"SMALL(IF($BJ$30:$BJ$32<>BH939,\"\",ROW($BJ$30:$BJ$32)),BI939)-29","v":{"$error":"#NUM!"}},{"$error":"#NUM!"},{"$error":"#NUM!"},true,false,{"$error":"#NUM!"}]
[null,null,null,null,null,null,null,null,null,null,null,null,null,null,null,null,null,null,null,null,null,null,null,null,null,null,null,null,null,null,null,null,null,null,null,null,null,null,null,null,null,null,null,null,null,null,null,null,null,null,null,null,false,true,0,893,{"$f":"SMALL(IF($BB$30:$BB$32<>BC942,\"\",ROW($BB$30:$BB$32)),BD942)-29","v":{"$error":"#NUM!"}},{"$error":"#NUM!"},{"$error":"#NUM!"},0,893,{"$f":"SMALL(IF($BJ$30:$BJ$32<>BH942,\"\",ROW($BJ$30:$BJ$32)),BI942)-29","v":{"$error":"#NUM!"}},{"$error":"#NUM!"},{"$error":"#NUM!"},true,false,{"$error":"#NUM!"}]
[null,null,null,null,null,null,null,null,null,null,null,null,null,null,null,null,null,null,null,null,null,null,null,null,null,null,null,null,null,null,null,null,null,null,null,null,null,null,null,null,null,null,null,null,null,null,null,null,null,null,null,null,false,true,0,895,{"$f":"SMALL(IF($BB$30:$BB$32<>BC944,\"\",ROW($BB$30:$BB$32)),BD944)-29","v":{"$error":"#NUM!"}},{"$error":"#NUM!"},{"$error":"#NUM!"},0,895,{"$f":"SMALL(IF($BJ$30:$BJ$32<>BH944,\"\",ROW($BJ$30:$BJ$32)),BI944)-29","v":{"$error":"#NUM!"}},{"$error":"#NUM!"},{"$error":"#NUM!"},true,false,{"$error":"#NUM!"}]
[null,null,null,null,null,null,null,null,null,null,null,null,null,null,null,null,null,null,null,null,null,null,null,null,null,null,null,null,null,null,null,null,null,null,null,null,null,null,null,null,null,null,null,null,null,null,null,null,null,null,null,null,false,true,0,899,{"$f":"SMALL(IF($BB$30:$BB$32<>BC948,\"\",ROW($BB$30:$BB$32)),BD948)-29","v":{"$error":"#NUM!"}},{"$error":"#NUM!"},{"$error":"#NUM!"},0,899,{"$f":"SMALL(IF($BJ$30:$BJ$32<>BH948,\"\",ROW($BJ$30:$BJ$32)),BI948)-29","v":{"$error":"#NUM!"}},{"$error":"#NUM!"},{"$error":"#NUM!"},true,false,{"$error":"#NUM!"}]
[null,null,null,null,null,null,null,null,null,null,null,null,null,null,null,null,null,null,null,null,null,null,null,null,null,null,null,null,null,null,null,null,null,null,null,null,null,null,null,null,null,null,null,null,null,null,null,null,null,null,null,null,false,true,0,900,{"$f":"SMALL(IF($BB$30:$BB$32<>BC949,\"\",ROW($BB$30:$BB$32)),BD949)-29","v":{"$error":"#NUM!"}},{"$error":"#NUM!"},{"$error":"#NUM!"},0,900,{"$f":"SMALL(IF($BJ$30:$BJ$32<>BH949,\"\",ROW($BJ$30:$BJ$32)),BI949)-29","v":{"$error":"#NUM!"}},{"$error":"#NUM!"},{"$error":"#NUM!"},true,false,{"$error":"#NUM!"}]
[null,null,null,null,null,null,null,null,null,null,null,null,null,null,null,null,null,null,null,null,null,null,null,null,null,null,null,null,null,null,null,null,null,null,null,null,null,null,null,null,null,null,null,null,null,null,null,null,null,null,null,null,false,true,0,904,{"$f":"SMALL(IF($BB$30:$BB$32<>BC953,\"\",ROW($BB$30:$BB$32)),BD953)-29","v":{"$error":"#NUM!"}},{"$error":"#NUM!"},{"$error":"#NUM!"},0,904,{"$f":"SMALL(IF($BJ$30:$BJ$32<>BH953,\"\",ROW($BJ$30:$BJ$32)),BI953)-29","v":{"$error":"#NUM!"}},{"$error":"#NUM!"},{"$error":"#NUM!"},true,false,{"$error":"#NUM!"}]
[null,null,null,null,null,null,null,null,null,null,null,null,null,null,null,null,null,null,null,null,null,null,null,null,null,null,null,null,null,null,null,null,null,null,null,null,null,null,null,null,null,null,null,null,null,null,null,null,null,null,null,null,false,true,0,905,{"$f":"SMALL(IF($BB$30:$BB$32<>BC954,\"\",ROW($BB$30:$BB$32)),BD954)-29","v":{"$error":"#NUM!"}},{"$error":"#NUM!"},{"$error":"#NUM!"},0,905,{"$f":"SMALL(IF($BJ$30:$BJ$32<>BH954,\"\",ROW($BJ$30:$BJ$32)),BI954)-29","v":{"$error":"#NUM!"}},{"$error":"#NUM!"},{"$error":"#NUM!"},true,false,{"$error":"#NUM!"}]
[null,null,null,null,null,null,null,null,null,null,null,null,null,null,null,null,null,null,null,null,null,null,null,null,null,null,null,null,null,null,null,null,null,null,null,null,null,null,null,null,null,null,null,null,null,null,null,null,null,null,null,null,false,true,0,909,{"$f":"SMALL(IF($BB$30:$BB$32<>BC958,\"\",ROW($BB$30:$BB$32)),BD958)-29","v":{"$error":"#NUM!"}},{"$error":"#NUM!"},{"$error":"#NUM!"},0,909,{"$f":"SMALL(IF($BJ$30:$BJ$32<>BH958,\"\",ROW($BJ$30:$BJ$32)),BI958)-29","v":{"$error":"#NUM!"}},{"$error":"#NUM!"},{"$error":"#NUM!"},true,false,{"$error":"#NUM!"}]
[null,null,null,null,null,null,null,null,null,null,null,null,null,null,null,null,null,null,null,null,null,null,null,null,null,null,null,null,null,null,null,null,null,null,null,null,null,null,null,null,null,null,null,null,null,null,null,null,null,null,null,null,false,true,0,911,{"$f":"SMALL(IF($BB$30:$BB$32<>BC960,\"\",ROW($BB$30:$BB$32)),BD960)-29","v":{"$error":"#NUM!"}},{"$error":"#NUM!"},{"$error":"#NUM!"},0,911,{"$f":"SMALL(IF($BJ$30:$BJ$32<>BH960,\"\",ROW($BJ$30:$BJ$32)),BI960)-29","v":{"$error":"#NUM!"}},{"$error":"#NUM!"},{"$error":"#NUM!"},true,false,{"$error":"#NUM!"}]
[null,null,null,null,null,null,null,null,null,null,null,null,null,null,null,null,null,null,null,null,null,null,null,null,null,null,null,null,null,null,null,null,null,null,null,null,null,null,null,null,null,null,null,null,null,null,null,null,null,null,null,null,false,true,0,914,{"$f":"SMALL(IF($BB$30:$BB$32<>BC963,\"\",ROW($BB$30:$BB$32)),BD963)-29","v":{"$error":"#NUM!"}},{"$error":"#NUM!"},{"$error":"#NUM!"},0,914,{"$f":"SMALL(IF($BJ$30:$BJ$32<>BH963,\"\",ROW($BJ$30:$BJ$32)),BI963)-29","v":{"$error":"#NUM!"}},{"$error":"#NUM!"},{"$error":"#NUM!"},true,false,{"$error":"#NUM!"}]
[null,null,null,null,null,null,null,null,null,null,null,null,null,null,null,null,null,null,null,null,null,null,null,null,null,null,null,null,null,null,null,null,null,null,null,null,null,null,null,null,null,null,null,null,null,null,null,null,null,null,null,null,false,true,0,916,{"$f":"SMALL(IF($BB$30:$BB$32<>BC965,\"\",ROW($BB$30:$BB$32)),BD965)-29","v":{"$error":"#NUM!"}},{"$error":"#NUM!"},{"$error":"#NUM!"},0,916,{"$f":"SMALL(IF($BJ$30:$BJ$32<>BH965,\"\",ROW($BJ$30:$BJ$32)),BI965)-29","v":{"$error":"#NUM!"}},{"$error":"#NUM!"},{"$error":"#NUM!"},true,false,{"$error":"#NUM!"}]
[null,null,null,null,null,null,null,null,null,null,null,null,null,null,null,null,null,null,null,null,null,null,null,null,null,null,null,null,null,null,null,null,null,null,null,null,null,null,null,null,null,null,null,null,null,null,null,null,null,null,null,null,false,true,0,920,{"$f":"SMALL(IF($BB$30:$BB$32<>BC969,\"\",ROW($BB$30:$BB$32)),BD969)-29","v":{"$error":"#NUM!"}},{"$error":"#NUM!"},{"$error":"#NUM!"},0,920,{"$f":"SMALL(IF($BJ$30:$BJ$32<>BH969,\"\",ROW($BJ$30:$BJ$32)),BI969)-29","v":{"$error":"#NUM!"}},{"$error":"#NUM!"},{"$error":"#NUM!"},true,false,{"$error":"#NUM!"}]
[null,null,null,null,null,null,null,null,null,null,null,null,null,null,null,null,null,null,null,null,null,null,null,null,null,null,null,null,null,null,null,null,null,null,null,null,null,null,null,null,null,null,null,null,null,null,null,null,null,null,null,null,false,true,0,923,{"$f":"SMALL(IF($BB$30:$BB$32<>BC972,\"\",ROW($BB$30:$BB$32)),BD972)-29","v":{"$error":"#NUM!"}},{"$error":"#NUM!"},{"$error":"#NUM!"},0,923,{"$f":"SMALL(IF($BJ$30:$BJ$32<>BH972,\"\",ROW($BJ$30:$BJ$32)),BI972)-29","v":{"$error":"#NUM!"}},{"$error":"#NUM!"},{"$error":"#NUM!"},true,false,{"$error":"#NUM!"}]
[null,null,null,null,null,null,null,null,null,null,null,null,null,null,null,null,null,null,null,null,null,null,null,null,null,null,null,null,null,null,null,null,null,null,null,null,null,null,null,null,null,null,null,null,null,null,null,null,null,null,null,null,false,true,0,925,{"$f":"SMALL(IF($BB$30:$BB$32<>BC974,\"\",ROW($BB$30:$BB$32)),BD974)-29","v":{"$error":"#NUM!"}},{"$error":"#NUM!"},{"$error":"#NUM!"},0,925,{"$f":"SMALL(IF($BJ$30:$BJ$32<>BH974,\"\",ROW($BJ$30:$BJ$32)),BI974)-29","v":{"$error":"#NUM!"}},{"$error":"#NUM!"},{"$error":"#NUM!"},true,false,{"$error":"#NUM!"}]
[null,null,null,null,null,null,null,null,null,null,null,null,null,null,null,null,null,null,null,null,null,null,null,null,null,null,null,null,null,null,null,null,null,null,null,null,null,null,null,null,null,null,null,null,null,null,null,null,null,null,null,null,false,true,0,926,{"$f":"SMALL(IF($BB$30:$BB$32<>BC975,\"\",ROW($BB$30:$BB$32)),BD975)-29","v":{"$error":"#NUM!"}},{"$error":"#NUM!"},{"$error":"#NUM!"},0,926,{"$f":"SMALL(IF($BJ$30:$BJ$32<>BH975,\"\",ROW($BJ$30:$BJ$32)),BI975)-29","v":{"$error":"#NUM!"}},{"$error":"#NUM!"},{"$error":"#NUM!"},true,false,{"$error":"#NUM!"}]
[null,null,null,null,null,null,null,null,null,null,null,null,null,null,null,null,null,null,null,null,null,null,null,null,null,null,null,null,null,null,null,null,null,null,null,null,null,null,null,null,null,null,null,null,null,null,null,null,null,null,null,null,false,true,0,929,{"$f":"SMALL(IF($BB$30:$BB$32<>BC978,\"\",ROW($BB$30:$BB$32)),BD978)-29","v":{"$error":"#NUM!"}},{"$error":"#NUM!"},{"$error":"#NUM!"},0,929,{"$f":"SMALL(IF($BJ$30:$BJ$32<>BH978,\"\",ROW($BJ$30:$BJ$32)),BI978)-29","v":{"$error":"#NUM!"}},{"$error":"#NUM!"},{"$error":"#NUM!"},true,false,{"$error":"#NUM!"}]
[null,null,null,null,null,null,null,null,null,null,null,null,null,null,null,null,null,null,null,null,null,null,null,null,null,null,null,null,null,null,null,null,null,null,null,null,null,null,null,null,null,null,null,null,null,null,null,null,null,null,null,null,false,true,0,932,{"$f":"SMALL(IF($BB$30:$BB$32<>BC981,\"\",ROW($BB$30:$BB$32)),BD981)-29","v":{"$error":"#NUM!"}},{"$error":"#NUM!"},{"$error":"#NUM!"},0,932,{"$f":"SMALL(IF($BJ$30:$BJ$32<>BH981,\"\",ROW($BJ$30:$BJ$32)),BI981)-29","v":{"$error":"#NUM!"}},{"$error":"#NUM!"},{"$error":"#NUM!"},true,false,{"$error":"#NUM!"}]
[null,null,null,null,null,null,null,null,null,null,null,null,null,null,null,null,null,null,null,null,null,null,null,null,null,null,null,null,null,null,null,null,null,null,null,null,null,null,null,null,null,null,null,null,null,null,null,null,null,null,null,null,false,true,0,935,{"$f":"SMALL(IF($BB$30:$BB$32<>BC984,\"\",ROW($BB$30:$BB$32)),BD984)-29","v":{"$error":"#NUM!"}},{"$error":"#NUM!"},{"$error":"#NUM!"},0,935,{"$f":"SMALL(IF($BJ$30:$BJ$32<>BH984,\"\",ROW($BJ$30:$BJ$32)),BI984)-29","v":{"$error":"#NUM!"}},{"$error":"#NUM!"},{"$error":"#NUM!"},true,false,{"$error":"#NUM!"}]
[null,null,null,null,null,null,null,null,null,null,null,null,null,null,null,null,null,null,null,null,null,null,null,null,null,null,null,null,null,null,null,null,null,null,null,null,null,null,null,null,null,null,null,null,null,null,null,null,null,null,null,null,false,true,0,937,{"$f":"SMALL(IF($BB$30:$BB$32<>BC986,\"\",ROW($BB$30:$BB$32)),BD986)-29","v":{"$error":"#NUM!"}},{"$error":"#NUM!"},{"$error":"#NUM!"},0,937,{"$f":"SMALL(IF($BJ$30:$BJ$32<>BH986,\"\",ROW($BJ$30:$BJ$32)),BI986)-29","v":{"$error":"#NUM!"}},{"$error":"#NUM!"},{"$error":"#NUM!"},true,false,{"$error":"#NUM!"}]
[null,null,null,null,null,null,null,null,null,null,null,null,null,null,null,null,null,null,null,null,null,null,null,null,null,null,null,null,null,null,null,null,null,null,null,null,null,null,null,null,null,null,null,null,null,null,null,null,null,null,null,null,false,true,0,941,{"$f":"SMALL(IF($BB$30:$BB$32<>BC990,\"\",ROW($BB$30:$BB$32)),BD990)-29","v":{"$error":"#NUM!"}},{"$error":"#NUM!"},{"$error":"#NUM!"},0,941,{"$f":"SMALL(IF($BJ$30:$BJ$32<>BH990,\"\",ROW($BJ$30:$BJ$32)),BI990)-29","v":{"$error":"#NUM!"}},{"$error":"#NUM!"},{"$error":"#NUM!"},true,false,{"$error":"#NUM!"}]
[null,null,null,null,null,null,null,null,null,null,null,null,null,null,null,null,null,null,null,null,null,null,null,null,null,null,null,null,null,null,null,null,null,null,null,null,null,null,null,null,null,null,null,null,null,null,null,null,null,null,null,null,false,true,0,944,{"$f":"SMALL(IF($BB$30:$BB$32<>BC993,\"\",ROW($BB$30:$BB$32)),BD993)-29","v":{"$error":"#NUM!"}},{"$error":"#NUM!"},{"$error":"#NUM!"},0,944,{"$f":"SMALL(IF($BJ$30:$BJ$32<>BH993,\"\",ROW($BJ$30:$BJ$32)),BI993)-29","v":{"$error":"#NUM!"}},{"$error":"#NUM!"},{"$error":"#NUM!"},true,false,{"$error":"#NUM!"}]
[null,null,null,null,null,null,null,null,null,null,null,null,null,null,null,null,null,null,null,null,null,null,null,null,null,null,null,null,null,null,null,null,null,null,null,null,null,null,null,null,null,null,null,null,null,null,null,null,null,null,null,null,false,true,0,946,{"$f":"SMALL(IF($BB$30:$BB$32<>BC995,\"\",ROW($BB$30:$BB$32)),BD995)-29","v":{"$error":"#NUM!"}},{"$error":"#NUM!"},{"$error":"#NUM!"},0,946,{"$f":"SMALL(IF($BJ$30:$BJ$32<>BH995,\"\",ROW($BJ$30:$BJ$32)),BI995)-29","v":{"$error":"#NUM!"}},{"$error":"#NUM!"},{"$error":"#NUM!"},true,false,{"$error":"#NUM!"}]
[null,null,null,null,null,null,null,null,null,null,null,null,null,null,null,null,null,null,null,null,null,null,null,null,null,null,null,null,null,null,null,null,null,null,null,null,null,null,null,null,null,null,null,null,null,null,null,null,null,null,null,null,false,true,0,947,{"$f":"SMALL(IF($BB$30:$BB$32<>BC996,\"\",ROW($BB$30:$BB$32)),BD996)-29","v":{"$error":"#NUM!"}},{"$error":"#NUM!"},{"$error":"#NUM!"},0,947,{"$f":"SMALL(IF($BJ$30:$BJ$32<>BH996,\"\",ROW($BJ$30:$BJ$32)),BI996)-29","v":{"$error":"#NUM!"}},{"$error":"#NUM!"},{"$error":"#NUM!"},true,false,{"$error":"#NUM!"}]
[null,null,null,null,null,null,null,null,null,null,null,null,null,null,null,null,null,null,null,null,null,null,null,null,null,null,null,null,null,null,null,null,null,null,null,null,null,null,null,null,null,null,null,null,null,null,null,null,null,null,null,null,false,true,0,950,{"$f":"SMALL(IF($BB$30:$BB$32<>BC999,\"\",ROW($BB$30:$BB$32)),BD999)-29","v":{"$error":"#NUM!"}},{"$error":"#NUM!"},{"$error":"#NUM!"},0,950,{"$f":"SMALL(IF($BJ$30:$BJ$32<>BH999,\"\",ROW($BJ$30:$BJ$32)),BI999)-29","v":{"$error":"#NUM!"}},{"$error":"#NUM!"},{"$error":"#NUM!"},true,false,{"$error":"#NUM!"}]
[null,null,null,null,null,null,null,null,null,null,null,null,null,null,null,null,null,null,null,null,null,null,null,null,null,null,null,null,null,null,null,null,null,null,null,null,null,null,null,null,null,null,null,null,null,null,null,null,null,null,null,null,false,true,0,953,{"$f":"SMALL(IF($BB$30:$BB$32<>BC1002,\"\",ROW($BB$30:$BB$32)),BD1002)-29","v":{"$error":"#NUM!"}},{"$error":"#NUM!"},{"$error":"#NUM!"},0,953,{"$f":"SMALL(IF($BJ$30:$BJ$32<>BH1002,\"\",ROW($BJ$30:$BJ$32)),BI1002)-29","v":{"$error":"#NUM!"}},{"$error":"#NUM!"},{"$error":"#NUM!"},true,false,{"$error":"#NUM!"}]
[null,null,null,null,null,null,null,null,null,null,null,null,null,null,null,null,null,null,null,null,null,null,null,null,null,null,null,null,null,null,null,null,null,null,null,null,null,null,null,null,null,null,null,null,null,null,null,null,null,null,null,null,false,true,0,956,{"$f":"SMALL(IF($BB$30:$BB$32<>BC1005,\"\",ROW($BB$30:$BB$32)),BD1005)-29","v":{"$error":"#NUM!"}},{"$error":"#NUM!"},{"$error":"#NUM!"},0,956,{"$f":"SMALL(IF($BJ$30:$BJ$32<>BH1005,\"\",ROW($BJ$30:$BJ$32)),BI1005)-29","v":{"$error":"#NUM!"}},{"$error":"#NUM!"},{"$error":"#NUM!"},true,false,{"$error":"#NUM!"}]
[null,null,null,null,null,null,null,null,null,null,null,null,null,null,null,null,null,null,null,null,null,null,null,null,null,null,null,null,null,null,null,null,null,null,null,null,null,null,null,null,null,null,null,null,null,null,null,null,null,null,null,null,false,true,0,959,{"$f":"SMALL(IF($BB$30:$BB$32<>BC1008,\"\",ROW($BB$30:$BB$32)),BD1008)-29","v":{"$error":"#NUM!"}},{"$error":"#NUM!"},{"$error":"#NUM!"},0,959,{"$f":"SMALL(IF($BJ$30:$BJ$32<>BH1008,\"\",ROW($BJ$30:$BJ$32)),BI1008)-29","v":{"$error":"#NUM!"}},{"$error":"#NUM!"},{"$error":"#NUM!"},true,false,{"$error":"#NUM!"}]
[null,null,null,null,null,null,null,null,null,null,null,null,null,null,null,null,null,null,null,null,null,null,null,null,null,null,null,null,null,null,null,null,null,null,null,null,null,null,null,null,null,null,null,null,null,null,null,null,null,null,null,null,{"$f":"IF(BB1011=FALSE,BF1011)","v":false},{"$f":"ISERR(BF1011)","v":true},0,962,{"$f":"SMALL(IF($BB$30:$BB$32<>BC1011,\"\",ROW($BB$30:$BB$32)),BD1011)-29","v":{"$error":"#NUM!"}},{"$error":"#NUM!"},{"$error":"#NUM!"},0,962,{"$f":"SMALL(IF($BJ$30:$BJ$32<>BH1011,\"\",ROW($BJ$30:$BJ$32)),BI1011)-29","v":{"$error":"#NUM!"}},{"$error":"#NUM!"},{"$error":"#NUM!"},{"$f":"ISERR(BK1011)","v":true},{"$f":"IF(BM1011=FALSE,BK1011)","v":false},{"$f":"BL1011","v":{"$error":"#NUM!"}}]
[null,null,null,null,null,null,null,null,null,null,null,null,null,null,null,null,null,null,null,null,null,null,null,null,null,null,null,null,null,null,null,null,null,null,null,null,null,null,null,null,null,null,null,null,null,null,null,null,null,null,null,null,false,true,0,965,{"$f":"SMALL(IF($BB$30:$BB$32<>BC1014,\"\",ROW($BB$30:$BB$32)),BD1014)-29","v":{"$error":"#NUM!"}},{"$error":"#NUM!"},{"$error":"#NUM!"},0,965,{"$f":"SMALL(IF($BJ$30:$BJ$32<>BH1014,\"\",ROW($BJ$30:$BJ$32)),BI1014)-29","v":{"$error":"#NUM!"}},{"$error":"#NUM!"},{"$error":"#NUM!"},true,false,{"$error":"#NUM!"}]
[null,null,null,null,null,null,null,null,null,null,null,null,null,null,null,null,null,null,null,null,null,null,null,null,null,null,null,null,null,null,null,null,null,null,null,null,null,null,null,null,null,null,null,null,null,null,null,null,null,null,null,null,false,true,0,966,{"$f":"SMALL(IF($BB$30:$BB$32<>BC1015,\"\",ROW($BB$30:$BB$32)),BD1015)-29","v":{"$error":"#NUM!"}},{"$error":"#NUM!"},{"$error":"#NUM!"},0,966,{"$f":"SMALL(IF($BJ$30:$BJ$32<>BH1015,\"\",ROW($BJ$30:$BJ$32)),BI1015)-29","v":{"$error":"#NUM!"}},{"$error":"#NUM!"},{"$error":"#NUM!"},true,false,{"$error":"#NUM!"}]
[null,null,null,null,null,null,null,null,null,null,null,null,null,null,null,null,null,null,null,null,null,null,null,null,null,null,null,null,null,null,null,null,null,null,null,null,null,null,null,null,null,null,null,null,null,null,null,null,null,null,null,null,false,true,0,969,{"$f":"SMALL(IF($BB$30:$BB$32<>BC1018,\"\",ROW($BB$30:$BB$32)),BD1018)-29","v":{"$error":"#NUM!"}},{"$error":"#NUM!"},{"$error":"#NUM!"},0,969,{"$f":"SMALL(IF($BJ$30:$BJ$32<>BH1018,\"\",ROW($BJ$30:$BJ$32)),BI1018)-29","v":{"$error":"#NUM!"}},{"$error":"#NUM!"},{"$error":"#NUM!"},true,false,{"$error":"#NUM!"}]
[null,null,null,null,null,null,null,null,null,null,null,null,null,null,null,null,null,null,null,null,null,null,null,null,null,null,null,null,null,null,null,null,null,null,null,null,null,null,null,null,null,null,null,null,null,null,null,null,null,null,null,null,false,true,0,971,{"$f":"SMALL(IF($BB$30:$BB$32<>BC1020,\"\",ROW($BB$30:$BB$32)),BD1020)-29","v":{"$error":"#NUM!"}},{"$error":"#NUM!"},{"$error":"#NUM!"},0,971,{"$f":"SMALL(IF($BJ$30:$BJ$32<>BH1020,\"\",ROW($BJ$30:$BJ$32)),BI1020)-29","v":{"$error":"#NUM!"}},{"$error":"#NUM!"},{"$error":"#NUM!"},true,false,{"$error":"#NUM!"}]
[null,null,null,null,null,null,null,null,null,null,null,null,null,null,null,null,null,null,null,null,null,null,null,null,null,null,null,null,null,null,null,null,null,null,null,null,null,null,null,null,null,null,null,null,null,null,null,null,null,null,null,null,false,true,0,975,{"$f":"SMALL(IF($BB$30:$BB$32<>BC1024,\"\",ROW($BB$30:$BB$32)),BD1024)-29","v":{"$error":"#NUM!"}},{"$error":"#NUM!"},{"$error":"#NUM!"},0,975,{"$f":"SMALL(IF($BJ$30:$BJ$32<>BH1024,\"\",ROW($BJ$30:$BJ$32)),BI1024)-29","v":{"$error":"#NUM!"}},{"$error":"#NUM!"},{"$error":"#NUM!"},true,false,{"$error":"#NUM!"}]
[null,null,null,null,null,null,null,null,null,null,null,null,null,null,null,null,null,null,null,null,null,null,null,null,null,null,null,null,null,null,null,null,null,null,null,null,null,null,null,null,null,null,null,null,null,null,null,null,null,null,null,null,false,true,0,978,{"$f":"SMALL(IF($BB$30:$BB$32<>BC1027,\"\",ROW($BB$30:$BB$32)),BD1027)-29","v":{"$error":"#NUM!"}},{"$error":"#NUM!"},{"$error":"#NUM!"},0,978,{"$f":"SMALL(IF($BJ$30:$BJ$32<>BH1027,\"\",ROW($BJ$30:$BJ$32)),BI1027)-29","v":{"$error":"#NUM!"}},{"$error":"#NUM!"},{"$error":"#NUM!"},true,false,{"$error":"#NUM!"}]
[null,null,null,null,null,null,null,null,null,null,null,null,null,null,null,null,null,null,null,null,null,null,null,null,null,null,null,null,null,null,null,null,null,null,null,null,null,null,null,null,null,null,null,null,null,null,null,null,null,null,null,null,false,true,0,981,{"$f":"SMALL(IF($BB$30:$BB$32<>BC1030,\"\",ROW($BB$30:$BB$32)),BD1030)-29","v":{"$error":"#NUM!"}},{"$error":"#NUM!"},{"$error":"#NUM!"},0,981,{"$f":"SMALL(IF($BJ$30:$BJ$32<>BH1030,\"\",ROW($BJ$30:$BJ$32)),BI1030)-29","v":{"$error":"#NUM!"}},{"$error":"#NUM!"},{"$error":"#NUM!"},true,false,{"$error":"#NUM!"}]
[null,null,null,null,null,null,null,null,null,null,null,null,null,null,null,null,null,null,null,null,null,null,null,null,null,null,null,null,null,null,null,null,null,null,null,null,null,null,null,null,null,null,null,null,null,null,null,null,null,null,null,null,false,true,0,984,{"$f":"SMALL(IF($BB$30:$BB$32<>BC1033,\"\",ROW($BB$30:$BB$32)),BD1033)-29","v":{"$error":"#NUM!"}},{"$error":"#NUM!"},{"$error":"#NUM!"},0,984,{"$f":"SMALL(IF($BJ$30:$BJ$32<>BH1033,\"\",ROW($BJ$30:$BJ$32)),BI1033)-29","v":{"$error":"#NUM!"}},{"$error":"#NUM!"},{"$error":"#NUM!"},true,false,{"$error":"#NUM!"}]
[null,null,null,null,null,null,null,null,null,null,null,null,null,null,null,null,null,null,null,null,null,null,null,null,null,null,null,null,null,null,null,null,null,null,null,null,null,null,null,null,null,null,null,null,null,null,null,null,null,null,null,null,false,true,0,985,{"$f":"SMALL(IF($BB$30:$BB$32<>BC1034,\"\",ROW($BB$30:$BB$32)),BD1034)-29","v":{"$error":"#NUM!"}},{"$error":"#NUM!"},{"$error":"#NUM!"},0,985,{"$f":"SMALL(IF($BJ$30:$BJ$32<>BH1034,\"\",ROW($BJ$30:$BJ$32)),BI1034)-29","v":{"$error":"#NUM!"}},{"$error":"#NUM!"},{"$error":"#NUM!"},true,false,{"$error":"#NUM!"}]
[null,null,null,null,null,null,null,null,null,null,null,null,null,null,null,null,null,null,null,null,null,null,null,null,null,null,null,null,null,null,null,null,null,null,null,null,null,null,null,null,null,null,null,null,null,null,null,null,null,null,null,null,false,true,0,987,{"$f":"SMALL(IF($BB$30:$BB$32<>BC1036,\"\",ROW($BB$30:$BB$32)),BD1036)-29","v":{"$error":"#NUM!"}},{"$error":"#NUM!"},{"$error":"#NUM!"},0,987,{"$f":"SMALL(IF($BJ$30:$BJ$32<>BH1036,\"\",ROW($BJ$30:$BJ$32)),BI1036)-29","v":{"$error":"#NUM!"}},{"$error":"#NUM!"},{"$error":"#NUM!"},true,false,{"$error":"#NUM!"}]
[null,null,null,null,null,null,null,null,null,null,null,null,null,null,null,null,null,null,null,null,null,null,null,null,null,null,null,null,null,null,null,null,null,null,null,null,null,null,null,null,null,null,null,null,null,null,null,null,null,null,null,null,false,true,0,990,{"$f":"SMALL(IF($BB$30:$BB$32<>BC1039,\"\",ROW($BB$30:$BB$32)),BD1039)-29","v":{"$error":"#NUM!"}},{"$error":"#NUM!"},{"$error":"#NUM!"},0,990,{"$f":"SMALL(IF($BJ$30:$BJ$32<>BH1039,\"\",ROW($BJ$30:$BJ$32)),BI1039)-29","v":{"$error":"#NUM!"}},{"$error":"#NUM!"},{"$error":"#NUM!"},true,false,{"$error":"#NUM!"}]
[null,null,null,null,null,null,null,null,null,null,null,null,null,null,null,null,null,null,null,null,null,null,null,null,null,null,null,null,null,null,null,null,null,null,null,null,null,null,null,null,null,null,null,null,null,null,null,null,null,null,null,null,false,true,0,994,{"$f":"SMALL(IF($BB$30:$BB$32<>BC1043,\"\",ROW($BB$30:$BB$32)),BD1043)-29","v":{"$error":"#NUM!"}},{"$error":"#NUM!"},{"$error":"#NUM!"},0,994,{"$f":"SMALL(IF($BJ$30:$BJ$32<>BH1043,\"\",ROW($BJ$30:$BJ$32)),BI1043)-29","v":{"$error":"#NUM!"}},{"$error":"#NUM!"},{"$error":"#NUM!"},true,false,{"$error":"#NUM!"}]
[null,null,null,null,null,null,null,null,null,null,null,null,null,null,null,null,null,null,null,null,null,null,null,null,null,null,null,null,null,null,null,null,null,null,null,null,null,null,null,null,null,null,null,null,null,null,null,null,null,null,null,null,false,true,0,996,{"$f":"SMALL(IF($BB$30:$BB$32<>BC1045,\"\",ROW($BB$30:$BB$32)),BD1045)-29","v":{"$error":"#NUM!"}},{"$error":"#NUM!"},{"$error":"#NUM!"},0,996,{"$f":"SMALL(IF($BJ$30:$BJ$32<>BH1045,\"\",ROW($BJ$30:$BJ$32)),BI1045)-29","v":{"$error":"#NUM!"}},{"$error":"#NUM!"},{"$error":"#NUM!"},true,false,{"$error":"#NUM!"}]
[null,null,null,null,null,null,null,null,null,null,null,null,null,null,null,null,null,null,null,null,null,null,null,null,null,null,null,null,null,null,null,null,null,null,null,null,null,null,null,null,null,null,null,null,null,null,null,null,null,null,null,null,false,true,0,999,{"$f":"SMALL(IF($BB$30:$BB$32<>BC1048,\"\",ROW($BB$30:$BB$32)),BD1048)-29","v":{"$error":"#NUM!"}},{"$error":"#NUM!"},{"$error":"#NUM!"},0,999,{"$f":"SMALL(IF($BJ$30:$BJ$32<>BH1048,\"\",ROW($BJ$30:$BJ$32)),BI1048)-29","v":{"$error":"#NUM!"}},{"$error":"#NUM!"},{"$error":"#NUM!"},true,false,{"$error":"#NUM!"}]
[null,null,null,null,null,null,null,null,null,null,null,null,null,null,null,null,null,null,null,null,null,null,null,null,null,null,null,null,null,null,null,null,null,null,null,null,null,null,null,null,null,null,null,null,null,null,null,null,null,null,null,null,false,true,0,1002,{"$f":"SMALL(IF($BB$30:$BB$32<>BC1051,\"\",ROW($BB$30:$BB$32)),BD1051)-29","v":{"$error":"#NUM!"}},{"$error":"#NUM!"},{"$error":"#NUM!"},0,1002,{"$f":"SMALL(IF($BJ$30:$BJ$32<>BH1051,\"\",ROW($BJ$30:$BJ$32)),BI1051)-29","v":{"$error":"#NUM!"}},{"$error":"#NUM!"},{"$error":"#NUM!"},true,false,{"$error":"#NUM!"}]
[null,null,null,null,null,null,null,null,null,null,null,null,null,null,null,null,null,null,null,null,null,null,null,null,null,null,null,null,null,null,null,null,null,null,null,null,null,null,null,null,null,null,null,null,null,null,null,null,null,null,null,null,false,true,0,1005,{"$f":"SMALL(IF($BB$30:$BB$32<>BC1054,\"\",ROW($BB$30:$BB$32)),BD1054)-29","v":{"$error":"#NUM!"}},{"$error":"#NUM!"},{"$error":"#NUM!"},0,1005,{"$f":"SMALL(IF($BJ$30:$BJ$32<>BH1054,\"\",ROW($BJ$30:$BJ$32)),BI1054)-29","v":{"$error":"#NUM!"}},{"$error":"#NUM!"},{"$error":"#NUM!"},true,false,{"$error":"#NUM!"}]
[null,null,null,null,null,null,null,null,null,null,null,null,null,null,null,null,null,null,null,null,null,null,null,null,null,null,null,null,null,null,null,null,null,null,null,null,null,null,null,null,null,null,null,null,null,null,null,null,null,null,null,null,false,true,0,1006,{"$f":"SMALL(IF($BB$30:$BB$32<>BC1055,\"\",ROW($BB$30:$BB$32)),BD1055)-29","v":{"$error":"#NUM!"}},{"$error":"#NUM!"},{"$error":"#NUM!"},0,1006,{"$f":"SMALL(IF($BJ$30:$BJ$32<>BH1055,\"\",ROW($BJ$30:$BJ$32)),BI1055)-29","v":{"$error":"#NUM!"}},{"$error":"#NUM!"},{"$error":"#NUM!"},true,false,{"$error":"#NUM!"}]
[null,null,null,null,null,null,null,null,null,null,null,null,null,null,null,null,null,null,null,null,null,null,null,null,null,null,null,null,null,null,null,null,null,null,null,null,null,null,null,null,null,null,null,null,null,null,null,null,null,null,null,null,false,true,0,1008,{"$f":"SMALL(IF($BB$30:$BB$32<>BC1057,\"\",ROW($BB$30:$BB$32)),BD1057)-29","v":{"$error":"#NUM!"}},{"$error":"#NUM!"},{"$error":"#NUM!"},0,1008,{"$f":"SMALL(IF($BJ$30:$BJ$32<>BH1057,\"\",ROW($BJ$30:$BJ$32)),BI1057)-29","v":{"$error":"#NUM!"}},{"$error":"#NUM!"},{"$error":"#NUM!"},true,false,{"$error":"#NUM!"}]
[null,null,null,null,null,null,null,null,null,null,null,null,null,null,null,null,null,null,null,null,null,null,null,null,null,null,null,null,null,null,null,null,null,null,null,null,null,null,null,null,null,null,null,null,null,null,null,null,null,null,null,null,false,true,0,1011,{"$f":"SMALL(IF($BB$30:$BB$32<>BC1060,\"\",ROW($BB$30:$BB$32)),BD1060)-29","v":{"$error":"#NUM!"}},{"$error":"#NUM!"},{"$error":"#NUM!"},0,1011,{"$f":"SMALL(IF($BJ$30:$BJ$32<>BH1060,\"\",ROW($BJ$30:$BJ$32)),BI1060)-29","v":{"$error":"#NUM!"}},{"$error":"#NUM!"},{"$error":"#NUM!"},true,false,{"$error":"#NUM!"}]
[null,null,null,null,null,null,null,null,null,null,null,null,null,null,null,null,null,null,null,null,null,null,null,null,null,null,null,null,null,null,null,null,null,null,null,null,null,null,null,null,null,null,null,null,null,null,null,null,null,null,null,null,false,true,0,1015,{"$f":"SMALL(IF($BB$30:$BB$32<>BC1064,\"\",ROW($BB$30:$BB$32)),BD1064)-29","v":{"$error":"#NUM!"}},{"$error":"#NUM!"},{"$error":"#NUM!"},0,1015,{"$f":"SMALL(IF($BJ$30:$BJ$32<>BH1064,\"\",ROW($BJ$30:$BJ$32)),BI1064)-29","v":{"$error":"#NUM!"}},{"$error":"#NUM!"},{"$error":"#NUM!"},true,false,{"$error":"#NUM!"}]
[null,null,null,null,null,null,null,null,null,null,null,null,null,null,null,null,null,null,null,null,null,null,null,null,null,null,null,null,null,null,null,null,null,null,null,null,null,null,null,null,null,null,null,null,null,null,null,null,null,null,null,null,false,true,0,1017,{"$f":"SMALL(IF($BB$30:$BB$32<>BC1066,\"\",ROW($BB$30:$BB$32)),BD1066)-29","v":{"$error":"#NUM!"}},{"$error":"#NUM!"},{"$error":"#NUM!"},0,1017,{"$f":"SMALL(IF($BJ$30:$BJ$32<>BH1066,\"\",ROW($BJ$30:$BJ$32)),BI1066)-29","v":{"$error":"#NUM!"}},{"$error":"#NUM!"},{"$error":"#NUM!"},true,false,{"$error":"#NUM!"}]
[null,null,null,null,null,null,null,null,null,null,null,null,null,null,null,null,null,null,null,null,null,null,null,null,null,null,null,null,null,null,null,null,null,null,null,null,null,null,null,null,null,null,null,null,null,null,null,null,null,null,null,null,false,true,0,1020,{"$f":"SMALL(IF($BB$30:$BB$32<>BC1069,\"\",ROW($BB$30:$BB$32)),BD1069)-29","v":{"$error":"#NUM!"}},{"$error":"#NUM!"},{"$error":"#NUM!"},0,1020,{"$f":"SMALL(IF($BJ$30:$BJ$32<>BH1069,\"\",ROW($BJ$30:$BJ$32)),BI1069)-29","v":{"$error":"#NUM!"}},{"$error":"#NUM!"},{"$error":"#NUM!"},true,false,{"$error":"#NUM!"}]
[null,null,null,null,null,null,null,null,null,null,null,null,null,null,null,null,null,null,null,null,null,null,null,null,null,null,null,null,null,null,null,null,null,null,null,null,null,null,null,null,null,null,null,null,null,null,null,null,null,null,null,null,false,true,0,1022,{"$f":"SMALL(IF($BB$30:$BB$32<>BC1071,\"\",ROW($BB$30:$BB$32)),BD1071)-29","v":{"$error":"#NUM!"}},{"$error":"#NUM!"},{"$error":"#NUM!"},0,1022,{"$f":"SMALL(IF($BJ$30:$BJ$32<>BH1071,\"\",ROW($BJ$30:$BJ$32)),BI1071)-29","v":{"$error":"#NUM!"}},{"$error":"#NUM!"},{"$error":"#NUM!"},true,false,{"$error":"#NUM!"}]
[null,null,null,null,null,null,null,null,null,null,null,null,null,null,null,null,null,null,null,null,null,null,null,null,null,null,null,null,null,null,null,null,null,null,null,null,null,null,null,null,null,null,null,null,null,null,null,null,null,null,null,null,{"$f":"IF(BB1075=FALSE,BF1075)","v":false},{"$f":"ISERR(BF1075)","v":true},0,1026,{"$f":"SMALL(IF($BB$30:$BB$32<>BC1075,\"\",ROW($BB$30:$BB$32)),BD1075)-29","v":{"$error":"#NUM!"}},{"$error":"#NUM!"},{"$error":"#NUM!"},0,1026,{"$f":"SMALL(IF($BJ$30:$BJ$32<>BH1075,\"\",ROW($BJ$30:$BJ$32)),BI1075)-29","v":{"$error":"#NUM!"}},{"$error":"#NUM!"},{"$error":"#NUM!"},{"$f":"ISERR(BK1075)","v":true},{"$f":"IF(BM1075=FALSE,BK1075)","v":false},{"$f":"BL1075","v":{"$error":"#NUM!"}}]
[null,null,null,null,null,null,null,null,null,null,null,null,null,null,null,null,null,null,null,null,null,null,null,null,null,null,null,null,null,null,null,null,null,null,null,null,null,null,null,null,null,null,null,null,null,null,null,null,null,null,null,null,false,true,0,1029,{"$f":"SMALL(IF($BB$30:$BB$32<>BC1078,\"\",ROW($BB$30:$BB$32)),BD1078)-29","v":{"$error":"#NUM!"}},{"$error":"#NUM!"},{"$error":"#NUM!"},0,1029,{"$f":"SMALL(IF($BJ$30:$BJ$32<>BH1078,\"\",ROW($BJ$30:$BJ$32)),BI1078)-29","v":{"$error":"#NUM!"}},{"$error":"#NUM!"},{"$error":"#NUM!"},true,false,{"$error":"#NUM!"}]
[null,null,null,null,null,null,null,null,null,null,null,null,null,null,null,null,null,null,null,null,null,null,null,null,null,null,null,null,null,null,null,null,null,null,null,null,null,null,null,null,null,null,null,null,null,null,null,null,null,null,null,null,false,true,0,1031,{"$f":"SMALL(IF($BB$30:$BB$32<>BC1080,\"\",ROW($BB$30:$BB$32)),BD1080)-29","v":{"$error":"#NUM!"}},{"$error":"#NUM!"},{"$error":"#NUM!"},0,1031,{"$f":"SMALL(IF($BJ$30:$BJ$32<>BH1080,\"\",ROW($BJ$30:$BJ$32)),BI1080)-29","v":{"$error":"#NUM!"}},{"$error":"#NUM!"},{"$error":"#NUM!"},true,false,{"$error":"#NUM!"}]
[null,null,null,null,null,null,null,null,null,null,null,null,null,null,null,null,null,null,null,null,null,null,null,null,null,null,null,null,null,null,null,null,null,null,null,null,null,null,null,null,null,null,null,null,null,null,null,null,null,null,null,null,false,true,0,1032,{"$f":"SMALL(IF($BB$30:$BB$32<>BC1081,\"\",ROW($BB$30:$BB$32)),BD1081)-29","v":{"$error":"#NUM!"}},{"$error":"#NUM!"},{"$error":"#NUM!"},0,1032,{"$f":"SMALL(IF($BJ$30:$BJ$32<>BH1081,\"\",ROW($BJ$30:$BJ$32)),BI1081)-29","v":{"$error":"#NUM!"}},{"$error":"#NUM!"},{"$error":"#NUM!"},true,false,{"$error":"#NUM!"}]
[null,null,null,null,null,null,null,null,null,null,null,null,null,null,null,null,null,null,null,null,null,null,null,null,null,null,null,null,null,null,null,null,null,null,null,null,null,null,null,null,null,null,null,null,null,null,null,null,null,null,null,null,false,true,0,1036,{"$f":"SMALL(IF($BB$30:$BB$32<>BC1085,\"\",ROW($BB$30:$BB$32)),BD1085)-29","v":{"$error":"#NUM!"}},{"$error":"#NUM!"},{"$error":"#NUM!"},0,1036,{"$f":"SMALL(IF($BJ$30:$BJ$32<>BH1085,\"\",ROW($BJ$30:$BJ$32)),BI1085)-29","v":{"$error":"#NUM!"}},{"$error":"#NUM!"},{"$error":"#NUM!"},true,false,{"$error":"#NUM!"}]
[null,null,null,null,null,null,null,null,null,null,null,null,null,null,null,null,null,null,null,null,null,null,null,null,null,null,null,null,null,null,null,null,null,null,null,null,null,null,null,null,null,null,null,null,null,null,null,null,null,null,null,null,false,true,0,1038,{"$f":"SMALL(IF($BB$30:$BB$32<>BC1087,\"\",ROW($BB$30:$BB$32)),BD1087)-29","v":{"$error":"#NUM!"}},{"$error":"#NUM!"},{"$error":"#NUM!"},0,1038,{"$f":"SMALL(IF($BJ$30:$BJ$32<>BH1087,\"\",ROW($BJ$30:$BJ$32)),BI1087)-29","v":{"$error":"#NUM!"}},{"$error":"#NUM!"},{"$error":"#NUM!"},true,false,{"$error":"#NUM!"}]
[null,null,null,null,null,null,null,null,null,null,null,null,null,null,null,null,null,null,null,null,null,null,null,null,null,null,null,null,null,null,null,null,null,null,null,null,null,null,null,null,null,null,null,null,null,null,null,null,null,null,null,null,false,true,0,1041,{"$f":"SMALL(IF($BB$30:$BB$32<>BC1090,\"\",ROW($BB$30:$BB$32)),BD1090)-29","v":{"$error":"#NUM!"}},{"$error":"#NUM!"},{"$error":"#NUM!"},0,1041,{"$f":"SMALL(IF($BJ$30:$BJ$32<>BH1090,\"\",ROW($BJ$30:$BJ$32)),BI1090)-29","v":{"$error":"#NUM!"}},{"$error":"#NUM!"},{"$error":"#NUM!"},true,false,{"$error":"#NUM!"}]
[null,null,null,null,null,null,null,null,null,null,null,null,null,null,null,null,null,null,null,null,null,null,null,null,null,null,null,null,null,null,null,null,null,null,null,null,null,null,null,null,null,null,null,null,null,null,null,null,null,null,null,null,false,true,0,1045,{"$f":"SMALL(IF($BB$30:$BB$32<>BC1094,\"\",ROW($BB$30:$BB$32)),BD1094)-29","v":{"$error":"#NUM!"}},{"$error":"#NUM!"},{"$error":"#NUM!"},0,1045,{"$f":"SMALL(IF($BJ$30:$BJ$32<>BH1094,\"\",ROW($BJ$30:$BJ$32)),BI1094)-29","v":{"$error":"#NUM!"}},{"$error":"#NUM!"},{"$error":"#NUM!"},true,false,{"$error":"#NUM!"}]
[null,null,null,null,null,null,null,null,null,null,null,null,null,null,null,null,null,null,null,null,null,null,null,null,null,null,null,null,null,null,null,null,null,null,null,null,null,null,null,null,null,null,null,null,null,null,null,null,null,null,null,null,false,true,0,1047,{"$f":"SMALL(IF($BB$30:$BB$32<>BC1096,\"\",ROW($BB$30:$BB$32)),BD1096)-29","v":{"$error":"#NUM!"}},{"$error":"#NUM!"},{"$error":"#NUM!"},0,1047,{"$f":"SMALL(IF($BJ$30:$BJ$32<>BH1096,\"\",ROW($BJ$30:$BJ$32)),BI1096)-29","v":{"$error":"#NUM!"}},{"$error":"#NUM!"},{"$error":"#NUM!"},true,false,{"$error":"#NUM!"}]
[null,null,null,null,null,null,null,null,null,null,null,null,null,null,null,null,null,null,null,null,null,null,null,null,null,null,null,null,null,null,null,null,null,null,null,null,null,null,null,null,null,null,null,null,null,null,null,null,null,null,null,null,false,true,0,1050,{"$f":"SMALL(IF($BB$30:$BB$32<>BC1099,\"\",ROW($BB$30:$BB$32)),BD1099)-29","v":{"$error":"#NUM!"}},{"$error":"#NUM!"},{"$error":"#NUM!"},0,1050,{"$f":"SMALL(IF($BJ$30:$BJ$32<>BH1099,\"\",ROW($BJ$30:$BJ$32)),BI1099)-29","v":{"$error":"#NUM!"}},{"$error":"#NUM!"},{"$error":"#NUM!"},true,false,{"$error":"#NUM!"}]
[null,null,null,null,null,null,null,null,null,null,null,null,null,null,null,null,null,null,null,null,null,null,null,null,null,null,null,null,null,null,null,null,null,null,null,null,null,null,null,null,null,null,null,null,null,null,null,null,null,null,null,null,false,true,0,1051,{"$f":"SMALL(IF($BB$30:$BB$32<>BC1100,\"\",ROW($BB$30:$BB$32)),BD1100)-29","v":{"$error":"#NUM!"}},{"$error":"#NUM!"},{"$error":"#NUM!"},0,1051,{"$f":"SMALL(IF($BJ$30:$BJ$32<>BH1100,\"\",ROW($BJ$30:$BJ$32)),BI1100)-29","v":{"$error":"#NUM!"}},{"$error":"#NUM!"},{"$error":"#NUM!"},true,false,{"$error":"#NUM!"}]
[null,null,null,null,null,null,null,null,null,null,null,null,null,null,null,null,null,null,null,null,null,null,null,null,null,null,null,null,null,null,null,null,null,null,null,null,null,null,null,null,null,null,null,null,null,null,null,null,null,null,null,null,false,true,0,1054,{"$f":"SMALL(IF($BB$30:$BB$32<>BC1103,\"\",ROW($BB$30:$BB$32)),BD1103)-29","v":{"$error":"#NUM!"}},{"$error":"#NUM!"},{"$error":"#NUM!"},0,1054,{"$f":"SMALL(IF($BJ$30:$BJ$32<>BH1103,\"\",ROW($BJ$30:$BJ$32)),BI1103)-29","v":{"$error":"#NUM!"}},{"$error":"#NUM!"},{"$error":"#NUM!"},true,false,{"$error":"#NUM!"}]
[null,null,null,null,null,null,null,null,null,null,null,null,null,null,null,null,null,null,null,null,null,null,null,null,null,null,null,null,null,null,null,null,null,null,null,null,null,null,null,null,null,null,null,null,null,null,null,null,null,null,null,null,false,true,0,1057,{"$f":"SMALL(IF($BB$30:$BB$32<>BC1106,\"\",ROW($BB$30:$BB$32)),BD1106)-29","v":{"$error":"#NUM!"}},{"$error":"#NUM!"},{"$error":"#NUM!"},0,1057,{"$f":"SMALL(IF($BJ$30:$BJ$32<>BH1106,\"\",ROW($BJ$30:$BJ$32)),BI1106)-29","v":{"$error":"#NUM!"}},{"$error":"#NUM!"},{"$error":"#NUM!"},true,false,{"$error":"#NUM!"}]
[null,null,null,null,null,null,null,null,null,null,null,null,null,null,null,null,null,null,null,null,null,null,null,null,null,null,null,null,null,null,null,null,null,null,null,null,null,null,null,null,null,null,null,null,null,null,null,null,null,null,null,null,false,true,0,1059,{"$f":"SMALL(IF($BB$30:$BB$32<>BC1108,\"\",ROW($BB$30:$BB$32)),BD1108)-29","v":{"$error":"#NUM!"}},{"$error":"#NUM!"},{"$error":"#NUM!"},0,1059,{"$f":"SMALL(IF($BJ$30:$BJ$32<>BH1108,\"\",ROW($BJ$30:$BJ$32)),BI1108)-29","v":{"$error":"#NUM!"}},{"$error":"#NUM!"},{"$error":"#NUM!"},true,false,{"$error":"#NUM!"}]
[null,null,null,null,null,null,null,null,null,null,null,null,null,null,null,null,null,null,null,null,null,null,null,null,null,null,null,null,null,null,null,null,null,null,null,null,null,null,null,null,null,null,null,null,null,null,null,null,null,null,null,null,false,true,0,1062,{"$f":"SMALL(IF($BB$30:$BB$32<>BC1111,\"\",ROW($BB$30:$BB$32)),BD1111)-29","v":{"$error":"#NUM!"}},{"$error":"#NUM!"},{"$error":"#NUM!"},0,1062,{"$f":"SMALL(IF($BJ$30:$BJ$32<>BH1111,\"\",ROW($BJ$30:$BJ$32)),BI1111)-29","v":{"$error":"#NUM!"}},{"$error":"#NUM!"},{"$error":"#NUM!"},true,false,{"$error":"#NUM!"}]
[null,null,null,null,null,null,null,null,null,null,null,null,null,null,null,null,null,null,null,null,null,null,null,null,null,null,null,null,null,null,null,null,null,null,null,null,null,null,null,null,null,null,null,null,null,null,null,null,null,null,null,null,false,true,0,1066,{"$f":"SMALL(IF($BB$30:$BB$32<>BC1115,\"\",ROW($BB$30:$BB$32)),BD1115)-29","v":{"$error":"#NUM!"}},{"$error":"#NUM!"},{"$error":"#NUM!"},0,1066,{"$f":"SMALL(IF($BJ$30:$BJ$32<>BH1115,\"\",ROW($BJ$30:$BJ$32)),BI1115)-29","v":{"$error":"#NUM!"}},{"$error":"#NUM!"},{"$error":"#NUM!"},true,false,{"$error":"#NUM!"}]
[null,null,null,null,null,null,null,null,null,null,null,null,null,null,null,null,null,null,null,null,null,null,null,null,null,null,null,null,null,null,null,null,null,null,null,null,null,null,null,null,null,null,null,null,null,null,null,null,null,null,null,null,false,true,0,1068,{"$f":"SMALL(IF($BB$30:$BB$32<>BC1117,\"\",ROW($BB$30:$BB$32)),BD1117)-29","v":{"$error":"#NUM!"}},{"$error":"#NUM!"},{"$error":"#NUM!"},0,1068,{"$f":"SMALL(IF($BJ$30:$BJ$32<>BH1117,\"\",ROW($BJ$30:$BJ$32)),BI1117)-29","v":{"$error":"#NUM!"}},{"$error":"#NUM!"},{"$error":"#NUM!"},true,false,{"$error":"#NUM!"}]
[null,null,null,null,null,null,null,null,null,null,null,null,null,null,null,null,null,null,null,null,null,null,null,null,null,null,null,null,null,null,null,null,null,null,null,null,null,null,null,null,null,null,null,null,null,null,null,null,null,null,null,null,false,true,0,1071,{"$f":"SMALL(IF($BB$30:$BB$32<>BC1120,\"\",ROW($BB$30:$BB$32)),BD1120)-29","v":{"$error":"#NUM!"}},{"$error":"#NUM!"},{"$error":"#NUM!"},0,1071,{"$f":"SMALL(IF($BJ$30:$BJ$32<>BH1120,\"\",ROW($BJ$30:$BJ$32)),BI1120)-29","v":{"$error":"#NUM!"}},{"$error":"#NUM!"},{"$error":"#NUM!"},true,false,{"$error":"#NUM!"}]
[null,null,null,null,null,null,null,null,null,null,null,null,null,null,null,null,null,null,null,null,null,null,null,null,null,null,null,null,null,null,null,null,null,null,null,null,null,null,null,null,null,null,null,null,null,null,null,null,null,null,null,null,false,true,0,1072,{"$f":"SMALL(IF($BB$30:$BB$32<>BC1121,\"\",ROW($BB$30:$BB$32)),BD1121)-29","v":{"$error":"#NUM!"}},{"$error":"#NUM!"},{"$error":"#NUM!"},0,1072,{"$f":"SMALL(IF($BJ$30:$BJ$32<>BH1121,\"\",ROW($BJ$30:$BJ$32)),BI1121)-29","v":{"$error":"#NUM!"}},{"$error":"#NUM!"},{"$error":"#NUM!"},true,false,{"$error":"#NUM!"}]
[null,null,null,null,null,null,null,null,null,null,null,null,null,null,null,null,null,null,null,null,null,null,null,null,null,null,null,null,null,null,null,null,null,null,null,null,null,null,null,null,null,null,null,null,null,null,null,null,null,null,null,null,false,true,0,1075,{"$f":"SMALL(IF($BB$30:$BB$32<>BC1124,\"\",ROW($BB$30:$BB$32)),BD1124)-29","v":{"$error":"#NUM!"}},{"$error":"#NUM!"},{"$error":"#NUM!"},0,1075,{"$f":"SMALL(IF($BJ$30:$BJ$32<>BH1124,\"\",ROW($BJ$30:$BJ$32)),BI1124)-29","v":{"$error":"#NUM!"}},{"$error":"#NUM!"},{"$error":"#NUM!"},true,false,{"$error":"#NUM!"}]
[null,null,null,null,null,null,null,null,null,null,null,null,null,null,null,null,null,null,null,null,null,null,null,null,null,null,null,null,null,null,null,null,null,null,null,null,null,null,null,null,null,null,null,null,null,null,null,null,null,null,null,null,false,true,0,1078,{"$f":"SMALL(IF($BB$30:$BB$32<>BC1127,\"\",ROW($BB$30:$BB$32)),BD1127)-29","v":{"$error":"#NUM!"}},{"$error":"#NUM!"},{"$error":"#NUM!"},0,1078,{"$f":"SMALL(IF($BJ$30:$BJ$32<>BH1127,\"\",ROW($BJ$30:$BJ$32)),BI1127)-29","v":{"$error":"#NUM!"}},{"$error":"#NUM!"},{"$error":"#NUM!"},true,false,{"$error":"#NUM!"}]
[null,null,null,null,null,null,null,null,null,null,null,null,null,null,null,null,null,null,null,null,null,null,null,null,null,null,null,null,null,null,null,null,null,null,null,null,null,null,null,null,null,null,null,null,null,null,null,null,null,null,null,null,false,true,0,1081,{"$f":"SMALL(IF($BB$30:$BB$32<>BC1130,\"\",ROW($BB$30:$BB$32)),BD1130)-29","v":{"$error":"#NUM!"}},{"$error":"#NUM!"},{"$error":"#NUM!"},0,1081,{"$f":"SMALL(IF($BJ$30:$BJ$32<>BH1130,\"\",ROW($BJ$30:$BJ$32)),BI1130)-29","v":{"$error":"#NUM!"}},{"$error":"#NUM!"},{"$error":"#NUM!"},true,false,{"$error":"#NUM!"}]
[null,null,null,null,null,null,null,null,null,null,null,null,null,null,null,null,null,null,null,null,null,null,null,null,null,null,null,null,null,null,null,null,null,null,null,null,null,null,null,null,null,null,null,null,null,null,null,null,null,null,null,null,false,true,0,1084,{"$f":"SMALL(IF($BB$30:$BB$32<>BC1133,\"\",ROW($BB$30:$BB$32)),BD1133)-29","v":{"$error":"#NUM!"}},{"$error":"#NUM!"},{"$error":"#NUM!"},0,1084,{"$f":"SMALL(IF($BJ$30:$BJ$32<>BH1133,\"\",ROW($BJ$30:$BJ$32)),BI1133)-29","v":{"$error":"#NUM!"}},{"$error":"#NUM!"},{"$error":"#NUM!"},true,false,{"$error":"#NUM!"}]
[null,null,null,null,null,null,null,null,null,null,null,null,null,null,null,null,null,null,null,null,null,null,null,null,null,null,null,null,null,null,null,null,null,null,null,null,null,null,null,null,null,null,null,null,null,null,null,null,null,null,null,null,false,true,0,1087,{"$f":"SMALL(IF($BB$30:$BB$32<>BC1136,\"\",ROW($BB$30:$BB$32)),BD1136)-29","v":{"$error":"#NUM!"}},{"$error":"#NUM!"},{"$error":"#NUM!"},0,1087,{"$f":"SMALL(IF($BJ$30:$BJ$32<>BH1136,\"\",ROW($BJ$30:$BJ$32)),BI1136)-29","v":{"$error":"#NUM!"}},{"$error":"#NUM!"},{"$error":"#NUM!"},true,false,{"$error":"#NUM!"}]
[null,null,null,null,null,null,null,null,null,null,null,null,null,null,null,null,null,null,null,null,null,null,null,null,null,null,null,null,null,null,null,null,null,null,null,null,null,null,null,null,null,null,null,null,null,null,null,null,null,null,null,null,{"$f":"IF(BB1139=FALSE,BF1139)","v":false},{"$f":"ISERR(BF1139)","v":true},0,1090,{"$f":"SMALL(IF($BB$30:$BB$32<>BC1139,\"\",ROW($BB$30:$BB$32)),BD1139)-29","v":{"$error":"#NUM!"}},{"$error":"#NUM!"},{"$error":"#NUM!"},0,1090,{"$f":"SMALL(IF($BJ$30:$BJ$32<>BH1139,\"\",ROW($BJ$30:$BJ$32)),BI1139)-29","v":{"$error":"#NUM!"}},{"$error":"#NUM!"},{"$error":"#NUM!"},{"$f":"ISERR(BK1139)","v":true},{"$f":"IF(BM1139=FALSE,BK1139)","v":false},{"$f":"BL1139","v":{"$error":"#NUM!"}}]
[null,null,null,null,null,null,null,null,null,null,null,null,null,null,null,null,null,null,null,null,null,null,null,null,null,null,null,null,null,null,null,null,null,null,null,null,null,null,null,null,null,null,null,null,null,null,null,null,null,null,null,null,false,true,0,1091,{"$f":"SMALL(IF($BB$30:$BB$32<>BC1140,\"\",ROW($BB$30:$BB$32)),BD1140)-29","v":{"$error":"#NUM!"}},{"$error":"#NUM!"},{"$error":"#NUM!"},0,1091,{"$f":"SMALL(IF($BJ$30:$BJ$32<>BH1140,\"\",ROW($BJ$30:$BJ$32)),BI1140)-29","v":{"$error":"#NUM!"}},{"$error":"#NUM!"},{"$error":"#NUM!"},true,false,{"$error":"#NUM!"}]
[null,null,null,null,null,null,null,null,null,null,null,null,null,null,null,null,null,null,null,null,null,null,null,null,null,null,null,null,null,null,null,null,null,null,null,null,null,null,null,null,null,null,null,null,null,null,null,null,null,null,null,null,false,true,0,1093,{"$f":"SMALL(IF($BB$30:$BB$32<>BC1142,\"\",ROW($BB$30:$BB$32)),BD1142)-29","v":{"$error":"#NUM!"}},{"$error":"#NUM!"},{"$error":"#NUM!"},0,1093,{"$f":"SMALL(IF($BJ$30:$BJ$32<>BH1142,\"\",ROW($BJ$30:$BJ$32)),BI1142)-29","v":{"$error":"#NUM!"}},{"$error":"#NUM!"},{"$error":"#NUM!"},true,false,{"$error":"#NUM!"}]
[null,null,null,null,null,null,null,null,null,null,null,null,null,null,null,null,null,null,null,null,null,null,null,null,null,null,null,null,null,null,null,null,null,null,null,null,null,null,null,null,null,null,null,null,null,null,null,null,null,null,null,null,false,true,0,1096,{"$f":"SMALL(IF($BB$30:$BB$32<>BC1145,\"\",ROW($BB$30:$BB$32)),BD1145)-29","v":{"$error":"#NUM!"}},{"$error":"#NUM!"},{"$error":"#NUM!"},0,1096,{"$f":"SMALL(IF($BJ$30:$BJ$32<>BH1145,\"\",ROW($BJ$30:$BJ$32)),BI1145)-29","v":{"$error":"#NUM!"}},{"$error":"#NUM!"},{"$error":"#NUM!"},true,false,{"$error":"#NUM!"}]
[null,null,null,null,null,null,null,null,null,null,null,null,null,null,null,null,null,null,null,null,null,null,null,null,null,null,null,null,null,null,null,null,null,null,null,null,null,null,null,null,null,null,null,null,null,null,null,null,null,null,null,null,false,true,0,1100,{"$f":"SMALL(IF($BB$30:$BB$32<>BC1149,\"\",ROW($BB$30:$BB$32)),BD1149)-29","v":{"$error":"#NUM!"}},{"$error":"#NUM!"},{"$error":"#NUM!"},0,1100,{"$f":"SMALL(IF($BJ$30:$BJ$32<>BH1149,\"\",ROW($BJ$30:$BJ$32)),BI1149)-29","v":{"$error":"#NUM!"}},{"$error":"#NUM!"},{"$error":"#NUM!"},true,false,{"$error":"#NUM!"}]
[null,null,null,null,null,null,null,null,null,null,null,null,null,null,null,null,null,null,null,null,null,null,null,null,null,null,null,null,null,null,null,null,null,null,null,null,null,null,null,null,null,null,null,null,null,null,null,null,null,null,null,null,false,true,0,1102,{"$f":"SMALL(IF($BB$30:$BB$32<>BC1151,\"\",ROW($BB$30:$BB$32)),BD1151)-29","v":{"$error":"#NUM!"}},{"$error":"#NUM!"},{"$error":"#NUM!"},0,1102,{"$f":"SMALL(IF($BJ$30:$BJ$32<>BH1151,\"\",ROW($BJ$30:$BJ$32)),BI1151)-29","v":{"$error":"#NUM!"}},{"$error":"#NUM!"},{"$error":"#NUM!"},true,false,{"$error":"#NUM!"}]
[null,null,null,null,null,null,null,null,null,null,null,null,null,null,null,null,null,null,null,null,null,null,null,null,null,null,null,null,null,null,null,null,null,null,null,null,null,null,null,null,null,null,null,null,null,null,null,null,null,null,null,null,false,true,0,1105,{"$f":"SMALL(IF($BB$30:$BB$32<>BC1154,\"\",ROW($BB$30:$BB$32)),BD1154)-29","v":{"$error":"#NUM!"}},{"$error":"#NUM!"},{"$error":"#NUM!"},0,1105,{"$f":"SMALL(IF($BJ$30:$BJ$32<>BH1154,\"\",ROW($BJ$30:$BJ$32)),BI1154)-29","v":{"$error":"#NUM!"}},{"$error":"#NUM!"},{"$error":"#NUM!"},true,false,{"$error":"#NUM!"}]
[null,null,null,null,null,null,null,null,null,null,null,null,null,null,null,null,null,null,null,null,null,null,null,null,null,null,null,null,null,null,null,null,null,null,null,null,null,null,null,null,null,null,null,null,null,null,null,null,null,null,null,null,false,true,0,1107,{"$f":"SMALL(IF($BB$30:$BB$32<>BC1156,\"\",ROW($BB$30:$BB$32)),BD1156)-29","v":{"$error":"#NUM!"}},{"$error":"#NUM!"},{"$error":"#NUM!"},0,1107,{"$f":"SMALL(IF($BJ$30:$BJ$32<>BH1156,\"\",ROW($BJ$30:$BJ$32)),BI1156)-29","v":{"$error":"#NUM!"}},{"$error":"#NUM!"},{"$error":"#NUM!"},true,false,{"$error":"#NUM!"}]
[null,null,null,null,null,null,null,null,null,null,null,null,null,null,null,null,null,null,null,null,null,null,null,null,null,null,null,null,null,null,null,null,null,null,null,null,null,null,null,null,null,null,null,null,null,null,null,null,null,null,null,null,false,true,0,1111,{"$f":"SMALL(IF($BB$30:$BB$32<>BC1160,\"\",ROW($BB$30:$BB$32)),BD1160)-29","v":{"$error":"#NUM!"}},{"$error":"#NUM!"},{"$error":"#NUM!"},0,1111,{"$f":"SMALL(IF($BJ$30:$BJ$32<>BH1160,\"\",ROW($BJ$30:$BJ$32)),BI1160)-29","v":{"$error":"#NUM!"}},{"$error":"#NUM!"},{"$error":"#NUM!"},true,false,{"$error":"#NUM!"}]
[null,null,null,null,null,null,null,null,null,null,null,null,null,null,null,null,null,null,null,null,null,null,null,null,null,null,null,null,null,null,null,null,null,null,null,null,null,null,null,null,null,null,null,null,null,null,null,null,null,null,null,null,false,true,0,1112,{"$f":"SMALL(IF($BB$30:$BB$32<>BC1161,\"\",ROW($BB$30:$BB$32)),BD1161)-29","v":{"$error":"#NUM!"}},{"$error":"#NUM!"},{"$error":"#NUM!"},0,1112,{"$f":"SMALL(IF($BJ$30:$BJ$32<>BH1161,\"\",ROW($BJ$30:$BJ$32)),BI1161)-29","v":{"$error":"#NUM!"}},{"$error":"#NUM!"},{"$error":"#NUM!"},true,false,{"$error":"#NUM!"}]
[null,null,null,null,null,null,null,null,null,null,null,null,null,null,null,null,null,null,null,null,null,null,null,null,null,null,null,null,null,null,null,null,null,null,null,null,null,null,null,null,null,null,null,null,null,null,null,null,null,null,null,null,false,true,0,1116,{"$f":"SMALL(IF($BB$30:$BB$32<>BC1165,\"\",ROW($BB$30:$BB$32)),BD1165)-29","v":{"$error":"#NUM!"}},{"$error":"#NUM!"},{"$error":"#NUM!"},0,1116,{"$f":"SMALL(IF($BJ$30:$BJ$32<>BH1165,\"\",ROW($BJ$30:$BJ$32)),BI1165)-29","v":{"$error":"#NUM!"}},{"$error":"#NUM!"},{"$error":"#NUM!"},true,false,{"$error":"#NUM!"}]
[null,null,null,null,null,null,null,null,null,null,null,null,null,null,null,null,null,null,null,null,null,null,null,null,null,null,null,null,null,null,null,null,null,null,null,null,null,null,null,null,null,null,null,null,null,null,null,null,null,null,null,null,false,true,0,1117,{"$f":"SMALL(IF($BB$30:$BB$32<>BC1166,\"\",ROW($BB$30:$BB$32)),BD1166)-29","v":{"$error":"#NUM!"}},{"$error":"#NUM!"},{"$error":"#NUM!"},0,1117,{"$f":"SMALL(IF($BJ$30:$BJ$32<>BH1166,\"\",ROW($BJ$30:$BJ$32)),BI1166)-29","v":{"$error":"#NUM!"}},{"$error":"#NUM!"},{"$error":"#NUM!"},true,false,{"$error":"#NUM!"}]
[null,null,null,null,null,null,null,null,null,null,null,null,null,null,null,null,null,null,null,null,null,null,null,null,null,null,null,null,null,null,null,null,null,null,null,null,null,null,null,null,null,null,null,null,null,null,null,null,null,null,null,null,false,true,0,1121,{"$f":"SMALL(IF($BB$30:$BB$32<>BC1170,\"\",ROW($BB$30:$BB$32)),BD1170)-29","v":{"$error":"#NUM!"}},{"$error":"#NUM!"},{"$error":"#NUM!"},0,1121,{"$f":"SMALL(IF($BJ$30:$BJ$32<>BH1170,\"\",ROW($BJ$30:$BJ$32)),BI1170)-29","v":{"$error":"#NUM!"}},{"$error":"#NUM!"},{"$error":"#NUM!"},true,false,{"$error":"#NUM!"}]
[null,null,null,null,null,null,null,null,null,null,null,null,null,null,null,null,null,null,null,null,null,null,null,null,null,null,null,null,null,null,null,null,null,null,null,null,null,null,null,null,null,null,null,null,null,null,null,null,null,null,null,null,false,true,0,1123,{"$f":"SMALL(IF($BB$30:$BB$32<>BC1172,\"\",ROW($BB$30:$BB$32)),BD1172)-29","v":{"$error":"#NUM!"}},{"$error":"#NUM!"},{"$error":"#NUM!"},0,1123,{"$f":"SMALL(IF($BJ$30:$BJ$32<>BH1172,\"\",ROW($BJ$30:$BJ$32)),BI1172)-29","v":{"$error":"#NUM!"}},{"$error":"#NUM!"},{"$error":"#NUM!"},true,false,{"$error":"#NUM!"}]
[null,null,null,null,null,null,null,null,null,null,null,null,null,null,null,null,null,null,null,null,null,null,null,null,null,null,null,null,null,null,null,null,null,null,null,null,null,null,null,null,null,null,null,null,null,null,null,null,null,null,null,null,false,true,0,1127,{"$f":"SMALL(IF($BB$30:$BB$32<>BC1176,\"\",ROW($BB$30:$BB$32)),BD1176)-29","v":{"$error":"#NUM!"}},{"$error":"#NUM!"},{"$error":"#NUM!"},0,1127,{"$f":"SMALL(IF($BJ$30:$BJ$32<>BH1176,\"\",ROW($BJ$30:$BJ$32)),BI1176)-29","v":{"$error":"#NUM!"}},{"$error":"#NUM!"},{"$error":"#NUM!"},true,false,{"$error":"#NUM!"}]
[null,null,null,null,null,null,null,null,null,null,null,null,null,null,null,null,null,null,null,null,null,null,null,null,null,null,null,null,null,null,null,null,null,null,null,null,null,null,null,null,null,null,null,null,null,null,null,null,null,null,null,null,false,true,0,1128,{"$f":"SMALL(IF($BB$30:$BB$32<>BC1177,\"\",ROW($BB$30:$BB$32)),BD1177)-29","v":{"$error":"#NUM!"}},{"$error":"#NUM!"},{"$error":"#NUM!"},0,1128,{"$f":"SMALL(IF($BJ$30:$BJ$32<>BH1177,\"\",ROW($BJ$30:$BJ$32)),BI1177)-29","v":{"$error":"#NUM!"}},{"$error":"#NUM!"},{"$error":"#NUM!"},true,false,{"$error":"#NUM!"}]
[null,null,null,null,null,null,null,null,null,null,null,null,null,null,null,null,null,null,null,null,null,null,null,null,null,null,null,null,null,null,null,null,null,null,null,null,null,null,null,null,null,null,null,null,null,null,null,null,null,null,null,null,false,true,0,1132,{"$f":"SMALL(IF($BB$30:$BB$32<>BC1181,\"\",ROW($BB$30:$BB$32)),BD1181)-29","v":{"$error":"#NUM!"}},{"$error":"#NUM!"},{"$error":"#NUM!"},0,1132,{"$f":"SMALL(IF($BJ$30:$BJ$32<>BH1181,\"\",ROW($BJ$30:$BJ$32)),BI1181)-29","v":{"$error":"#NUM!"}},{"$error":"#NUM!"},{"$error":"#NUM!"},true,false,{"$error":"#NUM!"}]
[null,null,null,null,null,null,null,null,null,null,null,null,null,null,null,null,null,null,null,null,null,null,null,null,null,null,null,null,null,null,null,null,null,null,null,null,null,null,null,null,null,null,null,null,null,null,null,null,null,null,null,null,false,true,0,1133,{"$f":"SMALL(IF($BB$30:$BB$32<>BC1182,\"\",ROW($BB$30:$BB$32)),BD1182)-29","v":{"$error":"#NUM!"}},{"$error":"#NUM!"},{"$error":"#NUM!"},0,1133,{"$f":"SMALL(IF($BJ$30:$BJ$32<>BH1182,\"\",ROW($BJ$30:$BJ$32)),BI1182)-29","v":{"$error":"#NUM!"}},{"$error":"#NUM!"},{"$error":"#NUM!"},true,false,{"$error":"#NUM!"}]
[null,null,null,null,null,null,null,null,null,null,null,null,null,null,null,null,null,null,null,null,null,null,null,null,null,null,null,null,null,null,null,null,null,null,null,null,null,null,null,null,null,null,null,null,null,null,null,null,null,null,null,null,false,true,0,1137,{"$f":"SMALL(IF($BB$30:$BB$32<>BC1186,\"\",ROW($BB$30:$BB$32)),BD1186)-29","v":{"$error":"#NUM!"}},{"$error":"#NUM!"},{"$error":"#NUM!"},0,1137,{"$f":"SMALL(IF($BJ$30:$BJ$32<>BH1186,\"\",ROW($BJ$30:$BJ$32)),BI1186)-29","v":{"$error":"#NUM!"}},{"$error":"#NUM!"},{"$error":"#NUM!"},true,false,{"$error":"#NUM!"}]
[null,null,null,null,null,null,null,null,null,null,null,null,null,null,null,null,null,null,null,null,null,null,null,null,null,null,null,null,null,null,null,null,null,null,null,null,null,null,null,null,null,null,null,null,null,null,null,null,null,null,null,null,false,true,0,1138,{"$f":"SMALL(IF($BB$30:$BB$32<>BC1187,\"\",ROW($BB$30:$BB$32)),BD1187)-29","v":{"$error":"#NUM!"}},{"$error":"#NUM!"},{"$error":"#NUM!"},0,1138,{"$f":"SMALL(IF($BJ$30:$BJ$32<>BH1187,\"\",ROW($BJ$30:$BJ$32)),BI1187)-29","v":{"$error":"#NUM!"}},{"$error":"#NUM!"},{"$error":"#NUM!"},true,false,{"$error":"#NUM!"}]
[null,null,null,null,null,null,null,null,null,null,null,null,null,null,null,null,null,null,null,null,null,null,null,null,null,null,null,null,null,null,null,null,null,null,null,null,null,null,null,null,null,null,null,null,null,null,null,null,null,null,null,null,false,true,0,1142,{"$f":"SMALL(IF($BB$30:$BB$32<>BC1191,\"\",ROW($BB$30:$BB$32)),BD1191)-29","v":{"$error":"#NUM!"}},{"$error":"#NUM!"},{"$error":"#NUM!"},0,1142,{"$f":"SMALL(IF($BJ$30:$BJ$32<>BH1191,\"\",ROW($BJ$30:$BJ$32)),BI1191)-29","v":{"$error":"#NUM!"}},{"$error":"#NUM!"},{"$error":"#NUM!"},true,false,{"$error":"#NUM!"}]
[null,null,null,null,null,null,null,null,null,null,null,null,null,null,null,null,null,null,null,null,null,null,null,null,null,null,null,null,null,null,null,null,null,null,null,null,null,null,null,null,null,null,null,null,null,null,null,null,null,null,null,null,false,true,0,1144,{"$f":"SMALL(IF($BB$30:$BB$32<>BC1193,\"\",ROW($BB$30:$BB$32)),BD1193)-29","v":{"$error":"#NUM!"}},{"$error":"#NUM!"},{"$error":"#NUM!"},0,1144,{"$f":"SMALL(IF($BJ$30:$BJ$32<>BH1193,\"\",ROW($BJ$30:$BJ$32)),BI1193)-29","v":{"$error":"#NUM!"}},{"$error":"#NUM!"},{"$error":"#NUM!"},true,false,{"$error":"#NUM!"}]
[null,null,null,null,null,null,null,null,null,null,null,null,null,null,null,null,null,null,null,null,null,null,null,null,null,null,null,null,null,null,null,null,null,null,null,null,null,null,null,null,null,null,null,null,null,null,null,null,null,null,null,null,false,true,0,1148,{"$f":"SMALL(IF($BB$30:$BB$32<>BC1197,\"\",ROW($BB$30:$BB$32)),BD1197)-29","v":{"$error":"#NUM!"}},{"$error":"#NUM!"},{"$error":"#NUM!"},0,1148,{"$f":"SMALL(IF($BJ$30:$BJ$32<>BH1197,\"\",ROW($BJ$30:$BJ$32)),BI1197)-29","v":{"$error":"#NUM!"}},{"$error":"#NUM!"},{"$error":"#NUM!"},true,false,{"$error":"#NUM!"}]
[null,null,null,null,null,null,null,null,null,null,null,null,null,null,null,null,null,null,null,null,null,null,null,null,null,null,null,null,null,null,null,null,null,null,null,null,null,null,null,null,null,null,null,null,null,null,null,null,null,null,null,null,false,true,0,1151,{"$f":"SMALL(IF($BB$30:$BB$32<>BC1200,\"\",ROW($BB$30:$BB$32)),BD1200)-29","v":{"$error":"#NUM!"}},{"$error":"#NUM!"},{"$error":"#NUM!"},0,1151,{"$f":"SMALL(IF($BJ$30:$BJ$32<>BH1200,\"\",ROW($BJ$30:$BJ$32)),BI1200)-29","v":{"$error":"#NUM!"}},{"$error":"#NUM!"},{"$error":"#NUM!"},true,false,{"$error":"#NUM!"}]
[null,null,null,null,null,null,null,null,null,null,null,null,null,null,null,null,null,null,null,null,null,null,null,null,null,null,null,null,null,null,null,null,null,null,null,null,null,null,null,null,null,null,null,null,null,null,null,null,null,null,null,null,false,true,{"$f":"MIN($BB$29:$BB$32)","v":0},1153,{"$f":"SMALL(IF($BB$30:$BB$32<>BC1202,\"\",ROW($BB$30:$BB$32)),BD1202)-29","v":{"$error":"#NUM!"}},{"$f":"INDEX($BD$30:$BD$32,BE1202)","v":{"$error":"#NUM!"}},{"$f":"INDEX($BG$30:$BG$32,BE1202)","v":{"$error":"#NUM!"}},{"$f":"MAX($BJ$29:$BJ$32)","v":0},1153,{"$f":"SMALL(IF($BJ$30:$BJ$32<>BH1202,\"\",ROW($BJ$30:$BJ$32)),BI1202)-29","v":{"$error":"#NUM!"}},{"$f":"INDEX($BL$30:$BL$32,BJ1202)","v":{"$error":"#NUM!"}},{"$f":"INDEX($BO$30:$BO$32,BJ1202)","v":{"$error":"#NUM!"}},true,false,{"$error":"#NUM!"}]
[null,null,null,null,null,null,null,null,null,null,null,null,null,null,null,null,null,null,null,null,null,null,null,null,null,null,null,null,null,null,null,null,null,null,null,null,null,null,null,null,null,null,null,null,null,null,null,null,null,null,null,null,{"$f":"IF(BB1203=FALSE,BF1203)","v":false},{"$f":"ISERR(BF1203)","v":true},0,1154,{"$f":"SMALL(IF($BB$30:$BB$32<>BC1203,\"\",ROW($BB$30:$BB$32)),BD1203)-29","v":{"$error":"#NUM!"}},{"$error":"#NUM!"},{"$error":"#NUM!"},0,1154,{"$f":"SMALL(IF($BJ$30:$BJ$32<>BH1203,\"\",ROW($BJ$30:$BJ$32)),BI1203)-29","v":{"$error":"#NUM!"}},{"$error":"#NUM!"},{"$error":"#NUM!"},{"$f":"ISERR(BK1203)","v":true},{"$f":"IF(BM1203=FALSE,BK1203)","v":false},{"$f":"BL1203","v":{"$error":"#NUM!"}}]
[null,null,null,null,null,null,null,null,null,null,null,null,null,null,null,null,null,null,null,null,null,null,null,null,null,null,null,null,null,null,null,null,null,null,null,null,null,null,null,null,null,null,null,null,null,null,null,null,null,null,null,null,false,true,0,1157,{"$f":"SMALL(IF($BB$30:$BB$32<>BC1206,\"\",ROW($BB$30:$BB$32)),BD1206)-29","v":{"$error":"#NUM!"}},{"$error":"#NUM!"},{"$error":"#NUM!"},0,1157,{"$f":"SMALL(IF($BJ$30:$BJ$32<>BH1206,\"\",ROW($BJ$30:$BJ$32)),BI1206)-29","v":{"$error":"#NUM!"}},{"$error":"#NUM!"},{"$error":"#NUM!"},true,false,{"$error":"#NUM!"}]
[null,null,null,null,null,null,null,null,null,null,null,null,null,null,null,null,null,null,null,null,null,null,null,null,null,null,null,null,null,null,null,null,null,null,null,null,null,null,null,null,null,null,null,null,null,null,null,null,null,null,null,null,false,true,0,1160,{"$f":"SMALL(IF($BB$30:$BB$32<>BC1209,\"\",ROW($BB$30:$BB$32)),BD1209)-29","v":{"$error":"#NUM!"}},{"$error":"#NUM!"},{"$error":"#NUM!"},0,1160,{"$f":"SMALL(IF($BJ$30:$BJ$32<>BH1209,\"\",ROW($BJ$30:$BJ$32)),BI1209)-29","v":{"$error":"#NUM!"}},{"$error":"#NUM!"},{"$error":"#NUM!"},true,false,{"$error":"#NUM!"}]
[null,null,null,null,null,null,null,null,null,null,null,null,null,null,null,null,null,null,null,null,null,null,null,null,null,null,null,null,null,null,null,null,null,null,null,null,null,null,null,null,null,null,null,null,null,null,null,null,null,null,null,null,false,true,0,1163,{"$f":"SMALL(IF($BB$30:$BB$32<>BC1212,\"\",ROW($BB$30:$BB$32)),BD1212)-29","v":{"$error":"#NUM!"}},{"$error":"#NUM!"},{"$error":"#NUM!"},0,1163,{"$f":"SMALL(IF($BJ$30:$BJ$32<>BH1212,\"\",ROW($BJ$30:$BJ$32)),BI1212)-29","v":{"$error":"#NUM!"}},{"$error":"#NUM!"},{"$error":"#NUM!"},true,false,{"$error":"#NUM!"}]
[null,null,null,null,null,null,null,null,null,null,null,null,null,null,null,null,null,null,null,null,null,null,null,null,null,null,null,null,null,null,null,null,null,null,null,null,null,null,null,null,null,null,null,null,null,null,null,null,null,null,null,null,false,true,0,1166,{"$f":"SMALL(IF($BB$30:$BB$32<>BC1215,\"\",ROW($BB$30:$BB$32)),BD1215)-29","v":{"$error":"#NUM!"}},{"$error":"#NUM!"},{"$error":"#NUM!"},0,1166,{"$f":"SMALL(IF($BJ$30:$BJ$32<>BH1215,\"\",ROW($BJ$30:$BJ$32)),BI1215)-29","v":{"$error":"#NUM!"}},{"$error":"#NUM!"},{"$error":"#NUM!"},true,false,{"$error":"#NUM!"}]
[null,null,null,null,null,null,null,null,null,null,null,null,null,null,null,null,null,null,null,null,null,null,null,null,null,null,null,null,null,null,null,null,null,null,null,null,null,null,null,null,null,null,null,null,null,null,null,null,null,null,null,null,false,true,0,1169,{"$f":"SMALL(IF($BB$30:$BB$32<>BC1218,\"\",ROW($BB$30:$BB$32)),BD1218)-29","v":{"$error":"#NUM!"}},{"$error":"#NUM!"},{"$error":"#NUM!"},0,1169,{"$f":"SMALL(IF($BJ$30:$BJ$32<>BH1218,\"\",ROW($BJ$30:$BJ$32)),BI1218)-29","v":{"$error":"#NUM!"}},{"$error":"#NUM!"},{"$error":"#NUM!"},true,false,{"$error":"#NUM!"}]
[null,null,null,null,null,null,null,null,null,null,null,null,null,null,null,null,null,null,null,null,null,null,null,null,null,null,null,null,null,null,null,null,null,null,null,null,null,null,null,null,null,null,null,null,null,null,null,null,null,null,null,null,false,true,0,1172,{"$f":"SMALL(IF($BB$30:$BB$32<>BC1221,\"\",ROW($BB$30:$BB$32)),BD1221)-29","v":{"$error":"#NUM!"}},{"$error":"#NUM!"},{"$error":"#NUM!"},0,1172,{"$f":"SMALL(IF($BJ$30:$BJ$32<>BH1221,\"\",ROW($BJ$30:$BJ$32)),BI1221)-29","v":{"$error":"#NUM!"}},{"$error":"#NUM!"},{"$error":"#NUM!"},true,false,{"$error":"#NUM!"}]
[null,null,null,null,null,null,null,null,null,null,null,null,null,null,null,null,null,null,null,null,null,null,null,null,null,null,null,null,null,null,null,null,null,null,null,null,null,null,null,null,null,null,null,null,null,null,null,null,null,null,null,null,false,true,0,1174,{"$f":"SMALL(IF($BB$30:$BB$32<>BC1223,\"\",ROW($BB$30:$BB$32)),BD1223)-29","v":{"$error":"#NUM!"}},{"$error":"#NUM!"},{"$error":"#NUM!"},0,1174,{"$f":"SMALL(IF($BJ$30:$BJ$32<>BH1223,\"\",ROW($BJ$30:$BJ$32)),BI1223)-29","v":{"$error":"#NUM!"}},{"$error":"#NUM!"},{"$error":"#NUM!"},true,false,{"$error":"#NUM!"}]
[null,null,null,null,null,null,null,null,null,null,null,null,null,null,null,null,null,null,null,null,null,null,null,null,null,null,null,null,null,null,null,null,null,null,null,null,null,null,null,null,null,null,null,null,null,null,null,null,null,null,null,null,false,true,0,1175,{"$f":"SMALL(IF($BB$30:$BB$32<>BC1224,\"\",ROW($BB$30:$BB$32)),BD1224)-29","v":{"$error":"#NUM!"}},{"$error":"#NUM!"},{"$error":"#NUM!"},0,1175,{"$f":"SMALL(IF($BJ$30:$BJ$32<>BH1224,\"\",ROW($BJ$30:$BJ$32)),BI1224)-29","v":{"$error":"#NUM!"}},{"$error":"#NUM!"},{"$error":"#NUM!"},true,false,{"$error":"#NUM!"}]
[null,null,null,null,null,null,null,null,null,null,null,null,null,null,null,null,null,null,null,null,null,null,null,null,null,null,null,null,null,null,null,null,null,null,null,null,null,null,null,null,null,null,null,null,null,null,null,null,null,null,null,null,false,true,0,1178,{"$f":"SMALL(IF($BB$30:$BB$32<>BC1227,\"\",ROW($BB$30:$BB$32)),BD1227)-29","v":{"$error":"#NUM!"}},{"$error":"#NUM!"},{"$error":"#NUM!"},0,1178,{"$f":"SMALL(IF($BJ$30:$BJ$32<>BH1227,\"\",ROW($BJ$30:$BJ$32)),BI1227)-29","v":{"$error":"#NUM!"}},{"$error":"#NUM!"},{"$error":"#NUM!"},true,false,{"$error":"#NUM!"}]
[null,null,null,null,null,null,null,null,null,null,null,null,null,null,null,null,null,null,null,null,null,null,null,null,null,null,null,null,null,null,null,null,null,null,null,null,null,null,null,null,null,null,null,null,null,null,null,null,null,null,null,null,false,true,0,1181,{"$f":"SMALL(IF($BB$30:$BB$32<>BC1230,\"\",ROW($BB$30:$BB$32)),BD1230)-29","v":{"$error":"#NUM!"}},{"$error":"#NUM!"},{"$error":"#NUM!"},0,1181,{"$f":"SMALL(IF($BJ$30:$BJ$32<>BH1230,\"\",ROW($BJ$30:$BJ$32)),BI1230)-29","v":{"$error":"#NUM!"}},{"$error":"#NUM!"},{"$error":"#NUM!"},true,false,{"$error":"#NUM!"}]
[null,null,null,null,null,null,null,null,null,null,null,null,null,null,null,null,null,null,null,null,null,null,null,null,null,null,null,null,null,null,null,null,null,null,null,null,null,null,null,null,null,null,null,null,null,null,null,null,null,null,null,null,false,true,0,1184,{"$f":"SMALL(IF($BB$30:$BB$32<>BC1233,\"\",ROW($BB$30:$BB$32)),BD1233)-29","v":{"$error":"#NUM!"}},{"$error":"#NUM!"},{"$error":"#NUM!"},0,1184,{"$f":"SMALL(IF($BJ$30:$BJ$32<>BH1233,\"\",ROW($BJ$30:$BJ$32)),BI1233)-29","v":{"$error":"#NUM!"}},{"$error":"#NUM!"},{"$error":"#NUM!"},true,false,{"$error":"#NUM!"}]
[null,null,null,null,null,null,null,null,null,null,null,null,null,null,null,null,null,null,null,null,null,null,null,null,null,null,null,null,null,null,null,null,null,null,null,null,null,null,null,null,null,null,null,null,null,null,null,null,null,null,null,null,false,true,0,1187,{"$f":"SMALL(IF($BB$30:$BB$32<>BC1236,\"\",ROW($BB$30:$BB$32)),BD1236)-29","v":{"$error":"#NUM!"}},{"$error":"#NUM!"},{"$error":"#NUM!"},0,1187,{"$f":"SMALL(IF($BJ$30:$BJ$32<>BH1236,\"\",ROW($BJ$30:$BJ$32)),BI1236)-29","v":{"$error":"#NUM!"}},{"$error":"#NUM!"},{"$error":"#NUM!"},true,false,{"$error":"#NUM!"}]
[null,null,null,null,null,null,null,null,null,null,null,null,null,null,null,null,null,null,null,null,null,null,null,null,null,null,null,null,null,null,null,null,null,null,null,null,null,null,null,null,null,null,null,null,null,null,null,null,null,null,null,null,false,true,0,1190,{"$f":"SMALL(IF($BB$30:$BB$32<>BC1239,\"\",ROW($BB$30:$BB$32)),BD1239)-29","v":{"$error":"#NUM!"}},{"$error":"#NUM!"},{"$error":"#NUM!"},0,1190,{"$f":"SMALL(IF($BJ$30:$BJ$32<>BH1239,\"\",ROW($BJ$30:$BJ$32)),BI1239)-29","v":{"$error":"#NUM!"}},{"$error":"#NUM!"},{"$error":"#NUM!"},true,false,{"$error":"#NUM!"}]
[null,null,null,null,null,null,null,null,null,null,null,null,null,null,null,null,null,null,null,null,null,null,null,null,null,null,null,null,null,null,null,null,null,null,null,null,null,null,null,null,null,null,null,null,null,null,null,null,null,null,null,null,false,true,0,1193,{"$f":"SMALL(IF($BB$30:$BB$32<>BC1242,\"\",ROW($BB$30:$BB$32)),BD1242)-29","v":{"$error":"#NUM!"}},{"$error":"#NUM!"},{"$error":"#NUM!"},0,1193,{"$f":"SMALL(IF($BJ$30:$BJ$32<>BH1242,\"\",ROW($BJ$30:$BJ$32)),BI1242)-29","v":{"$error":"#NUM!"}},{"$error":"#NUM!"},{"$error":"#NUM!"},true,false,{"$error":"#NUM!"}]
[null,null,null,null,null,null,null,null,null,null,null,null,null,null,null,null,null,null,null,null,null,null,null,null,null,null,null,null,null,null,null,null,null,null,null,null,null,null,null,null,null,null,null,null,null,null,null,null,null,null,null,null,false,true,0,1196,{"$f":"SMALL(IF($BB$30:$BB$32<>BC1245,\"\",ROW($BB$30:$BB$32)),BD1245)-29","v":{"$error":"#NUM!"}},{"$error":"#NUM!"},{"$error":"#NUM!"},0,1196,{"$f":"SMALL(IF($BJ$30:$BJ$32<>BH1245,\"\",ROW($BJ$30:$BJ$32)),BI1245)-29","v":{"$error":"#NUM!"}},{"$error":"#NUM!"},{"$error":"#NUM!"},true,false,{"$error":"#NUM!"}]
[null,null,null,null,null,null,null,null,null,null,null,null,null,null,null,null,null,null,null,null,null,null,null,null,null,null,null,null,null,null,null,null,null,null,null,null,null,null,null,null,null,null,null,null,null,null,null,null,null,null,null,null,false,true,0,1197,{"$f":"SMALL(IF($BB$30:$BB$32<>BC1246,\"\",ROW($BB$30:$BB$32)),BD1246)-29","v":{"$error":"#NUM!"}},{"$error":"#NUM!"},{"$error":"#NUM!"},0,1197,{"$f":"SMALL(IF($BJ$30:$BJ$32<>BH1246,\"\",ROW($BJ$30:$BJ$32)),BI1246)-29","v":{"$error":"#NUM!"}},{"$error":"#NUM!"},{"$error":"#NUM!"},true,false,{"$error":"#NUM!"}]
[null,null,null,null,null,null,null,null,null,null,null,null,null,null,null,null,null,null,null,null,null,null,null,null,null,null,null,null,null,null,null,null,null,null,null,null,null,null,null,null,null,null,null,null,null,null,null,null,null,null,null,null,false,true,0,1199,{"$f":"SMALL(IF($BB$30:$BB$32<>BC1248,\"\",ROW($BB$30:$BB$32)),BD1248)-29","v":{"$error":"#NUM!"}},{"$error":"#NUM!"},{"$error":"#NUM!"},0,1199,{"$f":"SMALL(IF($BJ$30:$BJ$32<>BH1248,\"\",ROW($BJ$30:$BJ$32)),BI1248)-29","v":{"$error":"#NUM!"}},{"$error":"#NUM!"},{"$error":"#NUM!"},true,false,{"$error":"#NUM!"}]
[null,null,null,null,null,null,null,null,null,null,null,null,null,null,null,null,null,null,null,null,null,null,null,null,null,null,null,null,null,null,null,null,null,null,null,null,null,null,null,null,null,null,null,null,null,null,null,null,null,null,null,null,false,true,0,1203,{"$f":"SMALL(IF($BB$30:$BB$32<>BC1252,\"\",ROW($BB$30:$BB$32)),BD1252)-29","v":{"$error":"#NUM!"}},{"$error":"#NUM!"},{"$error":"#NUM!"},0,1203,{"$f":"SMALL(IF($BJ$30:$BJ$32<>BH1252,\"\",ROW($BJ$30:$BJ$32)),BI1252)-29","v":{"$error":"#NUM!"}},{"$error":"#NUM!"},{"$error":"#NUM!"},true,false,{"$error":"#NUM!"}]
[null,null,null,null,null,null,null,null,null,null,null,null,null,null,null,null,null,null,null,null,null,null,null,null,null,null,null,null,null,null,null,null,null,null,null,null,null,null,null,null,null,null,null,null,null,null,null,null,null,null,null,null,false,true,0,1206,{"$f":"SMALL(IF($BB$30:$BB$32<>BC1255,\"\",ROW($BB$30:$BB$32)),BD1255)-29","v":{"$error":"#NUM!"}},{"$error":"#NUM!"},{"$error":"#NUM!"},0,1206,{"$f":"SMALL(IF($BJ$30:$BJ$32<>BH1255,\"\",ROW($BJ$30:$BJ$32)),BI1255)-29","v":{"$error":"#NUM!"}},{"$error":"#NUM!"},{"$error":"#NUM!"},true,false,{"$error":"#NUM!"}]
[null,null,null,null,null,null,null,null,null,null,null,null,null,null,null,null,null,null,null,null,null,null,null,null,null,null,null,null,null,null,null,null,null,null,null,null,null,null,null,null,null,null,null,null,null,null,null,null,null,null,null,null,false,true,0,1208,{"$f":"SMALL(IF($BB$30:$BB$32<>BC1257,\"\",ROW($BB$30:$BB$32)),BD1257)-29","v":{"$error":"#NUM!"}},{"$error":"#NUM!"},{"$error":"#NUM!"},0,1208,{"$f":"SMALL(IF($BJ$30:$BJ$32<>BH1257,\"\",ROW($BJ$30:$BJ$32)),BI1257)-29","v":{"$error":"#NUM!"}},{"$error":"#NUM!"},{"$error":"#NUM!"},true,false,{"$error":"#NUM!"}]
[null,null,null,null,null,null,null,null,null,null,null,null,null,null,null,null,null,null,null,null,null,null,null,null,null,null,null,null,null,null,null,null,null,null,null,null,null,null,null,null,null,null,null,null,null,null,null,null,null,null,null,null,false,true,0,1212,{"$f":"SMALL(IF($BB$30:$BB$32<>BC1261,\"\",ROW($BB$30:$BB$32)),BD1261)-29","v":{"$error":"#NUM!"}},{"$error":"#NUM!"},{"$error":"#NUM!"},0,1212,{"$f":"SMALL(IF($BJ$30:$BJ$32<>BH1261,\"\",ROW($BJ$30:$BJ$32)),BI1261)-29","v":{"$error":"#NUM!"}},{"$error":"#NUM!"},{"$error":"#NUM!"},true,false,{"$error":"#NUM!"}]
[null,null,null,null,null,null,null,null,null,null,null,null,null,null,null,null,null,null,null,null,null,null,null,null,null,null,null,null,null,null,null,null,null,null,null,null,null,null,null,null,null,null,null,null,null,null,null,null,null,null,null,null,false,true,0,1213,{"$f":"SMALL(IF($BB$30:$BB$32<>BC1262,\"\",ROW($BB$30:$BB$32)),BD1262)-29","v":{"$error":"#NUM!"}},{"$error":"#NUM!"},{"$error":"#NUM!"},0,1213,{"$f":"SMALL(IF($BJ$30:$BJ$32<>BH1262,\"\",ROW($BJ$30:$BJ$32)),BI1262)-29","v":{"$error":"#NUM!"}},{"$error":"#NUM!"},{"$error":"#NUM!"},true,false,{"$error":"#NUM!"}]
[null,null,null,null,null,null,null,null,null,null,null,null,null,null,null,null,null,null,null,null,null,null,null,null,null,null,null,null,null,null,null,null,null,null,null,null,null,null,null,null,null,null,null,null,null,null,null,null,null,null,null,null,false,true,0,1215,{"$f":"SMALL(IF($BB$30:$BB$32<>BC1264,\"\",ROW($BB$30:$BB$32)),BD1264)-29","v":{"$error":"#NUM!"}},{"$error":"#NUM!"},{"$error":"#NUM!"},0,1215,{"$f":"SMALL(IF($BJ$30:$BJ$32<>BH1264,\"\",ROW($BJ$30:$BJ$32)),BI1264)-29","v":{"$error":"#NUM!"}},{"$error":"#NUM!"},{"$error":"#NUM!"},true,false,{"$error":"#NUM!"}]
[null,null,null,null,null,null,null,null,null,null,null,null,null,null,null,null,null,null,null,null,null,null,null,null,null,null,null,null,null,null,null,null,null,null,null,null,null,null,null,null,null,null,null,null,null,null,null,null,null,null,null,null,{"$f":"IF(BB1267=FALSE,BF1267)","v":false},{"$f":"ISERR(BF1267)","v":true},0,1218,{"$f":"SMALL(IF($BB$30:$BB$32<>BC1267,\"\",ROW($BB$30:$BB$32)),BD1267)-29","v":{"$error":"#NUM!"}},{"$error":"#NUM!"},{"$error":"#NUM!"},0,1218,{"$f":"SMALL(IF($BJ$30:$BJ$32<>BH1267,\"\",ROW($BJ$30:$BJ$32)),BI1267)-29","v":{"$error":"#NUM!"}},{"$error":"#NUM!"},{"$error":"#NUM!"},{"$f":"ISERR(BK1267)","v":true},{"$f":"IF(BM1267=FALSE,BK1267)","v":false},{"$f":"BL1267","v":{"$error":"#NUM!"}}]
[null,null,null,null,null,null,null,null,null,null,null,null,null,null,null,null,null,null,null,null,null,null,null,null,null,null,null,null,null,null,null,null,null,null,null,null,null,null,null,null,null,null,null,null,null,null,null,null,null,null,null,null,false,true,0,1222,{"$f":"SMALL(IF($BB$30:$BB$32<>BC1271,\"\",ROW($BB$30:$BB$32)),BD1271)-29","v":{"$error":"#NUM!"}},{"$error":"#NUM!"},{"$error":"#NUM!"},0,1222,{"$f":"SMALL(IF($BJ$30:$BJ$32<>BH1271,\"\",ROW($BJ$30:$BJ$32)),BI1271)-29","v":{"$error":"#NUM!"}},{"$error":"#NUM!"},{"$error":"#NUM!"},true,false,{"$error":"#NUM!"}]
[null,null,null,null,null,null,null,null,null,null,null,null,null,null,null,null,null,null,null,null,null,null,null,null,null,null,null,null,null,null,null,null,null,null,null,null,null,null,null,null,null,null,null,null,null,null,null,null,null,null,null,null,false,true,0,1224,{"$f":"SMALL(IF($BB$30:$BB$32<>BC1273,\"\",ROW($BB$30:$BB$32)),BD1273)-29","v":{"$error":"#NUM!"}},{"$error":"#NUM!"},{"$error":"#NUM!"},0,1224,{"$f":"SMALL(IF($BJ$30:$BJ$32<>BH1273,\"\",ROW($BJ$30:$BJ$32)),BI1273)-29","v":{"$error":"#NUM!"}},{"$error":"#NUM!"},{"$error":"#NUM!"},true,false,{"$error":"#NUM!"}]
[null,null,null,null,null,null,null,null,null,null,null,null,null,null,null,null,null,null,null,null,null,null,null,null,null,null,null,null,null,null,null,null,null,null,null,null,null,null,null,null,null,null,null,null,null,null,null,null,null,null,null,null,false,true,0,1227,{"$f":"SMALL(IF($BB$30:$BB$32<>BC1276,\"\",ROW($BB$30:$BB$32)),BD1276)-29","v":{"$error":"#NUM!"}},{"$error":"#NUM!"},{"$error":"#NUM!"},0,1227,{"$f":"SMALL(IF($BJ$30:$BJ$32<>BH1276,\"\",ROW($BJ$30:$BJ$32)),BI1276)-29","v":{"$error":"#NUM!"}},{"$error":"#NUM!"},{"$error":"#NUM!"},true,false,{"$error":"#NUM!"}]
[null,null,null,null,null,null,null,null,null,null,null,null,null,null,null,null,null,null,null,null,null,null,null,null,null,null,null,null,null,null,null,null,null,null,null,null,null,null,null,null,null,null,null,null,null,null,null,null,null,null,null,null,false,true,0,1229,{"$f":"SMALL(IF($BB$30:$BB$32<>BC1278,\"\",ROW($BB$30:$BB$32)),BD1278)-29","v":{"$error":"#NUM!"}},{"$error":"#NUM!"},{"$error":"#NUM!"},0,1229,{"$f":"SMALL(IF($BJ$30:$BJ$32<>BH1278,\"\",ROW($BJ$30:$BJ$32)),BI1278)-29","v":{"$error":"#NUM!"}},{"$error":"#NUM!"},{"$error":"#NUM!"},true,false,{"$error":"#NUM!"}]
[null,null,null,null,null,null,null,null,null,null,null,null,null,null,null,null,null,null,null,null,null,null,null,null,null,null,null,null,null,null,null,null,null,null,null,null,null,null,null,null,null,null,null,null,null,null,null,null,null,null,null,null,false,true,0,1233,{"$f":"SMALL(IF($BB$30:$BB$32<>BC1282,\"\",ROW($BB$30:$BB$32)),BD1282)-29","v":{"$error":"#NUM!"}},{"$error":"#NUM!"},{"$error":"#NUM!"},0,1233,{"$f":"SMALL(IF($BJ$30:$BJ$32<>BH1282,\"\",ROW($BJ$30:$BJ$32)),BI1282)-29","v":{"$error":"#NUM!"}},{"$error":"#NUM!"},{"$error":"#NUM!"},true,false,{"$error":"#NUM!"}]
[null,null,null,null,null,null,null,null,null,null,null,null,null,null,null,null,null,null,null,null,null,null,null,null,null,null,null,null,null,null,null,null,null,null,null,null,null,null,null,null,null,null,null,null,null,null,null,null,null,null,null,null,false,true,0,1234,{"$f":"SMALL(IF($BB$30:$BB$32<>BC1283,\"\",ROW($BB$30:$BB$32)),BD1283)-29","v":{"$error":"#NUM!"}},{"$error":"#NUM!"},{"$error":"#NUM!"},0,1234,{"$f":"SMALL(IF($BJ$30:$BJ$32<>BH1283,\"\",ROW($BJ$30:$BJ$32)),BI1283)-29","v":{"$error":"#NUM!"}},{"$error":"#NUM!"},{"$error":"#NUM!"},true,false,{"$error":"#NUM!"}]
[null,null,null,null,null,null,null,null,null,null,null,null,null,null,null,null,null,null,null,null,null,null,null,null,null,null,null,null,null,null,null,null,null,null,null,null,null,null,null,null,null,null,null,null,null,null,null,null,null,null,null,null,false,true,0,1236,{"$f":"SMALL(IF($BB$30:$BB$32<>BC1285,\"\",ROW($BB$30:$BB$32)),BD1285)-29","v":{"$error":"#NUM!"}},{"$error":"#NUM!"},{"$error":"#NUM!"},0,1236,{"$f":"SMALL(IF($BJ$30:$BJ$32<>BH1285,\"\",ROW($BJ$30:$BJ$32)),BI1285)-29","v":{"$error":"#NUM!"}},{"$error":"#NUM!"},{"$error":"#NUM!"},true,false,{"$error":"#NUM!"}]
[null,null,null,null,null,null,null,null,null,null,null,null,null,null,null,null,null,null,null,null,null,null,null,null,null,null,null,null,null,null,null,null,null,null,null,null,null,null,null,null,null,null,null,null,null,null,null,null,null,null,null,null,false,true,0,1239,{"$f":"SMALL(IF($BB$30:$BB$32<>BC1288,\"\",ROW($BB$30:$BB$32)),BD1288)-29","v":{"$error":"#NUM!"}},{"$error":"#NUM!"},{"$error":"#NUM!"},0,1239,{"$f":"SMALL(IF($BJ$30:$BJ$32<>BH1288,\"\",ROW($BJ$30:$BJ$32)),BI1288)-29","v":{"$error":"#NUM!"}},{"$error":"#NUM!"},{"$error":"#NUM!"},true,false,{"$error":"#NUM!"}]
[null,null,null,null,null,null,null,null,null,null,null,null,null,null,null,null,null,null,null,null,null,null,null,null,null,null,null,null,null,null,null,null,null,null,null,null,null,null,null,null,null,null,null,null,null,null,null,null,null,null,null,null,false,true,0,1243,{"$f":"SMALL(IF($BB$30:$BB$32<>BC1292,\"\",ROW($BB$30:$BB$32)),BD1292)-29","v":{"$error":"#NUM!"}},{"$error":"#NUM!"},{"$error":"#NUM!"},0,1243,{"$f":"SMALL(IF($BJ$30:$BJ$32<>BH1292,\"\",ROW($BJ$30:$BJ$32)),BI1292)-29","v":{"$error":"#NUM!"}},{"$error":"#NUM!"},{"$error":"#NUM!"},true,false,{"$error":"#NUM!"}]
[null,null,null,null,null,null,null,null,null,null,null,null,null,null,null,null,null,null,null,null,null,null,null,null,null,null,null,null,null,null,null,null,null,null,null,null,null,null,null,null,null,null,null,null,null,null,null,null,null,null,null,null,false,true,0,1245,{"$f":"SMALL(IF($BB$30:$BB$32<>BC1294,\"\",ROW($BB$30:$BB$32)),BD1294)-29","v":{"$error":"#NUM!"}},{"$error":"#NUM!"},{"$error":"#NUM!"},0,1245,{"$f":"SMALL(IF($BJ$30:$BJ$32<>BH1294,\"\",ROW($BJ$30:$BJ$32)),BI1294)-29","v":{"$error":"#NUM!"}},{"$error":"#NUM!"},{"$error":"#NUM!"},true,false,{"$error":"#NUM!"}]
[null,null,null,null,null,null,null,null,null,null,null,null,null,null,null,null,null,null,null,null,null,null,null,null,null,null,null,null,null,null,null,null,null,null,null,null,null,null,null,null,null,null,null,null,null,null,null,null,null,null,null,null,false,true,0,1248,{"$f":"SMALL(IF($BB$30:$BB$32<>BC1297,\"\",ROW($BB$30:$BB$32)),BD1297)-29","v":{"$error":"#NUM!"}},{"$error":"#NUM!"},{"$error":"#NUM!"},0,1248,{"$f":"SMALL(IF($BJ$30:$BJ$32<>BH1297,\"\",ROW($BJ$30:$BJ$32)),BI1297)-29","v":{"$error":"#NUM!"}},{"$error":"#NUM!"},{"$error":"#NUM!"},true,false,{"$error":"#NUM!"}]
[null,null,null,null,null,null,null,null,null,null,null,null,null,null,null,null,null,null,null,null,null,null,null,null,null,null,null,null,null,null,null,null,null,null,null,null,null,null,null,null,null,null,null,null,null,null,null,null,null,null,null,null,false,true,0,1250,{"$f":"SMALL(IF($BB$30:$BB$32<>BC1299,\"\",ROW($BB$30:$BB$32)),BD1299)-29","v":{"$error":"#NUM!"}},{"$error":"#NUM!"},{"$error":"#NUM!"},0,1250,{"$f":"SMALL(IF($BJ$30:$BJ$32<>BH1299,\"\",ROW($BJ$30:$BJ$32)),BI1299)-29","v":{"$error":"#NUM!"}},{"$error":"#NUM!"},{"$error":"#NUM!"},true,false,{"$error":"#NUM!"}]
[null,null,null,null,null,null,null,null,null,null,null,null,null,null,null,null,null,null,null,null,null,null,null,null,null,null,null,null,null,null,null,null,null,null,null,null,null,null,null,null,null,null,null,null,null,null,null,null,null,null,null,null,false,true,0,1254,{"$f":"SMALL(IF($BB$30:$BB$32<>BC1303,\"\",ROW($BB$30:$BB$32)),BD1303)-29","v":{"$error":"#NUM!"}},{"$error":"#NUM!"},{"$error":"#NUM!"},0,1254,{"$f":"SMALL(IF($BJ$30:$BJ$32<>BH1303,\"\",ROW($BJ$30:$BJ$32)),BI1303)-29","v":{"$error":"#NUM!"}},{"$error":"#NUM!"},{"$error":"#NUM!"},true,false,{"$error":"#NUM!"}]
[null,null,null,null,null,null,null,null,null,null,null,null,null,null,null,null,null,null,null,null,null,null,null,null,null,null,null,null,null,null,null,null,null,null,null,null,null,null,null,null,null,null,null,null,null,null,null,null,null,null,null,null,false,true,0,1257,{"$f":"SMALL(IF($BB$30:$BB$32<>BC1306,\"\",ROW($BB$30:$BB$32)),BD1306)-29","v":{"$error":"#NUM!"}},{"$error":"#NUM!"},{"$error":"#NUM!"},0,1257,{"$f":"SMALL(IF($BJ$30:$BJ$32<>BH1306,\"\",ROW($BJ$30:$BJ$32)),BI1306)-29","v":{"$error":"#NUM!"}},{"$error":"#NUM!"},{"$error":"#NUM!"},true,false,{"$error":"#NUM!"}]
[null,null,null,null,null,null,null,null,null,null,null,null,null,null,null,null,null,null,null,null,null,null,null,null,null,null,null,null,null,null,null,null,null,null,null,null,null,null,null,null,null,null,null,null,null,null,null,null,null,null,null,null,false,true,0,1259,{"$f":"SMALL(IF($BB$30:$BB$32<>BC1308,\"\",ROW($BB$30:$BB$32)),BD1308)-29","v":{"$error":"#NUM!"}},{"$error":"#NUM!"},{"$error":"#NUM!"},0,1259,{"$f":"SMALL(IF($BJ$30:$BJ$32<>BH1308,\"\",ROW($BJ$30:$BJ$32)),BI1308)-29","v":{"$error":"#NUM!"}},{"$error":"#NUM!"},{"$error":"#NUM!"},true,false,{"$error":"#NUM!"}]
[null,null,null,null,null,null,null,null,null,null,null,null,null,null,null,null,null,null,null,null,null,null,null,null,null,null,null,null,null,null,null,null,null,null,null,null,null,null,null,null,null,null,null,null,null,null,null,null,null,null,null,null,false,true,0,1260,{"$f":"SMALL(IF($BB$30:$BB$32<>BC1309,\"\",ROW($BB$30:$BB$32)),BD1309)-29","v":{"$error":"#NUM!"}},{"$error":"#NUM!"},{"$error":"#NUM!"},0,1260,{"$f":"SMALL(IF($BJ$30:$BJ$32<>BH1309,\"\",ROW($BJ$30:$BJ$32)),BI1309)-29","v":{"$error":"#NUM!"}},{"$error":"#NUM!"},{"$error":"#NUM!"},true,false,{"$error":"#NUM!"}]
[null,null,null,null,null,null,null,null,null,null,null,null,null,null,null,null,null,null,null,null,null,null,null,null,null,null,null,null,null,null,null,null,null,null,null,null,null,null,null,null,null,null,null,null,null,null,null,null,null,null,null,null,false,true,0,1263,{"$f":"SMALL(IF($BB$30:$BB$32<>BC1312,\"\",ROW($BB$30:$BB$32)),BD1312)-29","v":{"$error":"#NUM!"}},{"$error":"#NUM!"},{"$error":"#NUM!"},0,1263,{"$f":"SMALL(IF($BJ$30:$BJ$32<>BH1312,\"\",ROW($BJ$30:$BJ$32)),BI1312)-29","v":{"$error":"#NUM!"}},{"$error":"#NUM!"},{"$error":"#NUM!"},true,false,{"$error":"#NUM!"}]
[null,null,null,null,null,null,null,null,null,null,null,null,null,null,null,null,null,null,null,null,null,null,null,null,null,null,null,null,null,null,null,null,null,null,null,null,null,null,null,null,null,null,null,null,null,null,null,null,null,null,null,null,false,true,0,1266,{"$f":"SMALL(IF($BB$30:$BB$32<>BC1315,\"\",ROW($BB$30:$BB$32)),BD1315)-29","v":{"$error":"#NUM!"}},{"$error":"#NUM!"},{"$error":"#NUM!"},0,1266,{"$f":"SMALL(IF($BJ$30:$BJ$32<>BH1315,\"\",ROW($BJ$30:$BJ$32)),BI1315)-29","v":{"$error":"#NUM!"}},{"$error":"#NUM!"},{"$error":"#NUM!"},true,false,{"$error":"#NUM!"}]
[null,null,null,null,null,null,null,null,null,null,null,null,null,null,null,null,null,null,null,null,null,null,null,null,null,null,null,null,null,null,null,null,null,null,null,null,null,null,null,null,null,null,null,null,null,null,null,null,null,null,null,null,false,true,0,1269,{"$f":"SMALL(IF($BB$30:$BB$32<>BC1318,\"\",ROW($BB$30:$BB$32)),BD1318)-29","v":{"$error":"#NUM!"}},{"$error":"#NUM!"},{"$error":"#NUM!"},0,1269,{"$f":"SMALL(IF($BJ$30:$BJ$32<>BH1318,\"\",ROW($BJ$30:$BJ$32)),BI1318)-29","v":{"$error":"#NUM!"}},{"$error":"#NUM!"},{"$error":"#NUM!"},true,false,{"$error":"#NUM!"}]
[null,null,null,null,null,null,null,null,null,null,null,null,null,null,null,null,null,null,null,null,null,null,null,null,null,null,null,null,null,null,null,null,null,null,null,null,null,null,null,null,null,null,null,null,null,null,null,null,null,null,null,null,false,true,0,1273,{"$f":"SMALL(IF($BB$30:$BB$32<>BC1322,\"\",ROW($BB$30:$BB$32)),BD1322)-29","v":{"$error":"#NUM!"}},{"$error":"#NUM!"},{"$error":"#NUM!"},0,1273,{"$f":"SMALL(IF($BJ$30:$BJ$32<>BH1322,\"\",ROW($BJ$30:$BJ$32)),BI1322)-29","v":{"$error":"#NUM!"}},{"$error":"#NUM!"},{"$error":"#NUM!"},true,false,{"$error":"#NUM!"}]
[null,null,null,null,null,null,null,null,null,null,null,null,null,null,null,null,null,null,null,null,null,null,null,null,null,null,null,null,null,null,null,null,null,null,null,null,null,null,null,null,null,null,null,null,null,null,null,null,null,null,null,null,false,true,0,1275,{"$f":"SMALL(IF($BB$30:$BB$32<>BC1324,\"\",ROW($BB$30:$BB$32)),BD1324)-29","v":{"$error":"#NUM!"}},{"$error":"#NUM!"},{"$error":"#NUM!"},0,1275,{"$f":"SMALL(IF($BJ$30:$BJ$32<>BH1324,\"\",ROW($BJ$30:$BJ$32)),BI1324)-29","v":{"$error":"#NUM!"}},{"$error":"#NUM!"},{"$error":"#NUM!"},true,false,{"$error":"#NUM!"}]
[null,null,null,null,null,null,null,null,null,null,null,null,null,null,null,null,null,null,null,null,null,null,null,null,null,null,null,null,null,null,null,null,null,null,null,null,null,null,null,null,null,null,null,null,null,null,null,null,null,null,null,null,false,true,0,1278,{"$f":"SMALL(IF($BB$30:$BB$32<>BC1327,\"\",ROW($BB$30:$BB$32)),BD1327)-29","v":{"$error":"#NUM!"}},{"$error":"#NUM!"},{"$error":"#NUM!"},0,1278,{"$f":"SMALL(IF($BJ$30:$BJ$32<>BH1327,\"\",ROW($BJ$30:$BJ$32)),BI1327)-29","v":{"$error":"#NUM!"}},{"$error":"#NUM!"},{"$error":"#NUM!"},true,false,{"$error":"#NUM!"}]
[null,null,null,null,null,null,null,null,null,null,null,null,null,null,null,null,null,null,null,null,null,null,null,null,null,null,null,null,null,null,null,null,null,null,null,null,null,null,null,null,null,null,null,null,null,null,null,null,null,null,null,null,false,true,0,1279,{"$f":"SMALL(IF($BB$30:$BB$32<>BC1328,\"\",ROW($BB$30:$BB$32)),BD1328)-29","v":{"$error":"#NUM!"}},{"$error":"#NUM!"},{"$error":"#NUM!"},0,1279,{"$f":"SMALL(IF($BJ$30:$BJ$32<>BH1328,\"\",ROW($BJ$30:$BJ$32)),BI1328)-29","v":{"$error":"#NUM!"}},{"$error":"#NUM!"},{"$error":"#NUM!"},true,false,{"$error":"#NUM!"}]
[null,null,null,null,null,null,null,null,null,null,null,null,null,null,null,null,null,null,null,null,null,null,null,null,null,null,null,null,null,null,null,null,null,null,null,null,null,null,null,null,null,null,null,null,null,null,null,null,null,null,null,null,{"$f":"IF(BB1331=FALSE,BF1331)","v":false},{"$f":"ISERR(BF1331)","v":true},0,1282,{"$f":"SMALL(IF($BB$30:$BB$32<>BC1331,\"\",ROW($BB$30:$BB$32)),BD1331)-29","v":{"$error":"#NUM!"}},{"$error":"#NUM!"},{"$error":"#NUM!"},0,1282,{"$f":"SMALL(IF($BJ$30:$BJ$32<>BH1331,\"\",ROW($BJ$30:$BJ$32)),BI1331)-29","v":{"$error":"#NUM!"}},{"$error":"#NUM!"},{"$error":"#NUM!"},{"$f":"ISERR(BK1331)","v":true},{"$f":"IF(BM1331=FALSE,BK1331)","v":false},{"$f":"BL1331","v":{"$error":"#NUM!"}}]
[null,null,null,null,null,null,null,null,null,null,null,null,null,null,null,null,null,null,null,null,null,null,null,null,null,null,null,null,null,null,null,null,null,null,null,null,null,null,null,null,null,null,null,null,null,null,null,null,null,null,null,null,false,true,0,1284,{"$f":"SMALL(IF($BB$30:$BB$32<>BC1333,\"\",ROW($BB$30:$BB$32)),BD1333)-29","v":{"$error":"#NUM!"}},{"$error":"#NUM!"},{"$error":"#NUM!"},0,1284,{"$f":"SMALL(IF($BJ$30:$BJ$32<>BH1333,\"\",ROW($BJ$30:$BJ$32)),BI1333)-29","v":{"$error":"#NUM!"}},{"$error":"#NUM!"},{"$error":"#NUM!"},true,false,{"$error":"#NUM!"}]
[null,null,null,null,null,null,null,null,null,null,null,null,null,null,null,null,null,null,null,null,null,null,null,null,null,null,null,null,null,null,null,null,null,null,null,null,null,null,null,null,null,null,null,null,null,null,null,null,null,null,null,null,false,true,0,1288,{"$f":"SMALL(IF($BB$30:$BB$32<>BC1337,\"\",ROW($BB$30:$BB$32)),BD1337)-29","v":{"$error":"#NUM!"}},{"$error":"#NUM!"},{"$error":"#NUM!"},0,1288,{"$f":"SMALL(IF($BJ$30:$BJ$32<>BH1337,\"\",ROW($BJ$30:$BJ$32)),BI1337)-29","v":{"$error":"#NUM!"}},{"$error":"#NUM!"},{"$error":"#NUM!"},true,false,{"$error":"#NUM!"}]
[null,null,null,null,null,null,null,null,null,null,null,null,null,null,null,null,null,null,null,null,null,null,null,null,null,null,null,null,null,null,null,null,null,null,null,null,null,null,null,null,null,null,null,null,null,null,null,null,null,null,null,null,false,true,0,1291,{"$f":"SMALL(IF($BB$30:$BB$32<>BC1340,\"\",ROW($BB$30:$BB$32)),BD1340)-29","v":{"$error":"#NUM!"}},{"$error":"#NUM!"},{"$error":"#NUM!"},0,1291,{"$f":"SMALL(IF($BJ$30:$BJ$32<>BH1340,\"\",ROW($BJ$30:$BJ$32)),BI1340)-29","v":{"$error":"#NUM!"}},{"$error":"#NUM!"},{"$error":"#NUM!"},true,false,{"$error":"#NUM!"}]
[null,null,null,null,null,null,null,null,null,null,null,null,null,null,null,null,null,null,null,null,null,null,null,null,null,null,null,null,null,null,null,null,null,null,null,null,null,null,null,null,null,null,null,null,null,null,null,null,null,null,null,null,false,true,0,1294,{"$f":"SMALL(IF($BB$30:$BB$32<>BC1343,\"\",ROW($BB$30:$BB$32)),BD1343)-29","v":{"$error":"#NUM!"}},{"$error":"#NUM!"},{"$error":"#NUM!"},0,1294,{"$f":"SMALL(IF($BJ$30:$BJ$32<>BH1343,\"\",ROW($BJ$30:$BJ$32)),BI1343)-29","v":{"$error":"#NUM!"}},{"$error":"#NUM!"},{"$error":"#NUM!"},true,false,{"$error":"#NUM!"}]
[null,null,null,null,null,null,null,null,null,null,null,null,null,null,null,null,null,null,null,null,null,null,null,null,null,null,null,null,null,null,null,null,null,null,null,null,null,null,null,null,null,null,null,null,null,null,null,null,null,null,null,null,false,true,0,1296,{"$f":"SMALL(IF($BB$30:$BB$32<>BC1345,\"\",ROW($BB$30:$BB$32)),BD1345)-29","v":{"$error":"#NUM!"}},{"$error":"#NUM!"},{"$error":"#NUM!"},0,1296,{"$f":"SMALL(IF($BJ$30:$BJ$32<>BH1345,\"\",ROW($BJ$30:$BJ$32)),BI1345)-29","v":{"$error":"#NUM!"}},{"$error":"#NUM!"},{"$error":"#NUM!"},true,false,{"$error":"#NUM!"}]
[null,null,null,null,null,null,null,null,null,null,null,null,null,null,null,null,null,null,null,null,null,null,null,null,null,null,null,null,null,null,null,null,null,null,null,null,null,null,null,null,null,null,null,null,null,null,null,null,null,null,null,null,false,true,0,1299,{"$f":"SMALL(IF($BB$30:$BB$32<>BC1348,\"\",ROW($BB$30:$BB$32)),BD1348)-29","v":{"$error":"#NUM!"}},{"$error":"#NUM!"},{"$error":"#NUM!"},0,1299,{"$f":"SMALL(IF($BJ$30:$BJ$32<>BH1348,\"\",ROW($BJ$30:$BJ$32)),BI1348)-29","v":{"$error":"#NUM!"}},{"$error":"#NUM!"},{"$error":"#NUM!"},true,false,{"$error":"#NUM!"}]
[null,null,null,null,null,null,null,null,null,null,null,null,null,null,null,null,null,null,null,null,null,null,null,null,null,null,null,null,null,null,null,null,null,null,null,null,null,null,null,null,null,null,null,null,null,null,null,null,null,null,null,null,false,true,0,1300,{"$f":"SMALL(IF($BB$30:$BB$32<>BC1349,\"\",ROW($BB$30:$BB$32)),BD1349)-29","v":{"$error":"#NUM!"}},{"$error":"#NUM!"},{"$error":"#NUM!"},0,1300,{"$f":"SMALL(IF($BJ$30:$BJ$32<>BH1349,\"\",ROW($BJ$30:$BJ$32)),BI1349)-29","v":{"$error":"#NUM!"}},{"$error":"#NUM!"},{"$error":"#NUM!"},true,false,{"$error":"#NUM!"}]
[null,null,null,null,null,null,null,null,null,null,null,null,null,null,null,null,null,null,null,null,null,null,null,null,null,null,null,null,null,null,null,null,null,null,null,null,null,null,null,null,null,null,null,null,null,null,null,null,null,null,null,null,false,true,0,1303,{"$f":"SMALL(IF($BB$30:$BB$32<>BC1352,\"\",ROW($BB$30:$BB$32)),BD1352)-29","v":{"$error":"#NUM!"}},{"$error":"#NUM!"},{"$error":"#NUM!"},0,1303,{"$f":"SMALL(IF($BJ$30:$BJ$32<>BH1352,\"\",ROW($BJ$30:$BJ$32)),BI1352)-29","v":{"$error":"#NUM!"}},{"$error":"#NUM!"},{"$error":"#NUM!"},true,false,{"$error":"#NUM!"}]
[null,null,null,null,null,null,null,null,null,null,null,null,null,null,null,null,null,null,null,null,null,null,null,null,null,null,null,null,null,null,null,null,null,null,null,null,null,null,null,null,null,null,null,null,null,null,null,null,null,null,null,null,false,true,0,1305,{"$f":"SMALL(IF($BB$30:$BB$32<>BC1354,\"\",ROW($BB$30:$BB$32)),BD1354)-29","v":{"$error":"#NUM!"}},{"$error":"#NUM!"},{"$error":"#NUM!"},0,1305,{"$f":"SMALL(IF($BJ$30:$BJ$32<>BH1354,\"\",ROW($BJ$30:$BJ$32)),BI1354)-29","v":{"$error":"#NUM!"}},{"$error":"#NUM!"},{"$error":"#NUM!"},true,false,{"$error":"#NUM!"}]
[null,null,null,null,null,null,null,null,null,null,null,null,null,null,null,null,null,null,null,null,null,null,null,null,null,null,null,null,null,null,null,null,null,null,null,null,null,null,null,null,null,null,null,null,null,null,null,null,null,null,null,null,false,true,0,1309,{"$f":"SMALL(IF($BB$30:$BB$32<>BC1358,\"\",ROW($BB$30:$BB$32)),BD1358)-29","v":{"$error":"#NUM!"}},{"$error":"#NUM!"},{"$error":"#NUM!"},0,1309,{"$f":"SMALL(IF($BJ$30:$BJ$32<>BH1358,\"\",ROW($BJ$30:$BJ$32)),BI1358)-29","v":{"$error":"#NUM!"}},{"$error":"#NUM!"},{"$error":"#NUM!"},true,false,{"$error":"#NUM!"}]
[null,null,null,null,null,null,null,null,null,null,null,null,null,null,null,null,null,null,null,null,null,null,null,null,null,null,null,null,null,null,null,null,null,null,null,null,null,null,null,null,null,null,null,null,null,null,null,null,null,null,null,null,false,true,0,1312,{"$f":"SMALL(IF($BB$30:$BB$32<>BC1361,\"\",ROW($BB$30:$BB$32)),BD1361)-29","v":{"$error":"#NUM!"}},{"$error":"#NUM!"},{"$error":"#NUM!"},0,1312,{"$f":"SMALL(IF($BJ$30:$BJ$32<>BH1361,\"\",ROW($BJ$30:$BJ$32)),BI1361)-29","v":{"$error":"#NUM!"}},{"$error":"#NUM!"},{"$error":"#NUM!"},true,false,{"$error":"#NUM!"}]
[null,null,null,null,null,null,null,null,null,null,null,null,null,null,null,null,null,null,null,null,null,null,null,null,null,null,null,null,null,null,null,null,null,null,null,null,null,null,null,null,null,null,null,null,null,null,null,null,null,null,null,null,false,true,0,1315,{"$f":"SMALL(IF($BB$30:$BB$32<>BC1364,\"\",ROW($BB$30:$BB$32)),BD1364)-29","v":{"$error":"#NUM!"}},{"$error":"#NUM!"},{"$error":"#NUM!"},0,1315,{"$f":"SMALL(IF($BJ$30:$BJ$32<>BH1364,\"\",ROW($BJ$30:$BJ$32)),BI1364)-29","v":{"$error":"#NUM!"}},{"$error":"#NUM!"},{"$error":"#NUM!"},true,false,{"$error":"#NUM!"}]
[null,null,null,null,null,null,null,null,null,null,null,null,null,null,null,null,null,null,null,null,null,null,null,null,null,null,null,null,null,null,null,null,null,null,null,null,null,null,null,null,null,null,null,null,null,null,null,null,null,null,null,null,false,true,0,1318,{"$f":"SMALL(IF($BB$30:$BB$32<>BC1367,\"\",ROW($BB$30:$BB$32)),BD1367)-29","v":{"$error":"#NUM!"}},{"$error":"#NUM!"},{"$error":"#NUM!"},0,1318,{"$f":"SMALL(IF($BJ$30:$BJ$32<>BH1367,\"\",ROW($BJ$30:$BJ$32)),BI1367)-29","v":{"$error":"#NUM!"}},{"$error":"#NUM!"},{"$error":"#NUM!"},true,false,{"$error":"#NUM!"}]
[null,null,null,null,null,null,null,null,null,null,null,null,null,null,null,null,null,null,null,null,null,null,null,null,null,null,null,null,null,null,null,null,null,null,null,null,null,null,null,null,null,null,null,null,null,null,null,null,null,null,null,null,false,true,0,1319,{"$f":"SMALL(IF($BB$30:$BB$32<>BC1368,\"\",ROW($BB$30:$BB$32)),BD1368)-29","v":{"$error":"#NUM!"}},{"$error":"#NUM!"},{"$error":"#NUM!"},0,1319,{"$f":"SMALL(IF($BJ$30:$BJ$32<>BH1368,\"\",ROW($BJ$30:$BJ$32)),BI1368)-29","v":{"$error":"#NUM!"}},{"$error":"#NUM!"},{"$error":"#NUM!"},true,false,{"$error":"#NUM!"}]
[null,null,null,null,null,null,null,null,null,null,null,null,null,null,null,null,null,null,null,null,null,null,null,null,null,null,null,null,null,null,null,null,null,null,null,null,null,null,null,null,null,null,null,null,null,null,null,null,null,null,null,null,false,true,0,1321,{"$f":"SMALL(IF($BB$30:$BB$32<>BC1370,\"\",ROW($BB$30:$BB$32)),BD1370)-29","v":{"$error":"#NUM!"}},{"$error":"#NUM!"},{"$error":"#NUM!"},0,1321,{"$f":"SMALL(IF($BJ$30:$BJ$32<>BH1370,\"\",ROW($BJ$30:$BJ$32)),BI1370)-29","v":{"$error":"#NUM!"}},{"$error":"#NUM!"},{"$error":"#NUM!"},true,false,{"$error":"#NUM!"}]
[null,null,null,null,null,null,null,null,null,null,null,null,null,null,null,null,null,null,null,null,null,null,null,null,null,null,null,null,null,null,null,null,null,null,null,null,null,null,null,null,null,null,null,null,null,null,null,null,null,null,null,null,false,true,0,1324,{"$f":"SMALL(IF($BB$30:$BB$32<>BC1373,\"\",ROW($BB$30:$BB$32)),BD1373)-29","v":{"$error":"#NUM!"}},{"$error":"#NUM!"},{"$error":"#NUM!"},0,1324,{"$f":"SMALL(IF($BJ$30:$BJ$32<>BH1373,\"\",ROW($BJ$30:$BJ$32)),BI1373)-29","v":{"$error":"#NUM!"}},{"$error":"#NUM!"},{"$error":"#NUM!"},true,false,{"$error":"#NUM!"}]
[null,null,null,null,null,null,null,null,null,null,null,null,null,null,null,null,null,null,null,null,null,null,null,null,null,null,null,null,null,null,null,null,null,null,null,null,null,null,null,null,null,null,null,null,null,null,null,null,null,null,null,null,false,true,0,1328,{"$f":"SMALL(IF($BB$30:$BB$32<>BC1377,\"\",ROW($BB$30:$BB$32)),BD1377)-29","v":{"$error":"#NUM!"}},{"$error":"#NUM!"},{"$error":"#NUM!"},0,1328,{"$f":"SMALL(IF($BJ$30:$BJ$32<>BH1377,\"\",ROW($BJ$30:$BJ$32)),BI1377)-29","v":{"$error":"#NUM!"}},{"$error":"#NUM!"},{"$error":"#NUM!"},true,false,{"$error":"#NUM!"}]
[null,null,null,null,null,null,null,null,null,null,null,null,null,null,null,null,null,null,null,null,null,null,null,null,null,null,null,null,null,null,null,null,null,null,null,null,null,null,null,null,null,null,null,null,null,null,null,null,null,null,null,null,false,true,0,1330,{"$f":"SMALL(IF($BB$30:$BB$32<>BC1379,\"\",ROW($BB$30:$BB$32)),BD1379)-29","v":{"$error":"#NUM!"}},{"$error":"#NUM!"},{"$error":"#NUM!"},0,1330,{"$f":"SMALL(IF($BJ$30:$BJ$32<>BH1379,\"\",ROW($BJ$30:$BJ$32)),BI1379)-29","v":{"$error":"#NUM!"}},{"$error":"#NUM!"},{"$error":"#NUM!"},true,false,{"$error":"#NUM!"}]
[null,null,null,null,null,null,null,null,null,null,null,null,null,null,null,null,null,null,null,null,null,null,null,null,null,null,null,null,null,null,null,null,null,null,null,null,null,null,null,null,null,null,null,null,null,null,null,null,null,null,null,null,false,true,0,1333,{"$f":"SMALL(IF($BB$30:$BB$32<>BC1382,\"\",ROW($BB$30:$BB$32)),BD1382)-29","v":{"$error":"#NUM!"}},{"$error":"#NUM!"},{"$error":"#NUM!"},0,1333,{"$f":"SMALL(IF($BJ$30:$BJ$32<>BH1382,\"\",ROW($BJ$30:$BJ$32)),BI1382)-29","v":{"$error":"#NUM!"}},{"$error":"#NUM!"},{"$error":"#NUM!"},true,false,{"$error":"#NUM!"}]
[null,null,null,null,null,null,null,null,null,null,null,null,null,null,null,null,null,null,null,null,null,null,null,null,null,null,null,null,null,null,null,null,null,null,null,null,null,null,null,null,null,null,null,null,null,null,null,null,null,null,null,null,false,true,0,1335,{"$f":"SMALL(IF($BB$30:$BB$32<>BC1384,\"\",ROW($BB$30:$BB$32)),BD1384)-29","v":{"$error":"#NUM!"}},{"$error":"#NUM!"},{"$error":"#NUM!"},0,1335,{"$f":"SMALL(IF($BJ$30:$BJ$32<>BH1384,\"\",ROW($BJ$30:$BJ$32)),BI1384)-29","v":{"$error":"#NUM!"}},{"$error":"#NUM!"},{"$error":"#NUM!"},true,false,{"$error":"#NUM!"}]
[null,null,null,null,null,null,null,null,null,null,null,null,null,null,null,null,null,null,null,null,null,null,null,null,null,null,null,null,null,null,null,null,null,null,null,null,null,null,null,null,null,null,null,null,null,null,null,null,null,null,null,null,false,true,0,1339,{"$f":"SMALL(IF($BB$30:$BB$32<>BC1388,\"\",ROW($BB$30:$BB$32)),BD1388)-29","v":{"$error":"#NUM!"}},{"$error":"#NUM!"},{"$error":"#NUM!"},0,1339,{"$f":"SMALL(IF($BJ$30:$BJ$32<>BH1388,\"\",ROW($BJ$30:$BJ$32)),BI1388)-29","v":{"$error":"#NUM!"}},{"$error":"#NUM!"},{"$error":"#NUM!"},true,false,{"$error":"#NUM!"}]
[null,null,null,null,null,null,null,null,null,null,null,null,null,null,null,null,null,null,null,null,null,null,null,null,null,null,null,null,null,null,null,null,null,null,null,null,null,null,null,null,null,null,null,null,null,null,null,null,null,null,null,null,false,true,0,1342,{"$f":"SMALL(IF($BB$30:$BB$32<>BC1391,\"\",ROW($BB$30:$BB$32)),BD1391)-29","v":{"$error":"#NUM!"}},{"$error":"#NUM!"},{"$error":"#NUM!"},0,1342,{"$f":"SMALL(IF($BJ$30:$BJ$32<>BH1391,\"\",ROW($BJ$30:$BJ$32)),BI1391)-29","v":{"$error":"#NUM!"}},{"$error":"#NUM!"},{"$error":"#NUM!"},true,false,{"$error":"#NUM!"}]
[null,null,null,null,null,null,null,null,null,null,null,null,null,null,null,null,null,null,null,null,null,null,null,null,null,null,null,null,null,null,null,null,null,null,null,null,null,null,null,null,null,null,null,null,null,null,null,null,null,null,null,null,false,true,0,1344,{"$f":"SMALL(IF($BB$30:$BB$32<>BC1393,\"\",ROW($BB$30:$BB$32)),BD1393)-29","v":{"$error":"#NUM!"}},{"$error":"#NUM!"},{"$error":"#NUM!"},0,1344,{"$f":"SMALL(IF($BJ$30:$BJ$32<>BH1393,\"\",ROW($BJ$30:$BJ$32)),BI1393)-29","v":{"$error":"#NUM!"}},{"$error":"#NUM!"},{"$error":"#NUM!"},true,false,{"$error":"#NUM!"}]
[null,null,null,null,null,null,null,null,null,null,null,null,null,null,null,null,null,null,null,null,null,null,null,null,null,null,null,null,null,null,null,null,null,null,null,null,null,null,null,null,null,null,null,null,null,null,null,null,null,null,null,null,false,true,{"$f":"MIN($BB$29:$BB$32)","v":0},1345,{"$f":"SMALL(IF($BB$30:$BB$32<>BC1394,\"\",ROW($BB$30:$BB$32)),BD1394)-29","v":{"$error":"#NUM!"}},{"$f":"INDEX($BD$30:$BD$32,BE1394)","v":{"$error":"#NUM!"}},{"$f":"INDEX($BG$30:$BG$32,BE1394)","v":{"$error":"#NUM!"}},{"$f":"MAX($BJ$29:$BJ$32)","v":0},1345,{"$f":"SMALL(IF($BJ$30:$BJ$32<>BH1394,\"\",ROW($BJ$30:$BJ$32)),BI1394)-29","v":{"$error":"#NUM!"}},{"$f":"INDEX($BL$30:$BL$32,BJ1394)","v":{"$error":"#NUM!"}},{"$f":"INDEX($BO$30:$BO$32,BJ1394)","v":{"$error":"#NUM!"}},true,false,{"$error":"#NUM!"}]
[null,null,null,null,null,null,null,null,null,null,null,null,null,null,null,null,null,null,null,null,null,null,null,null,null,null,null,null,null,null,null,null,null,null,null,null,null,null,null,null,null,null,null,null,null,null,null,null,null,null,null,null,false,true,0,1349,{"$f":"SMALL(IF($BB$30:$BB$32<>BC1398,\"\",ROW($BB$30:$BB$32)),BD1398)-29","v":{"$error":"#NUM!"}},{"$error":"#NUM!"},{"$error":"#NUM!"},0,1349,{"$f":"SMALL(IF($BJ$30:$BJ$32<>BH1398,\"\",ROW($BJ$30:$BJ$32)),BI1398)-29","v":{"$error":"#NUM!"}},{"$error":"#NUM!"},{"$error":"#NUM!"},true,false,{"$error":"#NUM!"}]
[null,null,null,null,null,null,null,null,null,null,null,null,null,null,null,null,null,null,null,null,null,null,null,null,null,null,null,null,null,null,null,null,null,null,null,null,null,null,null,null,null,null,null,null,null,null,null,null,null,null,null,null,false,true,0,1351,{"$f":"SMALL(IF($BB$30:$BB$32<>BC1400,\"\",ROW($BB$30:$BB$32)),BD1400)-29","v":{"$error":"#NUM!"}},{"$error":"#NUM!"},{"$error":"#NUM!"},0,1351,{"$f":"SMALL(IF($BJ$30:$BJ$32<>BH1400,\"\",ROW($BJ$30:$BJ$32)),BI1400)-29","v":{"$error":"#NUM!"}},{"$error":"#NUM!"},{"$error":"#NUM!"},true,false,{"$error":"#NUM!"}]
[null,null,null,null,null,null,null,null,null,null,null,null,null,null,null,null,null,null,null,null,null,null,null,null,null,null,null,null,null,null,null,null,null,null,null,null,null,null,null,null,null,null,null,null,null,null,null,null,null,null,null,null,false,true,0,1354,{"$f":"SMALL(IF($BB$30:$BB$32<>BC1403,\"\",ROW($BB$30:$BB$32)),BD1403)-29","v":{"$error":"#NUM!"}},{"$error":"#NUM!"},{"$error":"#NUM!"},0,1354,{"$f":"SMALL(IF($BJ$30:$BJ$32<>BH1403,\"\",ROW($BJ$30:$BJ$32)),BI1403)-29","v":{"$error":"#NUM!"}},{"$error":"#NUM!"},{"$error":"#NUM!"},true,false,{"$error":"#NUM!"}]
[null,null,null,null,null,null,null,null,null,null,null,null,null,null,null,null,null,null,null,null,null,null,null,null,null,null,null,null,null,null,null,null,null,null,null,null,null,null,null,null,null,null,null,null,null,null,null,null,null,null,null,null,false,true,0,1356,{"$f":"SMALL(IF($BB$30:$BB$32<>BC1405,\"\",ROW($BB$30:$BB$32)),BD1405)-29","v":{"$error":"#NUM!"}},{"$error":"#NUM!"},{"$error":"#NUM!"},0,1356,{"$f":"SMALL(IF($BJ$30:$BJ$32<>BH1405,\"\",ROW($BJ$30:$BJ$32)),BI1405)-29","v":{"$error":"#NUM!"}},{"$error":"#NUM!"},{"$error":"#NUM!"},true,false,{"$error":"#NUM!"}]
[null,null,null,null,null,null,null,null,null,null,null,null,null,null,null,null,null,null,null,null,null,null,null,null,null,null,null,null,null,null,null,null,null,null,null,null,null,null,null,null,null,null,null,null,null,null,null,null,null,null,null,null,false,true,0,1360,{"$f":"SMALL(IF($BB$30:$BB$32<>BC1409,\"\",ROW($BB$30:$BB$32)),BD1409)-29","v":{"$error":"#NUM!"}},{"$error":"#NUM!"},{"$error":"#NUM!"},0,1360,{"$f":"SMALL(IF($BJ$30:$BJ$32<>BH1409,\"\",ROW($BJ$30:$BJ$32)),BI1409)-29","v":{"$error":"#NUM!"}},{"$error":"#NUM!"},{"$error":"#NUM!"},true,false,{"$error":"#NUM!"}]
[null,null,null,null,null,null,null,null,null,null,null,null,null,null,null,null,null,null,null,null,null,null,null,null,null,null,null,null,null,null,null,null,null,null,null,null,null,null,null,null,null,null,null,null,null,null,null,null,null,null,null,null,false,true,0,1361,{"$f":"SMALL(IF($BB$30:$BB$32<>BC1410,\"\",ROW($BB$30:$BB$32)),BD1410)-29","v":{"$error":"#NUM!"}},{"$error":"#NUM!"},{"$error":"#NUM!"},0,1361,{"$f":"SMALL(IF($BJ$30:$BJ$32<>BH1410,\"\",ROW($BJ$30:$BJ$32)),BI1410)-29","v":{"$error":"#NUM!"}},{"$error":"#NUM!"},{"$error":"#NUM!"},true,false,{"$error":"#NUM!"}]
[null,null,null,null,null,null,null,null,null,null,null,null,null,null,null,null,null,null,null,null,null,null,null,null,null,null,null,null,null,null,null,null,null,null,null,null,null,null,null,null,null,null,null,null,null,null,null,null,null,null,null,null,false,true,0,1365,{"$f":"SMALL(IF($BB$30:$BB$32<>BC1414,\"\",ROW($BB$30:$BB$32)),BD1414)-29","v":{"$error":"#NUM!"}},{"$error":"#NUM!"},{"$error":"#NUM!"},0,1365,{"$f":"SMALL(IF($BJ$30:$BJ$32<>BH1414,\"\",ROW($BJ$30:$BJ$32)),BI1414)-29","v":{"$error":"#NUM!"}},{"$error":"#NUM!"},{"$error":"#NUM!"},true,false,{"$error":"#NUM!"}]
[null,null,null,null,null,null,null,null,null,null,null,null,null,null,null,null,null,null,null,null,null,null,null,null,null,null,null,null,null,null,null,null,null,null,null,null,null,null,null,null,null,null,null,null,null,null,null,null,null,null,null,null,false,true,0,1366,{"$f":"SMALL(IF($BB$30:$BB$32<>BC1415,\"\",ROW($BB$30:$BB$32)),BD1415)-29","v":{"$error":"#NUM!"}},{"$error":"#NUM!"},{"$error":"#NUM!"},0,1366,{"$f":"SMALL(IF($BJ$30:$BJ$32<>BH1415,\"\",ROW($BJ$30:$BJ$32)),BI1415)-29","v":{"$error":"#NUM!"}},{"$error":"#NUM!"},{"$error":"#NUM!"},true,false,{"$error":"#NUM!"}]
[null,null,null,null,null,null,null,null,null,null,null,null,null,null,null,null,null,null,null,null,null,null,null,null,null,null,null,null,null,null,null,null,null,null,null,null,null,null,null,null,null,null,null,null,null,null,null,null,null,null,null,null,false,true,0,1370,{"$f":"SMALL(IF($BB$30:$BB$32<>BC1419,\"\",ROW($BB$30:$BB$32)),BD1419)-29","v":{"$error":"#NUM!"}},{"$error":"#NUM!"},{"$error":"#NUM!"},0,1370,{"$f":"SMALL(IF($BJ$30:$BJ$32<>BH1419,\"\",ROW($BJ$30:$BJ$32)),BI1419)-29","v":{"$error":"#NUM!"}},{"$error":"#NUM!"},{"$error":"#NUM!"},true,false,{"$error":"#NUM!"}]
[null,null,null,null,null,null,null,null,null,null,null,null,null,null,null,null,null,null,null,null,null,null,null,null,null,null,null,null,null,null,null,null,null,null,null,null,null,null,null,null,null,null,null,null,null,null,null,null,null,null,null,null,false,true,0,1372,{"$f":"SMALL(IF($BB$30:$BB$32<>BC1421,\"\",ROW($BB$30:$BB$32)),BD1421)-29","v":{"$error":"#NUM!"}},{"$error":"#NUM!"},{"$error":"#NUM!"},0,1372,{"$f":"SMALL(IF($BJ$30:$BJ$32<>BH1421,\"\",ROW($BJ$30:$BJ$32)),BI1421)-29","v":{"$error":"#NUM!"}},{"$error":"#NUM!"},{"$error":"#NUM!"},true,false,{"$error":"#NUM!"}]
[null,null,null,null,null,null,null,null,null,null,null,null,null,null,null,null,null,null,null,null,null,null,null,null,null,null,null,null,null,null,null,null,null,null,null,null,null,null,null,null,null,null,null,null,null,null,null,null,null,null,null,null,false,true,0,1375,{"$f":"SMALL(IF($BB$30:$BB$32<>BC1424,\"\",ROW($BB$30:$BB$32)),BD1424)-29","v":{"$error":"#NUM!"}},{"$error":"#NUM!"},{"$error":"#NUM!"},0,1375,{"$f":"SMALL(IF($BJ$30:$BJ$32<>BH1424,\"\",ROW($BJ$30:$BJ$32)),BI1424)-29","v":{"$error":"#NUM!"}},{"$error":"#NUM!"},{"$error":"#NUM!"},true,false,{"$error":"#NUM!"}]
[null,null,null,null,null,null,null,null,null,null,null,null,null,null,null,null,null,null,null,null,null,null,null,null,null,null,null,null,null,null,null,null,null,null,null,null,null,null,null,null,null,null,null,null,null,null,null,null,null,null,null,null,false,true,0,1379,{"$f":"SMALL(IF($BB$30:$BB$32<>BC1428,\"\",ROW($BB$30:$BB$32)),BD1428)-29","v":{"$error":"#NUM!"}},{"$error":"#NUM!"},{"$error":"#NUM!"},0,1379,{"$f":"SMALL(IF($BJ$30:$BJ$32<>BH1428,\"\",ROW($BJ$30:$BJ$32)),BI1428)-29","v":{"$error":"#NUM!"}},{"$error":"#NUM!"},{"$error":"#NUM!"},true,false,{"$error":"#NUM!"}]
[null,null,null,null,null,null,null,null,null,null,null,null,null,null,null,null,null,null,null,null,null,null,null,null,null,null,null,null,null,null,null,null,null,null,null,null,null,null,null,null,null,null,null,null,null,null,null,null,null,null,null,null,false,true,0,1381,{"$f":"SMALL(IF($BB$30:$BB$32<>BC1430,\"\",ROW($BB$30:$BB$32)),BD1430)-29","v":{"$error":"#NUM!"}},{"$error":"#NUM!"},{"$error":"#NUM!"},0,1381,{"$f":"SMALL(IF($BJ$30:$BJ$32<>BH1430,\"\",ROW($BJ$30:$BJ$32)),BI1430)-29","v":{"$error":"#NUM!"}},{"$error":"#NUM!"},{"$error":"#NUM!"},true,false,{"$error":"#NUM!"}]
[null,null,null,null,null,null,null,null,null,null,null,null,null,null,null,null,null,null,null,null,null,null,null,null,null,null,null,null,null,null,null,null,null,null,null,null,null,null,null,null,null,null,null,null,null,null,null,null,null,null,null,null,false,true,0,1382,{"$f":"SMALL(IF($BB$30:$BB$32<>BC1431,\"\",ROW($BB$30:$BB$32)),BD1431)-29","v":{"$error":"#NUM!"}},{"$error":"#NUM!"},{"$error":"#NUM!"},0,1382,{"$f":"SMALL(IF($BJ$30:$BJ$32<>BH1431,\"\",ROW($BJ$30:$BJ$32)),BI1431)-29","v":{"$error":"#NUM!"}},{"$error":"#NUM!"},{"$error":"#NUM!"},true,false,{"$error":"#NUM!"}]
[null,null,null,null,null,null,null,null,null,null,null,null,null,null,null,null,null,null,null,null,null,null,null,null,null,null,null,null,null,null,null,null,null,null,null,null,null,null,null,null,null,null,null,null,null,null,null,null,null,null,null,null,false,true,0,1385,{"$f":"SMALL(IF($BB$30:$BB$32<>BC1434,\"\",ROW($BB$30:$BB$32)),BD1434)-29","v":{"$error":"#NUM!"}},{"$error":"#NUM!"},{"$error":"#NUM!"},0,1385,{"$f":"SMALL(IF($BJ$30:$BJ$32<>BH1434,\"\",ROW($BJ$30:$BJ$32)),BI1434)-29","v":{"$error":"#NUM!"}},{"$error":"#NUM!"},{"$error":"#NUM!"},true,false,{"$error":"#NUM!"}]
[null,null,null,null,null,null,null,null,null,null,null,null,null,null,null,null,null,null,null,null,null,null,null,null,null,null,null,null,null,null,null,null,null,null,null,null,null,null,null,null,null,null,null,null,null,null,null,null,null,null,null,null,false,true,0,1388,{"$f":"SMALL(IF($BB$30:$BB$32<>BC1437,\"\",ROW($BB$30:$BB$32)),BD1437)-29","v":{"$error":"#NUM!"}},{"$error":"#NUM!"},{"$error":"#NUM!"},0,1388,{"$f":"SMALL(IF($BJ$30:$BJ$32<>BH1437,\"\",ROW($BJ$30:$BJ$32)),BI1437)-29","v":{"$error":"#NUM!"}},{"$error":"#NUM!"},{"$error":"#NUM!"},true,false,{"$error":"#NUM!"}]
[null,null,null,null,null,null,null,null,null,null,null,null,null,null,null,null,null,null,null,null,null,null,null,null,null,null,null,null,null,null,null,null,null,null,null,null,null,null,null,null,null,null,null,null,null,null,null,null,null,null,null,null,false,true,0,1391,{"$f":"SMALL(IF($BB$30:$BB$32<>BC1440,\"\",ROW($BB$30:$BB$32)),BD1440)-29","v":{"$error":"#NUM!"}},{"$error":"#NUM!"},{"$error":"#NUM!"},0,1391,{"$f":"SMALL(IF($BJ$30:$BJ$32<>BH1440,\"\",ROW($BJ$30:$BJ$32)),BI1440)-29","v":{"$error":"#NUM!"}},{"$error":"#NUM!"},{"$error":"#NUM!"},true,false,{"$error":"#NUM!"}]
[null,null,null,null,null,null,null,null,null,null,null,null,null,null,null,null,null,null,null,null,null,null,null,null,null,null,null,null,null,null,null,null,null,null,null,null,null,null,null,null,null,null,null,null,null,null,null,null,null,null,null,null,false,true,0,1394,{"$f":"SMALL(IF($BB$30:$BB$32<>BC1443,\"\",ROW($BB$30:$BB$32)),BD1443)-29","v":{"$error":"#NUM!"}},{"$error":"#NUM!"},{"$error":"#NUM!"},0,1394,{"$f":"SMALL(IF($BJ$30:$BJ$32<>BH1443,\"\",ROW($BJ$30:$BJ$32)),BI1443)-29","v":{"$error":"#NUM!"}},{"$error":"#NUM!"},{"$error":"#NUM!"},true,false,{"$error":"#NUM!"}]
[null,null,null,null,null,null,null,null,null,null,null,null,null,null,null,null,null,null,null,null,null,null,null,null,null,null,null,null,null,null,null,null,null,null,null,null,null,null,null,null,null,null,null,null,null,null,null,null,null,null,null,null,false,true,0,1397,{"$f":"SMALL(IF($BB$30:$BB$32<>BC1446,\"\",ROW($BB$30:$BB$32)),BD1446)-29","v":{"$error":"#NUM!"}},{"$error":"#NUM!"},{"$error":"#NUM!"},0,1397,{"$f":"SMALL(IF($BJ$30:$BJ$32<>BH1446,\"\",ROW($BJ$30:$BJ$32)),BI1446)-29","v":{"$error":"#NUM!"}},{"$error":"#NUM!"},{"$error":"#NUM!"},true,false,{"$error":"#NUM!"}]
[null,null,null,null,null,null,null,null,null,null,null,null,null,null,null,null,null,null,null,null,null,null,null,null,null,null,null,null,null,null,null,null,null,null,null,null,null,null,null,null,null,null,null,null,null,null,null,null,null,null,null,null,false,true,0,1400,{"$f":"SMALL(IF($BB$30:$BB$32<>BC1449,\"\",ROW($BB$30:$BB$32)),BD1449)-29","v":{"$error":"#NUM!"}},{"$error":"#NUM!"},{"$error":"#NUM!"},0,1400,{"$f":"SMALL(IF($BJ$30:$BJ$32<>BH1449,\"\",ROW($BJ$30:$BJ$32)),BI1449)-29","v":{"$error":"#NUM!"}},{"$error":"#NUM!"},{"$error":"#NUM!"},true,false,{"$error":"#NUM!"}]
[null,null,null,null,null,null,null,null,null,null,null,null,null,null,null,null,null,null,null,null,null,null,null,null,null,null,null,null,null,null,null,null,null,null,null,null,null,null,null,null,null,null,null,null,null,null,null,null,null,null,null,null,false,true,0,1403,{"$f":"SMALL(IF($BB$30:$BB$32<>BC1452,\"\",ROW($BB$30:$BB$32)),BD1452)-29","v":{"$error":"#NUM!"}},{"$error":"#NUM!"},{"$error":"#NUM!"},0,1403,{"$f":"SMALL(IF($BJ$30:$BJ$32<>BH1452,\"\",ROW($BJ$30:$BJ$32)),BI1452)-29","v":{"$error":"#NUM!"}},{"$error":"#NUM!"},{"$error":"#NUM!"},true,false,{"$error":"#NUM!"}]
[null,null,null,null,null,null,null,null,null,null,null,null,null,null,null,null,null,null,null,null,null,null,null,null,null,null,null,null,null,null,null,null,null,null,null,null,null,null,null,null,null,null,null,null,null,null,null,null,null,null,null,null,false,true,0,1404,{"$f":"SMALL(IF($BB$30:$BB$32<>BC1453,\"\",ROW($BB$30:$BB$32)),BD1453)-29","v":{"$error":"#NUM!"}},{"$error":"#NUM!"},{"$error":"#NUM!"},0,1404,{"$f":"SMALL(IF($BJ$30:$BJ$32<>BH1453,\"\",ROW($BJ$30:$BJ$32)),BI1453)-29","v":{"$error":"#NUM!"}},{"$error":"#NUM!"},{"$error":"#NUM!"},true,false,{"$error":"#NUM!"}]
[null,null,null,null,null,null,null,null,null,null,null,null,null,null,null,null,null,null,null,null,null,null,null,null,null,null,null,null,null,null,null,null,null,null,null,null,null,null,null,null,null,null,null,null,null,null,null,null,null,null,null,null,false,true,0,1406,{"$f":"SMALL(IF($BB$30:$BB$32<>BC1455,\"\",ROW($BB$30:$BB$32)),BD1455)-29","v":{"$error":"#NUM!"}},{"$error":"#NUM!"},{"$error":"#NUM!"},0,1406,{"$f":"SMALL(IF($BJ$30:$BJ$32<>BH1455,\"\",ROW($BJ$30:$BJ$32)),BI1455)-29","v":{"$error":"#NUM!"}},{"$error":"#NUM!"},{"$error":"#NUM!"},true,false,{"$error":"#NUM!"}]
[null,null,null,null,null,null,null,null,null,null,null,null,null,null,null,null,null,null,null,null,null,null,null,null,null,null,null,null,null,null,null,null,null,null,null,null,null,null,null,null,null,null,null,null,null,null,null,null,null,null,null,null,false,true,{"$f":"MIN($BB$29:$BB$32)","v":0},1409,{"$f":"SMALL(IF($BB$30:$BB$32<>BC1458,\"\",ROW($BB$30:$BB$32)),BD1458)-29","v":{"$error":"#NUM!"}},{"$f":"INDEX($BD$30:$BD$32,BE1458)","v":{"$error":"#NUM!"}},{"$f":"INDEX($BG$30:$BG$32,BE1458)","v":{"$error":"#NUM!"}},{"$f":"MAX($BJ$29:$BJ$32)","v":0},1409,{"$f":"SMALL(IF($BJ$30:$BJ$32<>BH1458,\"\",ROW($BJ$30:$BJ$32)),BI1458)-29","v":{"$error":"#NUM!"}},{"$f":"INDEX($BL$30:$BL$32,BJ1458)","v":{"$error":"#NUM!"}},{"$f":"INDEX($BO$30:$BO$32,BJ1458)","v":{"$error":"#NUM!"}},true,false,{"$error":"#NUM!"}]
[null,null,null,null,null,null,null,null,null,null,null,null,null,null,null,null,null,null,null,null,null,null,null,null,null,null,null,null,null,null,null,null,null,null,null,null,null,null,null,null,null,null,null,null,null,null,null,null,null,null,null,null,false,true,0,1413,{"$f":"SMALL(IF($BB$30:$BB$32<>BC1462,\"\",ROW($BB$30:$BB$32)),BD1462)-29","v":{"$error":"#NUM!"}},{"$error":"#NUM!"},{"$error":"#NUM!"},0,1413,{"$f":"SMALL(IF($BJ$30:$BJ$32<>BH1462,\"\",ROW($BJ$30:$BJ$32)),BI1462)-29","v":{"$error":"#NUM!"}},{"$error":"#NUM!"},{"$error":"#NUM!"},true,false,{"$error":"#NUM!"}]
[null,null,null,null,null,null,null,null,null,null,null,null,null,null,null,null,null,null,null,null,null,null,null,null,null,null,null,null,null,null,null,null,null,null,null,null,null,null,null,null,null,null,null,null,null,null,null,null,null,null,null,null,false,true,0,1415,{"$f":"SMALL(IF($BB$30:$BB$32<>BC1464,\"\",ROW($BB$30:$BB$32)),BD1464)-29","v":{"$error":"#NUM!"}},{"$error":"#NUM!"},{"$error":"#NUM!"},0,1415,{"$f":"SMALL(IF($BJ$30:$BJ$32<>BH1464,\"\",ROW($BJ$30:$BJ$32)),BI1464)-29","v":{"$error":"#NUM!"}},{"$error":"#NUM!"},{"$error":"#NUM!"},true,false,{"$error":"#NUM!"}]
[null,null,null,null,null,null,null,null,null,null,null,null,null,null,null,null,null,null,null,null,null,null,null,null,null,null,null,null,null,null,null,null,null,null,null,null,null,null,null,null,null,null,null,null,null,null,null,null,null,null,null,null,false,true,0,1418,{"$f":"SMALL(IF($BB$30:$BB$32<>BC1467,\"\",ROW($BB$30:$BB$32)),BD1467)-29","v":{"$error":"#NUM!"}},{"$error":"#NUM!"},{"$error":"#NUM!"},0,1418,{"$f":"SMALL(IF($BJ$30:$BJ$32<>BH1467,\"\",ROW($BJ$30:$BJ$32)),BI1467)-29","v":{"$error":"#NUM!"}},{"$error":"#NUM!"},{"$error":"#NUM!"},true,false,{"$error":"#NUM!"}]
[null,null,null,null,null,null,null,null,null,null,null,null,null,null,null,null,null,null,null,null,null,null,null,null,null,null,null,null,null,null,null,null,null,null,null,null,null,null,null,null,null,null,null,null,null,null,null,null,null,null,null,null,false,true,0,1421,{"$f":"SMALL(IF($BB$30:$BB$32<>BC1470,\"\",ROW($BB$30:$BB$32)),BD1470)-29","v":{"$error":"#NUM!"}},{"$error":"#NUM!"},{"$error":"#NUM!"},0,1421,{"$f":"SMALL(IF($BJ$30:$BJ$32<>BH1470,\"\",ROW($BJ$30:$BJ$32)),BI1470)-29","v":{"$error":"#NUM!"}},{"$error":"#NUM!"},{"$error":"#NUM!"},true,false,{"$error":"#NUM!"}]
[null,null,null,null,null,null,null,null,null,null,null,null,null,null,null,null,null,null,null,null,null,null,null,null,null,null,null,null,null,null,null,null,null,null,null,null,null,null,null,null,null,null,null,null,null,null,null,null,null,null,null,null,false,true,0,1424,{"$f":"SMALL(IF($BB$30:$BB$32<>BC1473,\"\",ROW($BB$30:$BB$32)),BD1473)-29","v":{"$error":"#NUM!"}},{"$error":"#NUM!"},{"$error":"#NUM!"},0,1424,{"$f":"SMALL(IF($BJ$30:$BJ$32<>BH1473,\"\",ROW($BJ$30:$BJ$32)),BI1473)-29","v":{"$error":"#NUM!"}},{"$error":"#NUM!"},{"$error":"#NUM!"},true,false,{"$error":"#NUM!"}]
[null,null,null,null,null,null,null,null,null,null,null,null,null,null,null,null,null,null,null,null,null,null,null,null,null,null,null,null,null,null,null,null,null,null,null,null,null,null,null,null,null,null,null,null,null,null,null,null,null,null,null,null,false,true,0,1425,{"$f":"SMALL(IF($BB$30:$BB$32<>BC1474,\"\",ROW($BB$30:$BB$32)),BD1474)-29","v":{"$error":"#NUM!"}},{"$error":"#NUM!"},{"$error":"#NUM!"},0,1425,{"$f":"SMALL(IF($BJ$30:$BJ$32<>BH1474,\"\",ROW($BJ$30:$BJ$32)),BI1474)-29","v":{"$error":"#NUM!"}},{"$error":"#NUM!"},{"$error":"#NUM!"},true,false,{"$error":"#NUM!"}]
[null,null,null,null,null,null,null,null,null,null,null,null,null,null,null,null,null,null,null,null,null,null,null,null,null,null,null,null,null,null,null,null,null,null,null,null,null,null,null,null,null,null,null,null,null,null,null,null,null,null,null,null,false,true,0,1427,{"$f":"SMALL(IF($BB$30:$BB$32<>BC1476,\"\",ROW($BB$30:$BB$32)),BD1476)-29","v":{"$error":"#NUM!"}},{"$error":"#NUM!"},{"$error":"#NUM!"},0,1427,{"$f":"SMALL(IF($BJ$30:$BJ$32<>BH1476,\"\",ROW($BJ$30:$BJ$32)),BI1476)-29","v":{"$error":"#NUM!"}},{"$error":"#NUM!"},{"$error":"#NUM!"},true,false,{"$error":"#NUM!"}]
[null,null,null,null,null,null,null,null,null,null,null,null,null,null,null,null,null,null,null,null,null,null,null,null,null,null,null,null,null,null,null,null,null,null,null,null,null,null,null,null,null,null,null,null,null,null,null,null,null,null,null,null,false,true,0,1430,{"$f":"SMALL(IF($BB$30:$BB$32<>BC1479,\"\",ROW($BB$30:$BB$32)),BD1479)-29","v":{"$error":"#NUM!"}},{"$error":"#NUM!"},{"$error":"#NUM!"},0,1430,{"$f":"SMALL(IF($BJ$30:$BJ$32<>BH1479,\"\",ROW($BJ$30:$BJ$32)),BI1479)-29","v":{"$error":"#NUM!"}},{"$error":"#NUM!"},{"$error":"#NUM!"},true,false,{"$error":"#NUM!"}]
[null,null,null,null,null,null,null,null,null,null,null,null,null,null,null,null,null,null,null,null,null,null,null,null,null,null,null,null,null,null,null,null,null,null,null,null,null,null,null,null,null,null,null,null,null,null,null,null,null,null,null,null,false,true,0,1434,{"$f":"SMALL(IF($BB$30:$BB$32<>BC1483,\"\",ROW($BB$30:$BB$32)),BD1483)-29","v":{"$error":"#NUM!"}},{"$error":"#NUM!"},{"$error":"#NUM!"},0,1434,{"$f":"SMALL(IF($BJ$30:$BJ$32<>BH1483,\"\",ROW($BJ$30:$BJ$32)),BI1483)-29","v":{"$error":"#NUM!"}},{"$error":"#NUM!"},{"$error":"#NUM!"},true,false,{"$error":"#NUM!"}]
[null,null,null,null,null,null,null,null,null,null,null,null,null,null,null,null,null,null,null,null,null,null,null,null,null,null,null,null,null,null,null,null,null,null,null,null,null,null,null,null,null,null,null,null,null,null,null,null,null,null,null,null,false,true,0,1436,{"$f":"SMALL(IF($BB$30:$BB$32<>BC1485,\"\",ROW($BB$30:$BB$32)),BD1485)-29","v":{"$error":"#NUM!"}},{"$error":"#NUM!"},{"$error":"#NUM!"},0,1436,{"$f":"SMALL(IF($BJ$30:$BJ$32<>BH1485,\"\",ROW($BJ$30:$BJ$32)),BI1485)-29","v":{"$error":"#NUM!"}},{"$error":"#NUM!"},{"$error":"#NUM!"},true,false,{"$error":"#NUM!"}]
[null,null,null,null,null,null,null,null,null,null,null,null,null,null,null,null,null,null,null,null,null,null,null,null,null,null,null,null,null,null,null,null,null,null,null,null,null,null,null,null,null,null,null,null,null,null,null,null,null,null,null,null,false,true,0,1440,{"$f":"SMALL(IF($BB$30:$BB$32<>BC1489,\"\",ROW($BB$30:$BB$32)),BD1489)-29","v":{"$error":"#NUM!"}},{"$error":"#NUM!"},{"$error":"#NUM!"},0,1440,{"$f":"SMALL(IF($BJ$30:$BJ$32<>BH1489,\"\",ROW($BJ$30:$BJ$32)),BI1489)-29","v":{"$error":"#NUM!"}},{"$error":"#NUM!"},{"$error":"#NUM!"},true,false,{"$error":"#NUM!"}]
[null,null,null,null,null,null,null,null,null,null,null,null,null,null,null,null,null,null,null,null,null,null,null,null,null,null,null,null,null,null,null,null,null,null,null,null,null,null,null,null,null,null,null,null,null,null,null,null,null,null,null,null,false,true,0,1441,{"$f":"SMALL(IF($BB$30:$BB$32<>BC1490,\"\",ROW($BB$30:$BB$32)),BD1490)-29","v":{"$error":"#NUM!"}},{"$error":"#NUM!"},{"$error":"#NUM!"},0,1441,{"$f":"SMALL(IF($BJ$30:$BJ$32<>BH1490,\"\",ROW($BJ$30:$BJ$32)),BI1490)-29","v":{"$error":"#NUM!"}},{"$error":"#NUM!"},{"$error":"#NUM!"},true,false,{"$error":"#NUM!"}]
[null,null,null,null,null,null,null,null,null,null,null,null,null,null,null,null,null,null,null,null,null,null,null,null,null,null,null,null,null,null,null,null,null,null,null,null,null,null,null,null,null,null,null,null,null,null,null,null,null,null,null,null,false,true,0,1445,{"$f":"SMALL(IF($BB$30:$BB$32<>BC1494,\"\",ROW($BB$30:$BB$32)),BD1494)-29","v":{"$error":"#NUM!"}},{"$error":"#NUM!"},{"$error":"#NUM!"},0,1445,{"$f":"SMALL(IF($BJ$30:$BJ$32<>BH1494,\"\",ROW($BJ$30:$BJ$32)),BI1494)-29","v":{"$error":"#NUM!"}},{"$error":"#NUM!"},{"$error":"#NUM!"},true,false,{"$error":"#NUM!"}]
[null,null,null,null,null,null,null,null,null,null,null,null,null,null,null,null,null,null,null,null,null,null,null,null,null,null,null,null,null,null,null,null,null,null,null,null,null,null,null,null,null,null,null,null,null,null,null,null,null,null,null,null,false,true,0,1446,{"$f":"SMALL(IF($BB$30:$BB$32<>BC1495,\"\",ROW($BB$30:$BB$32)),BD1495)-29","v":{"$error":"#NUM!"}},{"$error":"#NUM!"},{"$error":"#NUM!"},0,1446,{"$f":"SMALL(IF($BJ$30:$BJ$32<>BH1495,\"\",ROW($BJ$30:$BJ$32)),BI1495)-29","v":{"$error":"#NUM!"}},{"$error":"#NUM!"},{"$error":"#NUM!"},true,false,{"$error":"#NUM!"}]
[null,null,null,null,null,null,null,null,null,null,null,null,null,null,null,null,null,null,null,null,null,null,null,null,null,null,null,null,null,null,null,null,null,null,null,null,null,null,null,null,null,null,null,null,null,null,null,null,null,null,null,null,false,true,0,1450,{"$f":"SMALL(IF($BB$30:$BB$32<>BC1499,\"\",ROW($BB$30:$BB$32)),BD1499)-29","v":{"$error":"#NUM!"}},{"$error":"#NUM!"},{"$error":"#NUM!"},0,1450,{"$f":"SMALL(IF($BJ$30:$BJ$32<>BH1499,\"\",ROW($BJ$30:$BJ$32)),BI1499)-29","v":{"$error":"#NUM!"}},{"$error":"#NUM!"},{"$error":"#NUM!"},true,false,{"$error":"#NUM!"}]
[null,null,null,null,null,null,null,null,null,null,null,null,null,null,null,null,null,null,null,null,null,null,null,null,null,null,null,null,null,null,null,null,null,null,null,null,null,null,null,null,null,null,null,null,null,null,null,null,null,null,null,null,false,true,0,1452,{"$f":"SMALL(IF($BB$30:$BB$32<>BC1501,\"\",ROW($BB$30:$BB$32)),BD1501)-29","v":{"$error":"#NUM!"}},{"$error":"#NUM!"},{"$error":"#NUM!"},0,1452,{"$f":"SMALL(IF($BJ$30:$BJ$32<>BH1501,\"\",ROW($BJ$30:$BJ$32)),BI1501)-29","v":{"$error":"#NUM!"}},{"$error":"#NUM!"},{"$error":"#NUM!"},true,false,{"$error":"#NUM!"}]
[null,null,null,null,null,null,null,null,null,null,null,null,null,null,null,null,null,null,null,null,null,null,null,null,null,null,null,null,null,null,null,null,null,null,null,null,null,null,null,null,null,null,null,null,null,null,null,null,null,null,null,null,false,true,0,1455,{"$f":"SMALL(IF($BB$30:$BB$32<>BC1504,\"\",ROW($BB$30:$BB$32)),BD1504)-29","v":{"$error":"#NUM!"}},{"$error":"#NUM!"},{"$error":"#NUM!"},0,1455,{"$f":"SMALL(IF($BJ$30:$BJ$32<>BH1504,\"\",ROW($BJ$30:$BJ$32)),BI1504)-29","v":{"$error":"#NUM!"}},{"$error":"#NUM!"},{"$error":"#NUM!"},true,false,{"$error":"#NUM!"}]
[null,null,null,null,null,null,null,null,null,null,null,null,null,null,null,null,null,null,null,null,null,null,null,null,null,null,null,null,null,null,null,null,null,null,null,null,null,null,null,null,null,null,null,null,null,null,null,null,null,null,null,null,false,true,0,1457,{"$f":"SMALL(IF($BB$30:$BB$32<>BC1506,\"\",ROW($BB$30:$BB$32)),BD1506)-29","v":{"$error":"#NUM!"}},{"$error":"#NUM!"},{"$error":"#NUM!"},0,1457,{"$f":"SMALL(IF($BJ$30:$BJ$32<>BH1506,\"\",ROW($BJ$30:$BJ$32)),BI1506)-29","v":{"$error":"#NUM!"}},{"$error":"#NUM!"},{"$error":"#NUM!"},true,false,{"$error":"#NUM!"}]
[null,null,null,null,null,null,null,null,null,null,null,null,null,null,null,null,null,null,null,null,null,null,null,null,null,null,null,null,null,null,null,null,null,null,null,null,null,null,null,null,null,null,null,null,null,null,null,null,null,null,null,null,false,true,0,1461,{"$f":"SMALL(IF($BB$30:$BB$32<>BC1510,\"\",ROW($BB$30:$BB$32)),BD1510)-29","v":{"$error":"#NUM!"}},{"$error":"#NUM!"},{"$error":"#NUM!"},0,1461,{"$f":"SMALL(IF($BJ$30:$BJ$32<>BH1510,\"\",ROW($BJ$30:$BJ$32)),BI1510)-29","v":{"$error":"#NUM!"}},{"$error":"#NUM!"},{"$error":"#NUM!"},true,false,{"$error":"#NUM!"}]
[null,null,null,null,null,null,null,null,null,null,null,null,null,null,null,null,null,null,null,null,null,null,null,null,null,null,null,null,null,null,null,null,null,null,null,null,null,null,null,null,null,null,null,null,null,null,null,null,null,null,null,null,false,true,0,1464,{"$f":"SMALL(IF($BB$30:$BB$32<>BC1513,\"\",ROW($BB$30:$BB$32)),BD1513)-29","v":{"$error":"#NUM!"}},{"$error":"#NUM!"},{"$error":"#NUM!"},0,1464,{"$f":"SMALL(IF($BJ$30:$BJ$32<>BH1513,\"\",ROW($BJ$30:$BJ$32)),BI1513)-29","v":{"$error":"#NUM!"}},{"$error":"#NUM!"},{"$error":"#NUM!"},true,false,{"$error":"#NUM!"}]
[null,null,null,null,null,null,null,null,null,null,null,null,null,null,null,null,null,null,null,null,null,null,null,null,null,null,null,null,null,null,null,null,null,null,null,null,null,null,null,null,null,null,null,null,null,null,null,null,null,null,null,null,false,true,0,1466,{"$f":"SMALL(IF($BB$30:$BB$32<>BC1515,\"\",ROW($BB$30:$BB$32)),BD1515)-29","v":{"$error":"#NUM!"}},{"$error":"#NUM!"},{"$error":"#NUM!"},0,1466,{"$f":"SMALL(IF($BJ$30:$BJ$32<>BH1515,\"\",ROW($BJ$30:$BJ$32)),BI1515)-29","v":{"$error":"#NUM!"}},{"$error":"#NUM!"},{"$error":"#NUM!"},true,false,{"$error":"#NUM!"}]
[null,null,null,null,null,null,null,null,null,null,null,null,null,null,null,null,null,null,null,null,null,null,null,null,null,null,null,null,null,null,null,null,null,null,null,null,null,null,null,null,null,null,null,null,null,null,null,null,null,null,null,null,false,true,0,1467,{"$f":"SMALL(IF($BB$30:$BB$32<>BC1516,\"\",ROW($BB$30:$BB$32)),BD1516)-29","v":{"$error":"#NUM!"}},{"$error":"#NUM!"},{"$error":"#NUM!"},0,1467,{"$f":"SMALL(IF($BJ$30:$BJ$32<>BH1516,\"\",ROW($BJ$30:$BJ$32)),BI1516)-29","v":{"$error":"#NUM!"}},{"$error":"#NUM!"},{"$error":"#NUM!"},true,false,{"$error":"#NUM!"}]
[null,null,null,null,null,null,null,null,null,null,null,null,null,null,null,null,null,null,null,null,null,null,null,null,null,null,null,null,null,null,null,null,null,null,null,null,null,null,null,null,null,null,null,null,null,null,null,null,null,null,null,null,false,true,0,1470,{"$f":"SMALL(IF($BB$30:$BB$32<>BC1519,\"\",ROW($BB$30:$BB$32)),BD1519)-29","v":{"$error":"#NUM!"}},{"$error":"#NUM!"},{"$error":"#NUM!"},0,1470,{"$f":"SMALL(IF($BJ$30:$BJ$32<>BH1519,\"\",ROW($BJ$30:$BJ$32)),BI1519)-29","v":{"$error":"#NUM!"}},{"$error":"#NUM!"},{"$error":"#NUM!"},true,false,{"$error":"#NUM!"}]
[null,null,null,null,null,null,null,null,null,null,null,null,null,null,null,null,null,null,null,null,null,null,null,null,null,null,null,null,null,null,null,null,null,null,null,null,null,null,null,null,null,null,null,null,null,null,null,null,null,null,null,null,false,true,{"$f":"MIN($BB$29:$BB$32)","v":0},1473,{"$f":"SMALL(IF($BB$30:$BB$32<>BC1522,\"\",ROW($BB$30:$BB$32)),BD1522)-29","v":{"$error":"#NUM!"}},{"$f":"INDEX($BD$30:$BD$32,BE1522)","v":{"$error":"#NUM!"}},{"$f":"INDEX($BG$30:$BG$32,BE1522)","v":{"$error":"#NUM!"}},{"$f":"MAX($BJ$29:$BJ$32)","v":0},1473,{"$f":"SMALL(IF($BJ$30:$BJ$32<>BH1522,\"\",ROW($BJ$30:$BJ$32)),BI1522)-29","v":{"$error":"#NUM!"}},{"$f":"INDEX($BL$30:$BL$32,BJ1522)","v":{"$error":"#NUM!"}},{"$f":"INDEX($BO$30:$BO$32,BJ1522)","v":{"$error":"#NUM!"}},true,false,{"$error":"#NUM!"}]
[null,null,null,null,null,null,null,null,null,null,null,null,null,null,null,null,null,null,null,null,null,null,null,null,null,null,null,null,null,null,null,null,null,null,null,null,null,null,null,null,null,null,null,null,null,null,null,null,null,null,null,null,false,true,0,1476,{"$f":"SMALL(IF($BB$30:$BB$32<>BC1525,\"\",ROW($BB$30:$BB$32)),BD1525)-29","v":{"$error":"#NUM!"}},{"$error":"#NUM!"},{"$error":"#NUM!"},0,1476,{"$f":"SMALL(IF($BJ$30:$BJ$32<>BH1525,\"\",ROW($BJ$30:$BJ$32)),BI1525)-29","v":{"$error":"#NUM!"}},{"$error":"#NUM!"},{"$error":"#NUM!"},true,false,{"$error":"#NUM!"}]
[null,null,null,null,null,null,null,null,null,null,null,null,null,null,null,null,null,null,null,null,null,null,null,null,null,null,null,null,null,null,null,null,null,null,null,null,null,null,null,null,null,null,null,null,null,null,null,null,null,null,null,null,false,true,0,1478,{"$f":"SMALL(IF($BB$30:$BB$32<>BC1527,\"\",ROW($BB$30:$BB$32)),BD1527)-29","v":{"$error":"#NUM!"}},{"$error":"#NUM!"},{"$error":"#NUM!"},0,1478,{"$f":"SMALL(IF($BJ$30:$BJ$32<>BH1527,\"\",ROW($BJ$30:$BJ$32)),BI1527)-29","v":{"$error":"#NUM!"}},{"$error":"#NUM!"},{"$error":"#NUM!"},true,false,{"$error":"#NUM!"}]
[null,null,null,null,null,null,null,null,null,null,null,null,null,null,null,null,null,null,null,null,null,null,null,null,null,null,null,null,null,null,null,null,null,null,null,null,null,null,null,null,null,null,null,null,null,null,null,null,null,null,null,null,false,true,0,1482,{"$f":"SMALL(IF($BB$30:$BB$32<>BC1531,\"\",ROW($BB$30:$BB$32)),BD1531)-29","v":{"$error":"#NUM!"}},{"$error":"#NUM!"},{"$error":"#NUM!"},0,1482,{"$f":"SMALL(IF($BJ$30:$BJ$32<>BH1531,\"\",ROW($BJ$30:$BJ$32)),BI1531)-29","v":{"$error":"#NUM!"}},{"$error":"#NUM!"},{"$error":"#NUM!"},true,false,{"$error":"#NUM!"}]
[null,null,null,null,null,null,null,null,null,null,null,null,null,null,null,null,null,null,null,null,null,null,null,null,null,null,null,null,null,null,null,null,null,null,null,null,null,null,null,null,null,null,null,null,null,null,null,null,null,null,null,null,false,true,0,1485,{"$f":"SMALL(IF($BB$30:$BB$32<>BC1534,\"\",ROW($BB$30:$BB$32)),BD1534)-29","v":{"$error":"#NUM!"}},{"$error":"#NUM!"},{"$error":"#NUM!"},0,1485,{"$f":"SMALL(IF($BJ$30:$BJ$32<>BH1534,\"\",ROW($BJ$30:$BJ$32)),BI1534)-29","v":{"$error":"#NUM!"}},{"$error":"#NUM!"},{"$error":"#NUM!"},true,false,{"$error":"#NUM!"}]
[null,null,null,null,null,null,null,null,null,null,null,null,null,null,null,null,null,null,null,null,null,null,null,null,null,null,null,null,null,null,null,null,null,null,null,null,null,null,null,null,null,null,null,null,null,null,null,null,null,null,null,null,false,true,0,1487,{"$f":"SMALL(IF($BB$30:$BB$32<>BC1536,\"\",ROW($BB$30:$BB$32)),BD1536)-29","v":{"$error":"#NUM!"}},{"$error":"#NUM!"},{"$error":"#NUM!"},0,1487,{"$f":"SMALL(IF($BJ$30:$BJ$32<>BH1536,\"\",ROW($BJ$30:$BJ$32)),BI1536)-29","v":{"$error":"#NUM!"}},{"$error":"#NUM!"},{"$error":"#NUM!"},true,false,{"$error":"#NUM!"}]
[null,null,null,null,null,null,null,null,null,null,null,null,null,null,null,null,null,null,null,null,null,null,null,null,null,null,null,null,null,null,null,null,null,null,null,null,null,null,null,null,null,null,null,null,null,null,null,null,null,null,null,null,false,true,0,1488,{"$f":"SMALL(IF($BB$30:$BB$32<>BC1537,\"\",ROW($BB$30:$BB$32)),BD1537)-29","v":{"$error":"#NUM!"}},{"$error":"#NUM!"},{"$error":"#NUM!"},0,1488,{"$f":"SMALL(IF($BJ$30:$BJ$32<>BH1537,\"\",ROW($BJ$30:$BJ$32)),BI1537)-29","v":{"$error":"#NUM!"}},{"$error":"#NUM!"},{"$error":"#NUM!"},true,false,{"$error":"#NUM!"}]
[null,null,null,null,null,null,null,null,null,null,null,null,null,null,null,null,null,null,null,null,null,null,null,null,null,null,null,null,null,null,null,null,null,null,null,null,null,null,null,null,null,null,null,null,null,null,null,null,null,null,null,null,false,true,0,1491,{"$f":"SMALL(IF($BB$30:$BB$32<>BC1540,\"\",ROW($BB$30:$BB$32)),BD1540)-29","v":{"$error":"#NUM!"}},{"$error":"#NUM!"},{"$error":"#NUM!"},0,1491,{"$f":"SMALL(IF($BJ$30:$BJ$32<>BH1540,\"\",ROW($BJ$30:$BJ$32)),BI1540)-29","v":{"$error":"#NUM!"}},{"$error":"#NUM!"},{"$error":"#NUM!"},true,false,{"$error":"#NUM!"}]
[null,null,null,null,null,null,null,null,null,null,null,null,null,null,null,null,null,null,null,null,null,null,null,null,null,null,null,null,null,null,null,null,null,null,null,null,null,null,null,null,null,null,null,null,null,null,null,null,null,null,null,null,false,true,0,1494,{"$f":"SMALL(IF($BB$30:$BB$32<>BC1543,\"\",ROW($BB$30:$BB$32)),BD1543)-29","v":{"$error":"#NUM!"}},{"$error":"#NUM!"},{"$error":"#NUM!"},0,1494,{"$f":"SMALL(IF($BJ$30:$BJ$32<>BH1543,\"\",ROW($BJ$30:$BJ$32)),BI1543)-29","v":{"$error":"#NUM!"}},{"$error":"#NUM!"},{"$error":"#NUM!"},true,false,{"$error":"#NUM!"}]
[null,null,null,null,null,null,null,null,null,null,null,null,null,null,null,null,null,null,null,null,null,null,null,null,null,null,null,null,null,null,null,null,null,null,null,null,null,null,null,null,null,null,null,null,null,null,null,null,null,null,null,null,false,true,0,1497,{"$f":"SMALL(IF($BB$30:$BB$32<>BC1546,\"\",ROW($BB$30:$BB$32)),BD1546)-29","v":{"$error":"#NUM!"}},{"$error":"#NUM!"},{"$error":"#NUM!"},0,1497,{"$f":"SMALL(IF($BJ$30:$BJ$32<>BH1546,\"\",ROW($BJ$30:$BJ$32)),BI1546)-29","v":{"$error":"#NUM!"}},{"$error":"#NUM!"},{"$error":"#NUM!"},true,false,{"$error":"#NUM!"}]
[null,null,null,null,null,null,null,null,null,null,null,null,null,null,null,null,null,null,null,null,null,null,null,null,null,null,null,null,null,null,null,null,null,null,null,null,null,null,null,null,null,null,null,null,null,null,null,null,null,null,null,null,false,true,0,1500,{"$f":"SMALL(IF($BB$30:$BB$32<>BC1549,\"\",ROW($BB$30:$BB$32)),BD1549)-29","v":{"$error":"#NUM!"}},{"$error":"#NUM!"},{"$error":"#NUM!"},0,1500,{"$f":"SMALL(IF($BJ$30:$BJ$32<>BH1549,\"\",ROW($BJ$30:$BJ$32)),BI1549)-29","v":{"$error":"#NUM!"}},{"$error":"#NUM!"},{"$error":"#NUM!"},true,false,{"$error":"#NUM!"}]
[null,null,null,null,null,null,null,null,null,null,null,null,null,null,null,null,null,null,null,null,null,null,null,null,null,null,null,null,null,null,null,null,null,null,null,null,null,null,null,null,null,null,null,null,null,null,null,null,null,null,null,null,false,true,0,1503,{"$f":"SMALL(IF($BB$30:$BB$32<>BC1552,\"\",ROW($BB$30:$BB$32)),BD1552)-29","v":{"$error":"#NUM!"}},{"$error":"#NUM!"},{"$error":"#NUM!"},0,1503,{"$f":"SMALL(IF($BJ$30:$BJ$32<>BH1552,\"\",ROW($BJ$30:$BJ$32)),BI1552)-29","v":{"$error":"#NUM!"}},{"$error":"#NUM!"},{"$error":"#NUM!"},true,false,{"$error":"#NUM!"}]
[null,null,null,null,null,null,null,null,null,null,null,null,null,null,null,null,null,null,null,null,null,null,null,null,null,null,null,null,null,null,null,null,null,null,null,null,null,null,null,null,null,null,null,null,null,null,null,null,null,null,null,null,false,true,0,1506,{"$f":"SMALL(IF($BB$30:$BB$32<>BC1555,\"\",ROW($BB$30:$BB$32)),BD1555)-29","v":{"$error":"#NUM!"}},{"$error":"#NUM!"},{"$error":"#NUM!"},0,1506,{"$f":"SMALL(IF($BJ$30:$BJ$32<>BH1555,\"\",ROW($BJ$30:$BJ$32)),BI1555)-29","v":{"$error":"#NUM!"}},{"$error":"#NUM!"},{"$error":"#NUM!"},true,false,{"$error":"#NUM!"}]
[null,null,null,null,null,null,null,null,null,null,null,null,null,null,null,null,null,null,null,null,null,null,null,null,null,null,null,null,null,null,null,null,null,null,null,null,null,null,null,null,null,null,null,null,null,null,null,null,null,null,null,null,false,true,0,1507,{"$f":"SMALL(IF($BB$30:$BB$32<>BC1556,\"\",ROW($BB$30:$BB$32)),BD1556)-29","v":{"$error":"#NUM!"}},{"$error":"#NUM!"},{"$error":"#NUM!"},0,1507,{"$f":"SMALL(IF($BJ$30:$BJ$32<>BH1556,\"\",ROW($BJ$30:$BJ$32)),BI1556)-29","v":{"$error":"#NUM!"}},{"$error":"#NUM!"},{"$error":"#NUM!"},true,false,{"$error":"#NUM!"}]
[null,null,null,null,null,null,null,null,null,null,null,null,null,null,null,null,null,null,null,null,null,null,null,null,null,null,null,null,null,null,null,null,null,null,null,null,null,null,null,null,null,null,null,null,null,null,null,null,null,null,null,null,false,true,0,1510,{"$f":"SMALL(IF($BB$30:$BB$32<>BC1559,\"\",ROW($BB$30:$BB$32)),BD1559)-29","v":{"$error":"#NUM!"}},{"$error":"#NUM!"},{"$error":"#NUM!"},0,1510,{"$f":"SMALL(IF($BJ$30:$BJ$32<>BH1559,\"\",ROW($BJ$30:$BJ$32)),BI1559)-29","v":{"$error":"#NUM!"}},{"$error":"#NUM!"},{"$error":"#NUM!"},true,false,{"$error":"#NUM!"}]
[null,null,null,null,null,null,null,null,null,null,null,null,null,null,null,null,null,null,null,null,null,null,null,null,null,null,null,null,null,null,null,null,null,null,null,null,null,null,null,null,null,null,null,null,null,null,null,null,null,null,null,null,false,true,0,1512,{"$f":"SMALL(IF($BB$30:$BB$32<>BC1561,\"\",ROW($BB$30:$BB$32)),BD1561)-29","v":{"$error":"#NUM!"}},{"$error":"#NUM!"},{"$error":"#NUM!"},0,1512,{"$f":"SMALL(IF($BJ$30:$BJ$32<>BH1561,\"\",ROW($BJ$30:$BJ$32)),BI1561)-29","v":{"$error":"#NUM!"}},{"$error":"#NUM!"},{"$error":"#NUM!"},true,false,{"$error":"#NUM!"}]
[null,null,null,null,null,null,null,null,null,null,null,null,null,null,null,null,null,null,null,null,null,null,null,null,null,null,null,null,null,null,null,null,null,null,null,null,null,null,null,null,null,null,null,null,null,null,null,null,null,null,null,null,false,true,0,1516,{"$f":"SMALL(IF($BB$30:$BB$32<>BC1565,\"\",ROW($BB$30:$BB$32)),BD1565)-29","v":{"$error":"#NUM!"}},{"$error":"#NUM!"},{"$error":"#NUM!"},0,1516,{"$f":"SMALL(IF($BJ$30:$BJ$32<>BH1565,\"\",ROW($BJ$30:$BJ$32)),BI1565)-29","v":{"$error":"#NUM!"}},{"$error":"#NUM!"},{"$error":"#NUM!"},true,false,{"$error":"#NUM!"}]
[null,null,null,null,null,null,null,null,null,null,null,null,null,null,null,null,null,null,null,null,null,null,null,null,null,null,null,null,null,null,null,null,null,null,null,null,null,null,null,null,null,null,null,null,null,null,null,null,null,null,null,null,false,true,0,1519,{"$f":"SMALL(IF($BB$30:$BB$32<>BC1568,\"\",ROW($BB$30:$BB$32)),BD1568)-29","v":{"$error":"#NUM!"}},{"$error":"#NUM!"},{"$error":"#NUM!"},0,1519,{"$f":"SMALL(IF($BJ$30:$BJ$32<>BH1568,\"\",ROW($BJ$30:$BJ$32)),BI1568)-29","v":{"$error":"#NUM!"}},{"$error":"#NUM!"},{"$error":"#NUM!"},true,false,{"$error":"#NUM!"}]
[null,null,null,null,null,null,null,null,null,null,null,null,null,null,null,null,null,null,null,null,null,null,null,null,null,null,null,null,null,null,null,null,null,null,null,null,null,null,null,null,null,null,null,null,null,null,null,null,null,null,null,null,false,true,0,1521,{"$f":"SMALL(IF($BB$30:$BB$32<>BC1570,\"\",ROW($BB$30:$BB$32)),BD1570)-29","v":{"$error":"#NUM!"}},{"$error":"#NUM!"},{"$error":"#NUM!"},0,1521,{"$f":"SMALL(IF($BJ$30:$BJ$32<>BH1570,\"\",ROW($BJ$30:$BJ$32)),BI1570)-29","v":{"$error":"#NUM!"}},{"$error":"#NUM!"},{"$error":"#NUM!"},true,false,{"$error":"#NUM!"}]
[null,null,null,null,null,null,null,null,null,null,null,null,null,null,null,null,null,null,null,null,null,null,null,null,null,null,null,null,null,null,null,null,null,null,null,null,null,null,null,null,null,null,null,null,null,null,null,null,null,null,null,null,false,true,0,1525,{"$f":"SMALL(IF($BB$30:$BB$32<>BC1574,\"\",ROW($BB$30:$BB$32)),BD1574)-29","v":{"$error":"#NUM!"}},{"$error":"#NUM!"},{"$error":"#NUM!"},0,1525,{"$f":"SMALL(IF($BJ$30:$BJ$32<>BH1574,\"\",ROW($BJ$30:$BJ$32)),BI1574)-29","v":{"$error":"#NUM!"}},{"$error":"#NUM!"},{"$error":"#NUM!"},true,false,{"$error":"#NUM!"}]
[null,null,null,null,null,null,null,null,null,null,null,null,null,null,null,null,null,null,null,null,null,null,null,null,null,null,null,null,null,null,null,null,null,null,null,null,null,null,null,null,null,null,null,null,null,null,null,null,null,null,null,null,false,true,0,1526,{"$f":"SMALL(IF($BB$30:$BB$32<>BC1575,\"\",ROW($BB$30:$BB$32)),BD1575)-29","v":{"$error":"#NUM!"}},{"$error":"#NUM!"},{"$error":"#NUM!"},0,1526,{"$f":"SMALL(IF($BJ$30:$BJ$32<>BH1575,\"\",ROW($BJ$30:$BJ$32)),BI1575)-29","v":{"$error":"#NUM!"}},{"$error":"#NUM!"},{"$error":"#NUM!"},true,false,{"$error":"#NUM!"}]
[null,null,null,null,null,null,null,null,null,null,null,null,null,null,null,null,null,null,null,null,null,null,null,null,null,null,null,null,null,null,null,null,null,null,null,null,null,null,null,null,null,null,null,null,null,null,null,null,null,null,null,null,false,true,0,1528,{"$f":"SMALL(IF($BB$30:$BB$32<>BC1577,\"\",ROW($BB$30:$BB$32)),BD1577)-29","v":{"$error":"#NUM!"}},{"$error":"#NUM!"},{"$error":"#NUM!"},0,1528,{"$f":"SMALL(IF($BJ$30:$BJ$32<>BH1577,\"\",ROW($BJ$30:$BJ$32)),BI1577)-29","v":{"$error":"#NUM!"}},{"$error":"#NUM!"},{"$error":"#NUM!"},true,false,{"$error":"#NUM!"}]
[null,null,null,null,null,null,null,null,null,null,null,null,null,null,null,null,null,null,null,null,null,null,null,null,null,null,null,null,null,null,null,null,null,null,null,null,null,null,null,null,null,null,null,null,null,null,null,null,null,null,null,null,false,true,0,1531,{"$f":"SMALL(IF($BB$30:$BB$32<>BC1580,\"\",ROW($BB$30:$BB$32)),BD1580)-29","v":{"$error":"#NUM!"}},{"$error":"#NUM!"},{"$error":"#NUM!"},0,1531,{"$f":"SMALL(IF($BJ$30:$BJ$32<>BH1580,\"\",ROW($BJ$30:$BJ$32)),BI1580)-29","v":{"$error":"#NUM!"}},{"$error":"#NUM!"},{"$error":"#NUM!"},true,false,{"$error":"#NUM!"}]
[null,null,null,null,null,null,null,null,null,null,null,null,null,null,null,null,null,null,null,null,null,null,null,null,null,null,null,null,null,null,null,null,null,null,null,null,null,null,null,null,null,null,null,null,null,null,null,null,null,null,null,null,false,true,0,1535,{"$f":"SMALL(IF($BB$30:$BB$32<>BC1584,\"\",ROW($BB$30:$BB$32)),BD1584)-29","v":{"$error":"#NUM!"}},{"$error":"#NUM!"},{"$error":"#NUM!"},0,1535,{"$f":"SMALL(IF($BJ$30:$BJ$32<>BH1584,\"\",ROW($BJ$30:$BJ$32)),BI1584)-29","v":{"$error":"#NUM!"}},{"$error":"#NUM!"},{"$error":"#NUM!"},true,false,{"$error":"#NUM!"}]
[null,null,null,null,null,null,null,null,null,null,null,null,null,null,null,null,null,null,null,null,null,null,null,null,null,null,null,null,null,null,null,null,null,null,null,null,null,null,null,null,null,null,null,null,null,null,null,null,null,null,null,null,false,true,{"$f":"MIN($BB$29:$BB$32)","v":0},1537,{"$f":"SMALL(IF($BB$30:$BB$32<>BC1586,\"\",ROW($BB$30:$BB$32)),BD1586)-29","v":{"$error":"#NUM!"}},{"$f":"INDEX($BD$30:$BD$32,BE1586)","v":{"$error":"#NUM!"}},{"$f":"INDEX($BG$30:$BG$32,BE1586)","v":{"$error":"#NUM!"}},{"$f":"MAX($BJ$29:$BJ$32)","v":0},1537,{"$f":"SMALL(IF($BJ$30:$BJ$32<>BH1586,\"\",ROW($BJ$30:$BJ$32)),BI1586)-29","v":{"$error":"#NUM!"}},{"$f":"INDEX($BL$30:$BL$32,BJ1586)","v":{"$error":"#NUM!"}},{"$f":"INDEX($BO$30:$BO$32,BJ1586)","v":{"$error":"#NUM!"}},true,false,{"$error":"#NUM!"}]
[null,null,null,null,null,null,null,null,null,null,null,null,null,null,null,null,null,null,null,null,null,null,null,null,null,null,null,null,null,null,null,null,null,null,null,null,null,null,null,null,null,null,null,null,null,null,null,null,null,null,null,null,false,true,0,1540,{"$f":"SMALL(IF($BB$30:$BB$32<>BC1589,\"\",ROW($BB$30:$BB$32)),BD1589)-29","v":{"$error":"#NUM!"}},{"$error":"#NUM!"},{"$error":"#NUM!"},0,1540,{"$f":"SMALL(IF($BJ$30:$BJ$32<>BH1589,\"\",ROW($BJ$30:$BJ$32)),BI1589)-29","v":{"$error":"#NUM!"}},{"$error":"#NUM!"},{"$error":"#NUM!"},true,false,{"$error":"#NUM!"}]
[null,null,null,null,null,null,null,null,null,null,null,null,null,null,null,null,null,null,null,null,null,null,null,null,null,null,null,null,null,null,null,null,null,null,null,null,null,null,null,null,null,null,null,null,null,null,null,null,null,null,null,null,false,true,0,1542,{"$f":"SMALL(IF($BB$30:$BB$32<>BC1591,\"\",ROW($BB$30:$BB$32)),BD1591)-29","v":{"$error":"#NUM!"}},{"$error":"#NUM!"},{"$error":"#NUM!"},0,1542,{"$f":"SMALL(IF($BJ$30:$BJ$32<>BH1591,\"\",ROW($BJ$30:$BJ$32)),BI1591)-29","v":{"$error":"#NUM!"}},{"$error":"#NUM!"},{"$error":"#NUM!"},true,false,{"$error":"#NUM!"}]
[null,null,null,null,null,null,null,null,null,null,null,null,null,null,null,null,null,null,null,null,null,null,null,null,null,null,null,null,null,null,null,null,null,null,null,null,null,null,null,null,null,null,null,null,null,null,null,null,null,null,null,null,false,true,0,1546,{"$f":"SMALL(IF($BB$30:$BB$32<>BC1595,\"\",ROW($BB$30:$BB$32)),BD1595)-29","v":{"$error":"#NUM!"}},{"$error":"#NUM!"},{"$error":"#NUM!"},0,1546,{"$f":"SMALL(IF($BJ$30:$BJ$32<>BH1595,\"\",ROW($BJ$30:$BJ$32)),BI1595)-29","v":{"$error":"#NUM!"}},{"$error":"#NUM!"},{"$error":"#NUM!"},true,false,{"$error":"#NUM!"}]
[null,null,null,null,null,null,null,null,null,null,null,null,null,null,null,null,null,null,null,null,null,null,null,null,null,null,null,null,null,null,null,null,null,null,null,null,null,null,null,null,null,null,null,null,null,null,null,null,null,null,null,null,false,true,0,1547,{"$f":"SMALL(IF($BB$30:$BB$32<>BC1596,\"\",ROW($BB$30:$BB$32)),BD1596)-29","v":{"$error":"#NUM!"}},{"$error":"#NUM!"},{"$error":"#NUM!"},0,1547,{"$f":"SMALL(IF($BJ$30:$BJ$32<>BH1596,\"\",ROW($BJ$30:$BJ$32)),BI1596)-29","v":{"$error":"#NUM!"}},{"$error":"#NUM!"},{"$error":"#NUM!"},true,false,{"$error":"#NUM!"}]
[null,null,null,null,null,null,null,null,null,null,null,null,null,null,null,null,null,null,null,null,null,null,null,null,null,null,null,null,null,null,null,null,null,null,null,null,null,null,null,null,null,null,null,null,null,null,null,null,null,null,null,null,false,true,0,1549,{"$f":"SMALL(IF($BB$30:$BB$32<>BC1598,\"\",ROW($BB$30:$BB$32)),BD1598)-29","v":{"$error":"#NUM!"}},{"$error":"#NUM!"},{"$error":"#NUM!"},0,1549,{"$f":"SMALL(IF($BJ$30:$BJ$32<>BH1598,\"\",ROW($BJ$30:$BJ$32)),BI1598)-29","v":{"$error":"#NUM!"}},{"$error":"#NUM!"},{"$error":"#NUM!"},true,false,{"$error":"#NUM!"}]
[null,null,null,null,null,null,null,null,null,null,null,null,null,null,null,null,null,null,null,null,null,null,null,null,null,null,null,null,null,null,null,null,null,null,null,null,null,null,null,null,null,null,null,null,null,null,null,null,null,null,null,null,false,true,0,1552,{"$f":"SMALL(IF($BB$30:$BB$32<>BC1601,\"\",ROW($BB$30:$BB$32)),BD1601)-29","v":{"$error":"#NUM!"}},{"$error":"#NUM!"},{"$error":"#NUM!"},0,1552,{"$f":"SMALL(IF($BJ$30:$BJ$32<>BH1601,\"\",ROW($BJ$30:$BJ$32)),BI1601)-29","v":{"$error":"#NUM!"}},{"$error":"#NUM!"},{"$error":"#NUM!"},true,false,{"$error":"#NUM!"}]
[null,null,null,null,null,null,null,null,null,null,null,null,null,null,null,null,null,null,null,null,null,null,null,null,null,null,null,null,null,null,null,null,null,null,null,null,null,null,null,null,null,null,null,null,null,null,null,null,null,null,null,null,false,true,0,1556,{"$f":"SMALL(IF($BB$30:$BB$32<>BC1605,\"\",ROW($BB$30:$BB$32)),BD1605)-29","v":{"$error":"#NUM!"}},{"$error":"#NUM!"},{"$error":"#NUM!"},0,1556,{"$f":"SMALL(IF($BJ$30:$BJ$32<>BH1605,\"\",ROW($BJ$30:$BJ$32)),BI1605)-29","v":{"$error":"#NUM!"}},{"$error":"#NUM!"},{"$error":"#NUM!"},true,false,{"$error":"#NUM!"}]
[null,null,null,null,null,null,null,null,null,null,null,null,null,null,null,null,null,null,null,null,null,null,null,null,null,null,null,null,null,null,null,null,null,null,null,null,null,null,null,null,null,null,null,null,null,null,null,null,null,null,null,null,false,true,0,1558,{"$f":"SMALL(IF($BB$30:$BB$32<>BC1607,\"\",ROW($BB$30:$BB$32)),BD1607)-29","v":{"$error":"#NUM!"}},{"$error":"#NUM!"},{"$error":"#NUM!"},0,1558,{"$f":"SMALL(IF($BJ$30:$BJ$32<>BH1607,\"\",ROW($BJ$30:$BJ$32)),BI1607)-29","v":{"$error":"#NUM!"}},{"$error":"#NUM!"},{"$error":"#NUM!"},true,false,{"$error":"#NUM!"}]
[null,null,null,null,null,null,null,null,null,null,null,null,null,null,null,null,null,null,null,null,null,null,null,null,null,null,null,null,null,null,null,null,null,null,null,null,null,null,null,null,null,null,null,null,null,null,null,null,null,null,null,null,false,true,0,1561,{"$f":"SMALL(IF($BB$30:$BB$32<>BC1610,\"\",ROW($BB$30:$BB$32)),BD1610)-29","v":{"$error":"#NUM!"}},{"$error":"#NUM!"},{"$error":"#NUM!"},0,1561,{"$f":"SMALL(IF($BJ$30:$BJ$32<>BH1610,\"\",ROW($BJ$30:$BJ$32)),BI1610)-29","v":{"$error":"#NUM!"}},{"$error":"#NUM!"},{"$error":"#NUM!"},true,false,{"$error":"#NUM!"}]
[null,null,null,null,null,null,null,null,null,null,null,null,null,null,null,null,null,null,null,null,null,null,null,null,null,null,null,null,null,null,null,null,null,null,null,null,null,null,null,null,null,null,null,null,null,null,null,null,null,null,null,null,false,true,0,1563,{"$f":"SMALL(IF($BB$30:$BB$32<>BC1612,\"\",ROW($BB$30:$BB$32)),BD1612)-29","v":{"$error":"#NUM!"}},{"$error":"#NUM!"},{"$error":"#NUM!"},0,1563,{"$f":"SMALL(IF($BJ$30:$BJ$32<>BH1612,\"\",ROW($BJ$30:$BJ$32)),BI1612)-29","v":{"$error":"#NUM!"}},{"$error":"#NUM!"},{"$error":"#NUM!"},true,false,{"$error":"#NUM!"}]
[null,null,null,null,null,null,null,null,null,null,null,null,null,null,null,null,null,null,null,null,null,null,null,null,null,null,null,null,null,null,null,null,null,null,null,null,null,null,null,null,null,null,null,null,null,null,null,null,null,null,null,null,false,true,0,1567,{"$f":"SMALL(IF($BB$30:$BB$32<>BC1616,\"\",ROW($BB$30:$BB$32)),BD1616)-29","v":{"$error":"#NUM!"}},{"$error":"#NUM!"},{"$error":"#NUM!"},0,1567,{"$f":"SMALL(IF($BJ$30:$BJ$32<>BH1616,\"\",ROW($BJ$30:$BJ$32)),BI1616)-29","v":{"$error":"#NUM!"}},{"$error":"#NUM!"},{"$error":"#NUM!"},true,false,{"$error":"#NUM!"}]
[null,null,null,null,null,null,null,null,null,null,null,null,null,null,null,null,null,null,null,null,null,null,null,null,null,null,null,null,null,null,null,null,null,null,null,null,null,null,null,null,null,null,null,null,null,null,null,null,null,null,null,null,false,true,0,1570,{"$f":"SMALL(IF($BB$30:$BB$32<>BC1619,\"\",ROW($BB$30:$BB$32)),BD1619)-29","v":{"$error":"#NUM!"}},{"$error":"#NUM!"},{"$error":"#NUM!"},0,1570,{"$f":"SMALL(IF($BJ$30:$BJ$32<>BH1619,\"\",ROW($BJ$30:$BJ$32)),BI1619)-29","v":{"$error":"#NUM!"}},{"$error":"#NUM!"},{"$error":"#NUM!"},true,false,{"$error":"#NUM!"}]
[null,null,null,null,null,null,null,null,null,null,null,null,null,null,null,null,null,null,null,null,null,null,null,null,null,null,null,null,null,null,null,null,null,null,null,null,null,null,null,null,null,null,null,null,null,null,null,null,null,null,null,null,false,true,0,1572,{"$f":"SMALL(IF($BB$30:$BB$32<>BC1621,\"\",ROW($BB$30:$BB$32)),BD1621)-29","v":{"$error":"#NUM!"}},{"$error":"#NUM!"},{"$error":"#NUM!"},0,1572,{"$f":"SMALL(IF($BJ$30:$BJ$32<>BH1621,\"\",ROW($BJ$30:$BJ$32)),BI1621)-29","v":{"$error":"#NUM!"}},{"$error":"#NUM!"},{"$error":"#NUM!"},true,false,{"$error":"#NUM!"}]
[null,null,null,null,null,null,null,null,null,null,null,null,null,null,null,null,null,null,null,null,null,null,null,null,null,null,null,null,null,null,null,null,null,null,null,null,null,null,null,null,null,null,null,null,null,null,null,null,null,null,null,null,false,true,0,1573,{"$f":"SMALL(IF($BB$30:$BB$32<>BC1622,\"\",ROW($BB$30:$BB$32)),BD1622)-29","v":{"$error":"#NUM!"}},{"$error":"#NUM!"},{"$error":"#NUM!"},0,1573,{"$f":"SMALL(IF($BJ$30:$BJ$32<>BH1622,\"\",ROW($BJ$30:$BJ$32)),BI1622)-29","v":{"$error":"#NUM!"}},{"$error":"#NUM!"},{"$error":"#NUM!"},true,false,{"$error":"#NUM!"}]
[null,null,null,null,null,null,null,null,null,null,null,null,null,null,null,null,null,null,null,null,null,null,null,null,null,null,null,null,null,null,null,null,null,null,null,null,null,null,null,null,null,null,null,null,null,null,null,null,null,null,null,null,false,true,0,1576,{"$f":"SMALL(IF($BB$30:$BB$32<>BC1625,\"\",ROW($BB$30:$BB$32)),BD1625)-29","v":{"$error":"#NUM!"}},{"$error":"#NUM!"},{"$error":"#NUM!"},0,1576,{"$f":"SMALL(IF($BJ$30:$BJ$32<>BH1625,\"\",ROW($BJ$30:$BJ$32)),BI1625)-29","v":{"$error":"#NUM!"}},{"$error":"#NUM!"},{"$error":"#NUM!"},true,false,{"$error":"#NUM!"}]
[null,null,null,null,null,null,null,null,null,null,null,null,null,null,null,null,null,null,null,null,null,null,null,null,null,null,null,null,null,null,null,null,null,null,null,null,null,null,null,null,null,null,null,null,null,null,null,null,null,null,null,null,false,true,0,1579,{"$f":"SMALL(IF($BB$30:$BB$32<>BC1628,\"\",ROW($BB$30:$BB$32)),BD1628)-29","v":{"$error":"#NUM!"}},{"$error":"#NUM!"},{"$error":"#NUM!"},0,1579,{"$f":"SMALL(IF($BJ$30:$BJ$32<>BH1628,\"\",ROW($BJ$30:$BJ$32)),BI1628)-29","v":{"$error":"#NUM!"}},{"$error":"#NUM!"},{"$error":"#NUM!"},true,false,{"$error":"#NUM!"}]
[null,null,null,null,null,null,null,null,null,null,null,null,null,null,null,null,null,null,null,null,null,null,null,null,null,null,null,null,null,null,null,null,null,null,null,null,null,null,null,null,null,null,null,null,null,null,null,null,null,null,null,null,false,true,0,1582,{"$f":"SMALL(IF($BB$30:$BB$32<>BC1631,\"\",ROW($BB$30:$BB$32)),BD1631)-29","v":{"$error":"#NUM!"}},{"$error":"#NUM!"},{"$error":"#NUM!"},0,1582,{"$f":"SMALL(IF($BJ$30:$BJ$32<>BH1631,\"\",ROW($BJ$30:$BJ$32)),BI1631)-29","v":{"$error":"#NUM!"}},{"$error":"#NUM!"},{"$error":"#NUM!"},true,false,{"$error":"#NUM!"}]
[null,null,null,null,null,null,null,null,null,null,null,null,null,null,null,null,null,null,null,null,null,null,null,null,null,null,null,null,null,null,null,null,null,null,null,null,null,null,null,null,null,null,null,null,null,null,null,null,null,null,null,null,false,true,0,1586,{"$f":"SMALL(IF($BB$30:$BB$32<>BC1635,\"\",ROW($BB$30:$BB$32)),BD1635)-29","v":{"$error":"#NUM!"}},{"$error":"#NUM!"},{"$error":"#NUM!"},0,1586,{"$f":"SMALL(IF($BJ$30:$BJ$32<>BH1635,\"\",ROW($BJ$30:$BJ$32)),BI1635)-29","v":{"$error":"#NUM!"}},{"$error":"#NUM!"},{"$error":"#NUM!"},true,false,{"$error":"#NUM!"}]
[null,null,null,null,null,null,null,null,null,null,null,null,null,null,null,null,null,null,null,null,null,null,null,null,null,null,null,null,null,null,null,null,null,null,null,null,null,null,null,null,null,null,null,null,null,null,null,null,null,null,null,null,false,true,0,1588,{"$f":"SMALL(IF($BB$30:$BB$32<>BC1637,\"\",ROW($BB$30:$BB$32)),BD1637)-29","v":{"$error":"#NUM!"}},{"$error":"#NUM!"},{"$error":"#NUM!"},0,1588,{"$f":"SMALL(IF($BJ$30:$BJ$32<>BH1637,\"\",ROW($BJ$30:$BJ$32)),BI1637)-29","v":{"$error":"#NUM!"}},{"$error":"#NUM!"},{"$error":"#NUM!"},true,false,{"$error":"#NUM!"}]
[null,null,null,null,null,null,null,null,null,null,null,null,null,null,null,null,null,null,null,null,null,null,null,null,null,null,null,null,null,null,null,null,null,null,null,null,null,null,null,null,null,null,null,null,null,null,null,null,null,null,null,null,false,true,0,1591,{"$f":"SMALL(IF($BB$30:$BB$32<>BC1640,\"\",ROW($BB$30:$BB$32)),BD1640)-29","v":{"$error":"#NUM!"}},{"$error":"#NUM!"},{"$error":"#NUM!"},0,1591,{"$f":"SMALL(IF($BJ$30:$BJ$32<>BH1640,\"\",ROW($BJ$30:$BJ$32)),BI1640)-29","v":{"$error":"#NUM!"}},{"$error":"#NUM!"},{"$error":"#NUM!"},true,false,{"$error":"#NUM!"}]
[null,null,null,null,null,null,null,null,null,null,null,null,null,null,null,null,null,null,null,null,null,null,null,null,null,null,null,null,null,null,null,null,null,null,null,null,null,null,null,null,null,null,null,null,null,null,null,null,null,null,null,null,false,true,0,1592,{"$f":"SMALL(IF($BB$30:$BB$32<>BC1641,\"\",ROW($BB$30:$BB$32)),BD1641)-29","v":{"$error":"#NUM!"}},{"$error":"#NUM!"},{"$error":"#NUM!"},0,1592,{"$f":"SMALL(IF($BJ$30:$BJ$32<>BH1641,\"\",ROW($BJ$30:$BJ$32)),BI1641)-29","v":{"$error":"#NUM!"}},{"$error":"#NUM!"},{"$error":"#NUM!"},true,false,{"$error":"#NUM!"}]
[null,null,null,null,null,null,null,null,null,null,null,null,null,null,null,null,null,null,null,null,null,null,null,null,null,null,null,null,null,null,null,null,null,null,null,null,null,null,null,null,null,null,null,null,null,null,null,null,null,null,null,null,false,true,0,1595,{"$f":"SMALL(IF($BB$30:$BB$32<>BC1644,\"\",ROW($BB$30:$BB$32)),BD1644)-29","v":{"$error":"#NUM!"}},{"$error":"#NUM!"},{"$error":"#NUM!"},0,1595,{"$f":"SMALL(IF($BJ$30:$BJ$32<>BH1644,\"\",ROW($BJ$30:$BJ$32)),BI1644)-29","v":{"$error":"#NUM!"}},{"$error":"#NUM!"},{"$error":"#NUM!"},true,false,{"$error":"#NUM!"}]
[null,null,null,null,null,null,null,null,null,null,null,null,null,null,null,null,null,null,null,null,null,null,null,null,null,null,null,null,null,null,null,null,null,null,null,null,null,null,null,null,null,null,null,null,null,null,null,null,null,null,null,null,false,true,0,1598,{"$f":"SMALL(IF($BB$30:$BB$32<>BC1647,\"\",ROW($BB$30:$BB$32)),BD1647)-29","v":{"$error":"#NUM!"}},{"$error":"#NUM!"},{"$error":"#NUM!"},0,1598,{"$f":"SMALL(IF($BJ$30:$BJ$32<>BH1647,\"\",ROW($BJ$30:$BJ$32)),BI1647)-29","v":{"$error":"#NUM!"}},{"$error":"#NUM!"},{"$error":"#NUM!"},true,false,{"$error":"#NUM!"}]
[null,null,null,null,null,null,null,null,null,null,null,null,null,null,null,null,null,null,null,null,null,null,null,null,null,null,null,null,null,null,null,null,null,null,null,null,null,null,null,null,null,null,null,null,null,null,null,null,null,null,null,null,false,true,0,1600,{"$f":"SMALL(IF($BB$30:$BB$32<>BC1649,\"\",ROW($BB$30:$BB$32)),BD1649)-29","v":{"$error":"#NUM!"}},{"$error":"#NUM!"},{"$error":"#NUM!"},0,1600,{"$f":"SMALL(IF($BJ$30:$BJ$32<>BH1649,\"\",ROW($BJ$30:$BJ$32)),BI1649)-29","v":{"$error":"#NUM!"}},{"$error":"#NUM!"},{"$error":"#NUM!"},true,false,{"$error":"#NUM!"}]
[null,null,null,null,null,null,null,null,null,null,null,null,null,null,null,null,null,null,null,null,null,null,null,null,null,null,null,null,null,null,null,null,null,null,null,null,null,null,null,null,null,null,null,null,null,null,null,null,null,null,null,null,false,true,0,1603,{"$f":"SMALL(IF($BB$30:$BB$32<>BC1652,\"\",ROW($BB$30:$BB$32)),BD1652)-29","v":{"$error":"#NUM!"}},{"$error":"#NUM!"},{"$error":"#NUM!"},0,1603,{"$f":"SMALL(IF($BJ$30:$BJ$32<>BH1652,\"\",ROW($BJ$30:$BJ$32)),BI1652)-29","v":{"$error":"#NUM!"}},{"$error":"#NUM!"},{"$error":"#NUM!"},true,false,{"$error":"#NUM!"}]
[null,null,null,null,null,null,null,null,null,null,null,null,null,null,null,null,null,null,null,null,null,null,null,null,null,null,null,null,null,null,null,null,null,null,null,null,null,null,null,null,null,null,null,null,null,null,null,null,null,null,null,null,false,true,0,1607,{"$f":"SMALL(IF($BB$30:$BB$32<>BC1656,\"\",ROW($BB$30:$BB$32)),BD1656)-29","v":{"$error":"#NUM!"}},{"$error":"#NUM!"},{"$error":"#NUM!"},0,1607,{"$f":"SMALL(IF($BJ$30:$BJ$32<>BH1656,\"\",ROW($BJ$30:$BJ$32)),BI1656)-29","v":{"$error":"#NUM!"}},{"$error":"#NUM!"},{"$error":"#NUM!"},true,false,{"$error":"#NUM!"}]
[null,null,null,null,null,null,null,null,null,null,null,null,null,null,null,null,null,null,null,null,null,null,null,null,null,null,null,null,null,null,null,null,null,null,null,null,null,null,null,null,null,null,null,null,null,null,null,null,null,null,null,null,false,true,0,1609,{"$f":"SMALL(IF($BB$30:$BB$32<>BC1658,\"\",ROW($BB$30:$BB$32)),BD1658)-29","v":{"$error":"#NUM!"}},{"$error":"#NUM!"},{"$error":"#NUM!"},0,1609,{"$f":"SMALL(IF($BJ$30:$BJ$32<>BH1658,\"\",ROW($BJ$30:$BJ$32)),BI1658)-29","v":{"$error":"#NUM!"}},{"$error":"#NUM!"},{"$error":"#NUM!"},true,false,{"$error":"#NUM!"}]
[null,null,null,null,null,null,null,null,null,null,null,null,null,null,null,null,null,null,null,null,null,null,null,null,null,null,null,null,null,null,null,null,null,null,null,null,null,null,null,null,null,null,null,null,null,null,null,null,null,null,null,null,false,true,0,1612,{"$f":"SMALL(IF($BB$30:$BB$32<>BC1661,\"\",ROW($BB$30:$BB$32)),BD1661)-29","v":{"$error":"#NUM!"}},{"$error":"#NUM!"},{"$error":"#NUM!"},0,1612,{"$f":"SMALL(IF($BJ$30:$BJ$32<>BH1661,\"\",ROW($BJ$30:$BJ$32)),BI1661)-29","v":{"$error":"#NUM!"}},{"$error":"#NUM!"},{"$error":"#NUM!"},true,false,{"$error":"#NUM!"}]
[null,null,null,null,null,null,null,null,null,null,null,null,null,null,null,null,null,null,null,null,null,null,null,null,null,null,null,null,null,null,null,null,null,null,null,null,null,null,null,null,null,null,null,null,null,null,null,null,null,null,null,null,false,true,0,1613,{"$f":"SMALL(IF($BB$30:$BB$32<>BC1662,\"\",ROW($BB$30:$BB$32)),BD1662)-29","v":{"$error":"#NUM!"}},{"$error":"#NUM!"},{"$error":"#NUM!"},0,1613,{"$f":"SMALL(IF($BJ$30:$BJ$32<>BH1662,\"\",ROW($BJ$30:$BJ$32)),BI1662)-29","v":{"$error":"#NUM!"}},{"$error":"#NUM!"},{"$error":"#NUM!"},true,false,{"$error":"#NUM!"}]
[null,null,null,null,null,null,null,null,null,null,null,null,null,null,null,null,null,null,null,null,null,null,null,null,null,null,null,null,null,null,null,null,null,null,null,null,null,null,null,null,null,null,null,null,null,null,null,null,null,null,null,null,false,true,0,1616,{"$f":"SMALL(IF($BB$30:$BB$32<>BC1665,\"\",ROW($BB$30:$BB$32)),BD1665)-29","v":{"$error":"#NUM!"}},{"$error":"#NUM!"},{"$error":"#NUM!"},0,1616,{"$f":"SMALL(IF($BJ$30:$BJ$32<>BH1665,\"\",ROW($BJ$30:$BJ$32)),BI1665)-29","v":{"$error":"#NUM!"}},{"$error":"#NUM!"},{"$error":"#NUM!"},true,false,{"$error":"#NUM!"}]
[null,null,null,null,null,null,null,null,null,null,null,null,null,null,null,null,null,null,null,null,null,null,null,null,null,null,null,null,null,null,null,null,null,null,null,null,null,null,null,null,null,null,null,null,null,null,null,null,null,null,null,null,false,true,0,1619,{"$f":"SMALL(IF($BB$30:$BB$32<>BC1668,\"\",ROW($BB$30:$BB$32)),BD1668)-29","v":{"$error":"#NUM!"}},{"$error":"#NUM!"},{"$error":"#NUM!"},0,1619,{"$f":"SMALL(IF($BJ$30:$BJ$32<>BH1668,\"\",ROW($BJ$30:$BJ$32)),BI1668)-29","v":{"$error":"#NUM!"}},{"$error":"#NUM!"},{"$error":"#NUM!"},true,false,{"$error":"#NUM!"}]
[null,null,null,null,null,null,null,null,null,null,null,null,null,null,null,null,null,null,null,null,null,null,null,null,null,null,null,null,null,null,null,null,null,null,null,null,null,null,null,null,null,null,null,null,null,null,null,null,null,null,null,null,false,true,0,1622,{"$f":"SMALL(IF($BB$30:$BB$32<>BC1671,\"\",ROW($BB$30:$BB$32)),BD1671)-29","v":{"$error":"#NUM!"}},{"$error":"#NUM!"},{"$error":"#NUM!"},0,1622,{"$f":"SMALL(IF($BJ$30:$BJ$32<>BH1671,\"\",ROW($BJ$30:$BJ$32)),BI1671)-29","v":{"$error":"#NUM!"}},{"$error":"#NUM!"},{"$error":"#NUM!"},true,false,{"$error":"#NUM!"}]
[null,null,null,null,null,null,null,null,null,null,null,null,null,null,null,null,null,null,null,null,null,null,null,null,null,null,null,null,null,null,null,null,null,null,null,null,null,null,null,null,null,null,null,null,null,null,null,null,null,null,null,null,false,true,0,1625,{"$f":"SMALL(IF($BB$30:$BB$32<>BC1674,\"\",ROW($BB$30:$BB$32)),BD1674)-29","v":{"$error":"#NUM!"}},{"$error":"#NUM!"},{"$error":"#NUM!"},0,1625,{"$f":"SMALL(IF($BJ$30:$BJ$32<>BH1674,\"\",ROW($BJ$30:$BJ$32)),BI1674)-29","v":{"$error":"#NUM!"}},{"$error":"#NUM!"},{"$error":"#NUM!"},true,false,{"$error":"#NUM!"}]
[null,null,null,null,null,null,null,null,null,null,null,null,null,null,null,null,null,null,null,null,null,null,null,null,null,null,null,null,null,null,null,null,null,null,null,null,null,null,null,null,null,null,null,null,null,null,null,null,null,null,null,null,false,true,0,1628,{"$f":"SMALL(IF($BB$30:$BB$32<>BC1677,\"\",ROW($BB$30:$BB$32)),BD1677)-29","v":{"$error":"#NUM!"}},{"$error":"#NUM!"},{"$error":"#NUM!"},0,1628,{"$f":"SMALL(IF($BJ$30:$BJ$32<>BH1677,\"\",ROW($BJ$30:$BJ$32)),BI1677)-29","v":{"$error":"#NUM!"}},{"$error":"#NUM!"},{"$error":"#NUM!"},true,false,{"$error":"#NUM!"}]
[null,null,null,null,null,null,null,null,null,null,null,null,null,null,null,null,null,null,null,null,null,null,null,null,null,null,null,null,null,null,null,null,null,null,null,null,null,null,null,null,null,null,null,null,null,null,null,null,null,null,null,null,false,true,0,1631,{"$f":"SMALL(IF($BB$30:$BB$32<>BC1680,\"\",ROW($BB$30:$BB$32)),BD1680)-29","v":{"$error":"#NUM!"}},{"$error":"#NUM!"},{"$error":"#NUM!"},0,1631,{"$f":"SMALL(IF($BJ$30:$BJ$32<>BH1680,\"\",ROW($BJ$30:$BJ$32)),BI1680)-29","v":{"$error":"#NUM!"}},{"$error":"#NUM!"},{"$error":"#NUM!"},true,false,{"$error":"#NUM!"}]
[null,null,null,null,null,null,null,null,null,null,null,null,null,null,null,null,null,null,null,null,null,null,null,null,null,null,null,null,null,null,null,null,null,null,null,null,null,null,null,null,null,null,null,null,null,null,null,null,null,null,null,null,false,true,0,1632,{"$f":"SMALL(IF($BB$30:$BB$32<>BC1681,\"\",ROW($BB$30:$BB$32)),BD1681)-29","v":{"$error":"#NUM!"}},{"$error":"#NUM!"},{"$error":"#NUM!"},0,1632,{"$f":"SMALL(IF($BJ$30:$BJ$32<>BH1681,\"\",ROW($BJ$30:$BJ$32)),BI1681)-29","v":{"$error":"#NUM!"}},{"$error":"#NUM!"},{"$error":"#NUM!"},true,false,{"$error":"#NUM!"}]
[null,null,null,null,null,null,null,null,null,null,null,null,null,null,null,null,null,null,null,null,null,null,null,null,null,null,null,null,null,null,null,null,null,null,null,null,null,null,null,null,null,null,null,null,null,null,null,null,null,null,null,null,false,true,0,1634,{"$f":"SMALL(IF($BB$30:$BB$32<>BC1683,\"\",ROW($BB$30:$BB$32)),BD1683)-29","v":{"$error":"#NUM!"}},{"$error":"#NUM!"},{"$error":"#NUM!"},0,1634,{"$f":"SMALL(IF($BJ$30:$BJ$32<>BH1683,\"\",ROW($BJ$30:$BJ$32)),BI1683)-29","v":{"$error":"#NUM!"}},{"$error":"#NUM!"},{"$error":"#NUM!"},true,false,{"$error":"#NUM!"}]
[null,null,null,null,null,null,null,null,null,null,null,null,null,null,null,null,null,null,null,null,null,null,null,null,null,null,null,null,null,null,null,null,null,null,null,null,null,null,null,null,null,null,null,null,null,null,null,null,null,null,null,null,false,true,0,1637,{"$f":"SMALL(IF($BB$30:$BB$32<>BC1686,\"\",ROW($BB$30:$BB$32)),BD1686)-29","v":{"$error":"#NUM!"}},{"$error":"#NUM!"},{"$error":"#NUM!"},0,1637,{"$f":"SMALL(IF($BJ$30:$BJ$32<>BH1686,\"\",ROW($BJ$30:$BJ$32)),BI1686)-29","v":{"$error":"#NUM!"}},{"$error":"#NUM!"},{"$error":"#NUM!"},true,false,{"$error":"#NUM!"}]
[null,null,null,null,null,null,null,null,null,null,null,null,null,null,null,null,null,null,null,null,null,null,null,null,null,null,null,null,null,null,null,null,null,null,null,null,null,null,null,null,null,null,null,null,null,null,null,null,null,null,null,null,false,true,0,1641,{"$f":"SMALL(IF($BB$30:$BB$32<>BC1690,\"\",ROW($BB$30:$BB$32)),BD1690)-29","v":{"$error":"#NUM!"}},{"$error":"#NUM!"},{"$error":"#NUM!"},0,1641,{"$f":"SMALL(IF($BJ$30:$BJ$32<>BH1690,\"\",ROW($BJ$30:$BJ$32)),BI1690)-29","v":{"$error":"#NUM!"}},{"$error":"#NUM!"},{"$error":"#NUM!"},true,false,{"$error":"#NUM!"}]
[null,null,null,null,null,null,null,null,null,null,null,null,null,null,null,null,null,null,null,null,null,null,null,null,null,null,null,null,null,null,null,null,null,null,null,null,null,null,null,null,null,null,null,null,null,null,null,null,null,null,null,null,false,true,0,1643,{"$f":"SMALL(IF($BB$30:$BB$32<>BC1692,\"\",ROW($BB$30:$BB$32)),BD1692)-29","v":{"$error":"#NUM!"}},{"$error":"#NUM!"},{"$error":"#NUM!"},0,1643,{"$f":"SMALL(IF($BJ$30:$BJ$32<>BH1692,\"\",ROW($BJ$30:$BJ$32)),BI1692)-29","v":{"$error":"#NUM!"}},{"$error":"#NUM!"},{"$error":"#NUM!"},true,false,{"$error":"#NUM!"}]
[null,null,null,null,null,null,null,null,null,null,null,null,null,null,null,null,null,null,null,null,null,null,null,null,null,null,null,null,null,null,null,null,null,null,null,null,null,null,null,null,null,null,null,null,null,null,null,null,null,null,null,null,false,true,0,1646,{"$f":"SMALL(IF($BB$30:$BB$32<>BC1695,\"\",ROW($BB$30:$BB$32)),BD1695)-29","v":{"$error":"#NUM!"}},{"$error":"#NUM!"},{"$error":"#NUM!"},0,1646,{"$f":"SMALL(IF($BJ$30:$BJ$32<>BH1695,\"\",ROW($BJ$30:$BJ$32)),BI1695)-29","v":{"$error":"#NUM!"}},{"$error":"#NUM!"},{"$error":"#NUM!"},true,false,{"$error":"#NUM!"}]
[null,null,null,null,null,null,null,null,null,null,null,null,null,null,null,null,null,null,null,null,null,null,null,null,null,null,null,null,null,null,null,null,null,null,null,null,null,null,null,null,null,null,null,null,null,null,null,null,null,null,null,null,false,true,0,1648,{"$f":"SMALL(IF($BB$30:$BB$32<>BC1697,\"\",ROW($BB$30:$BB$32)),BD1697)-29","v":{"$error":"#NUM!"}},{"$error":"#NUM!"},{"$error":"#NUM!"},0,1648,{"$f":"SMALL(IF($BJ$30:$BJ$32<>BH1697,\"\",ROW($BJ$30:$BJ$32)),BI1697)-29","v":{"$error":"#NUM!"}},{"$error":"#NUM!"},{"$error":"#NUM!"},true,false,{"$error":"#NUM!"}]
[null,null,null,null,null,null,null,null,null,null,null,null,null,null,null,null,null,null,null,null,null,null,null,null,null,null,null,null,null,null,null,null,null,null,null,null,null,null,null,null,null,null,null,null,null,null,null,null,null,null,null,null,false,true,0,1652,{"$f":"SMALL(IF($BB$30:$BB$32<>BC1701,\"\",ROW($BB$30:$BB$32)),BD1701)-29","v":{"$error":"#NUM!"}},{"$error":"#NUM!"},{"$error":"#NUM!"},0,1652,{"$f":"SMALL(IF($BJ$30:$BJ$32<>BH1701,\"\",ROW($BJ$30:$BJ$32)),BI1701)-29","v":{"$error":"#NUM!"}},{"$error":"#NUM!"},{"$error":"#NUM!"},true,false,{"$error":"#NUM!"}]
[null,null,null,null,null,null,null,null,null,null,null,null,null,null,null,null,null,null,null,null,null,null,null,null,null,null,null,null,null,null,null,null,null,null,null,null,null,null,null,null,null,null,null,null,null,null,null,null,null,null,null,null,false,true,0,1653,{"$f":"SMALL(IF($BB$30:$BB$32<>BC1702,\"\",ROW($BB$30:$BB$32)),BD1702)-29","v":{"$error":"#NUM!"}},{"$error":"#NUM!"},{"$error":"#NUM!"},0,1653,{"$f":"SMALL(IF($BJ$30:$BJ$32<>BH1702,\"\",ROW($BJ$30:$BJ$32)),BI1702)-29","v":{"$error":"#NUM!"}},{"$error":"#NUM!"},{"$error":"#NUM!"},true,false,{"$error":"#NUM!"}]
[null,null,null,null,null,null,null,null,null,null,null,null,null,null,null,null,null,null,null,null,null,null,null,null,null,null,null,null,null,null,null,null,null,null,null,null,null,null,null,null,null,null,null,null,null,null,null,null,null,null,null,null,false,true,0,1657,{"$f":"SMALL(IF($BB$30:$BB$32<>BC1706,\"\",ROW($BB$30:$BB$32)),BD1706)-29","v":{"$error":"#NUM!"}},{"$error":"#NUM!"},{"$error":"#NUM!"},0,1657,{"$f":"SMALL(IF($BJ$30:$BJ$32<>BH1706,\"\",ROW($BJ$30:$BJ$32)),BI1706)-29","v":{"$error":"#NUM!"}},{"$error":"#NUM!"},{"$error":"#NUM!"},true,false,{"$error":"#NUM!"}]
[null,null,null,null,null,null,null,null,null,null,null,null,null,null,null,null,null,null,null,null,null,null,null,null,null,null,null,null,null,null,null,null,null,null,null,null,null,null,null,null,null,null,null,null,null,null,null,null,null,null,null,null,false,true,0,1658,{"$f":"SMALL(IF($BB$30:$BB$32<>BC1707,\"\",ROW($BB$30:$BB$32)),BD1707)-29","v":{"$error":"#NUM!"}},{"$error":"#NUM!"},{"$error":"#NUM!"},0,1658,{"$f":"SMALL(IF($BJ$30:$BJ$32<>BH1707,\"\",ROW($BJ$30:$BJ$32)),BI1707)-29","v":{"$error":"#NUM!"}},{"$error":"#NUM!"},{"$error":"#NUM!"},true,false,{"$error":"#NUM!"}]
[null,null,null,null,null,null,null,null,null,null,null,null,null,null,null,null,null,null,null,null,null,null,null,null,null,null,null,null,null,null,null,null,null,null,null,null,null,null,null,null,null,null,null,null,null,null,null,null,null,null,null,null,false,true,0,1662,{"$f":"SMALL(IF($BB$30:$BB$32<>BC1711,\"\",ROW($BB$30:$BB$32)),BD1711)-29","v":{"$error":"#NUM!"}},{"$error":"#NUM!"},{"$error":"#NUM!"},0,1662,{"$f":"SMALL(IF($BJ$30:$BJ$32<>BH1711,\"\",ROW($BJ$30:$BJ$32)),BI1711)-29","v":{"$error":"#NUM!"}},{"$error":"#NUM!"},{"$error":"#NUM!"},true,false,{"$error":"#NUM!"}]
[null,null,null,null,null,null,null,null,null,null,null,null,null,null,null,null,null,null,null,null,null,null,null,null,null,null,null,null,null,null,null,null,null,null,null,null,null,null,null,null,null,null,null,null,null,null,null,null,null,null,null,null,false,true,0,1664,{"$f":"SMALL(IF($BB$30:$BB$32<>BC1713,\"\",ROW($BB$30:$BB$32)),BD1713)-29","v":{"$error":"#NUM!"}},{"$error":"#NUM!"},{"$error":"#NUM!"},0,1664,{"$f":"SMALL(IF($BJ$30:$BJ$32<>BH1713,\"\",ROW($BJ$30:$BJ$32)),BI1713)-29","v":{"$error":"#NUM!"}},{"$error":"#NUM!"},{"$error":"#NUM!"},true,false,{"$error":"#NUM!"}]
[null,null,null,null,null,null,null,null,null,null,null,null,null,null,null,null,null,null,null,null,null,null,null,null,null,null,null,null,null,null,null,null,null,null,null,null,null,null,null,null,null,null,null,null,null,null,null,null,null,null,null,null,false,true,0,1667,{"$f":"SMALL(IF($BB$30:$BB$32<>BC1716,\"\",ROW($BB$30:$BB$32)),BD1716)-29","v":{"$error":"#NUM!"}},{"$error":"#NUM!"},{"$error":"#NUM!"},0,1667,{"$f":"SMALL(IF($BJ$30:$BJ$32<>BH1716,\"\",ROW($BJ$30:$BJ$32)),BI1716)-29","v":{"$error":"#NUM!"}},{"$error":"#NUM!"},{"$error":"#NUM!"},true,false,{"$error":"#NUM!"}]
[null,null,null,null,null,null,null,null,null,null,null,null,null,null,null,null,null,null,null,null,null,null,null,null,null,null,null,null,null,null,null,null,null,null,null,null,null,null,null,null,null,null,null,null,null,null,null,null,null,null,null,null,false,true,0,1669,{"$f":"SMALL(IF($BB$30:$BB$32<>BC1718,\"\",ROW($BB$30:$BB$32)),BD1718)-29","v":{"$error":"#NUM!"}},{"$error":"#NUM!"},{"$error":"#NUM!"},0,1669,{"$f":"SMALL(IF($BJ$30:$BJ$32<>BH1718,\"\",ROW($BJ$30:$BJ$32)),BI1718)-29","v":{"$error":"#NUM!"}},{"$error":"#NUM!"},{"$error":"#NUM!"},true,false,{"$error":"#NUM!"}]
[null,null,null,null,null,null,null,null,null,null,null,null,null,null,null,null,null,null,null,null,null,null,null,null,null,null,null,null,null,null,null,null,null,null,null,null,null,null,null,null,null,null,null,null,null,null,null,null,null,null,null,null,false,true,0,1673,{"$f":"SMALL(IF($BB$30:$BB$32<>BC1722,\"\",ROW($BB$30:$BB$32)),BD1722)-29","v":{"$error":"#NUM!"}},{"$error":"#NUM!"},{"$error":"#NUM!"},0,1673,{"$f":"SMALL(IF($BJ$30:$BJ$32<>BH1722,\"\",ROW($BJ$30:$BJ$32)),BI1722)-29","v":{"$error":"#NUM!"}},{"$error":"#NUM!"},{"$error":"#NUM!"},true,false,{"$error":"#NUM!"}]
[null,null,null,null,null,null,null,null,null,null,null,null,null,null,null,null,null,null,null,null,null,null,null,null,null,null,null,null,null,null,null,null,null,null,null,null,null,null,null,null,null,null,null,null,null,null,null,null,null,null,null,null,false,true,0,1674,{"$f":"SMALL(IF($BB$30:$BB$32<>BC1723,\"\",ROW($BB$30:$BB$32)),BD1723)-29","v":{"$error":"#NUM!"}},{"$error":"#NUM!"},{"$error":"#NUM!"},0,1674,{"$f":"SMALL(IF($BJ$30:$BJ$32<>BH1723,\"\",ROW($BJ$30:$BJ$32)),BI1723)-29","v":{"$error":"#NUM!"}},{"$error":"#NUM!"},{"$error":"#NUM!"},true,false,{"$error":"#NUM!"}]
[null,null,null,null,null,null,null,null,null,null,null,null,null,null,null,null,null,null,null,null,null,null,null,null,null,null,null,null,null,null,null,null,null,null,null,null,null,null,null,null,null,null,null,null,null,null,null,null,null,null,null,null,false,true,0,1678,{"$f":"SMALL(IF($BB$30:$BB$32<>BC1727,\"\",ROW($BB$30:$BB$32)),BD1727)-29","v":{"$error":"#NUM!"}},{"$error":"#NUM!"},{"$error":"#NUM!"},0,1678,{"$f":"SMALL(IF($BJ$30:$BJ$32<>BH1727,\"\",ROW($BJ$30:$BJ$32)),BI1727)-29","v":{"$error":"#NUM!"}},{"$error":"#NUM!"},{"$error":"#NUM!"},true,false,{"$error":"#NUM!"}]
[null,null,null,null,null,null,null,null,null,null,null,null,null,null,null,null,null,null,null,null,null,null,null,null,null,null,null,null,null,null,null,null,null,null,null,null,null,null,null,null,null,null,null,null,null,null,null,null,null,null,null,null,false,true,0,1679,{"$f":"SMALL(IF($BB$30:$BB$32<>BC1728,\"\",ROW($BB$30:$BB$32)),BD1728)-29","v":{"$error":"#NUM!"}},{"$error":"#NUM!"},{"$error":"#NUM!"},0,1679,{"$f":"SMALL(IF($BJ$30:$BJ$32<>BH1728,\"\",ROW($BJ$30:$BJ$32)),BI1728)-29","v":{"$error":"#NUM!"}},{"$error":"#NUM!"},{"$error":"#NUM!"},true,false,{"$error":"#NUM!"}]
[null,null,null,null,null,null,null,null,null,null,null,null,null,null,null,null,null,null,null,null,null,null,null,null,null,null,null,null,null,null,null,null,null,null,null,null,null,null,null,null,null,null,null,null,null,null,null,null,null,null,null,null,false,true,0,1683,{"$f":"SMALL(IF($BB$30:$BB$32<>BC1732,\"\",ROW($BB$30:$BB$32)),BD1732)-29","v":{"$error":"#NUM!"}},{"$error":"#NUM!"},{"$error":"#NUM!"},0,1683,{"$f":"SMALL(IF($BJ$30:$BJ$32<>BH1732,\"\",ROW($BJ$30:$BJ$32)),BI1732)-29","v":{"$error":"#NUM!"}},{"$error":"#NUM!"},{"$error":"#NUM!"},true,false,{"$error":"#NUM!"}]
[null,null,null,null,null,null,null,null,null,null,null,null,null,null,null,null,null,null,null,null,null,null,null,null,null,null,null,null,null,null,null,null,null,null,null,null,null,null,null,null,null,null,null,null,null,null,null,null,null,null,null,null,false,true,0,1685,{"$f":"SMALL(IF($BB$30:$BB$32<>BC1734,\"\",ROW($BB$30:$BB$32)),BD1734)-29","v":{"$error":"#NUM!"}},{"$error":"#NUM!"},{"$error":"#NUM!"},0,1685,{"$f":"SMALL(IF($BJ$30:$BJ$32<>BH1734,\"\",ROW($BJ$30:$BJ$32)),BI1734)-29","v":{"$error":"#NUM!"}},{"$error":"#NUM!"},{"$error":"#NUM!"},true,false,{"$error":"#NUM!"}]
[null,null,null,null,null,null,null,null,null,null,null,null,null,null,null,null,null,null,null,null,null,null,null,null,null,null,null,null,null,null,null,null,null,null,null,null,null,null,null,null,null,null,null,null,null,null,null,null,null,null,null,null,false,true,0,1688,{"$f":"SMALL(IF($BB$30:$BB$32<>BC1737,\"\",ROW($BB$30:$BB$32)),BD1737)-29","v":{"$error":"#NUM!"}},{"$error":"#NUM!"},{"$error":"#NUM!"},0,1688,{"$f":"SMALL(IF($BJ$30:$BJ$32<>BH1737,\"\",ROW($BJ$30:$BJ$32)),BI1737)-29","v":{"$error":"#NUM!"}},{"$error":"#NUM!"},{"$error":"#NUM!"},true,false,{"$error":"#NUM!"}]
[null,null,null,null,null,null,null,null,null,null,null,null,null,null,null,null,null,null,null,null,null,null,null,null,null,null,null,null,null,null,null,null,null,null,null,null,null,null,null,null,null,null,null,null,null,null,null,null,null,null,null,null,false,true,0,1692,{"$f":"SMALL(IF($BB$30:$BB$32<>BC1741,\"\",ROW($BB$30:$BB$32)),BD1741)-29","v":{"$error":"#NUM!"}},{"$error":"#NUM!"},{"$error":"#NUM!"},0,1692,{"$f":"SMALL(IF($BJ$30:$BJ$32<>BH1741,\"\",ROW($BJ$30:$BJ$32)),BI1741)-29","v":{"$error":"#NUM!"}},{"$error":"#NUM!"},{"$error":"#NUM!"},true,false,{"$error":"#NUM!"}]
[null,null,null,null,null,null,null,null,null,null,null,null,null,null,null,null,null,null,null,null,null,null,null,null,null,null,null,null,null,null,null,null,null,null,null,null,null,null,null,null,null,null,null,null,null,null,null,null,null,null,null,null,false,true,0,1694,{"$f":"SMALL(IF($BB$30:$BB$32<>BC1743,\"\",ROW($BB$30:$BB$32)),BD1743)-29","v":{"$error":"#NUM!"}},{"$error":"#NUM!"},{"$error":"#NUM!"},0,1694,{"$f":"SMALL(IF($BJ$30:$BJ$32<>BH1743,\"\",ROW($BJ$30:$BJ$32)),BI1743)-29","v":{"$error":"#NUM!"}},{"$error":"#NUM!"},{"$error":"#NUM!"},true,false,{"$error":"#NUM!"}]
[null,null,null,null,null,null,null,null,null,null,null,null,null,null,null,null,null,null,null,null,null,null,null,null,null,null,null,null,null,null,null,null,null,null,null,null,null,null,null,null,null,null,null,null,null,null,null,null,null,null,null,null,false,true,0,1695,{"$f":"SMALL(IF($BB$30:$BB$32<>BC1744,\"\",ROW($BB$30:$BB$32)),BD1744)-29","v":{"$error":"#NUM!"}},{"$error":"#NUM!"},{"$error":"#NUM!"},0,1695,{"$f":"SMALL(IF($BJ$30:$BJ$32<>BH1744,\"\",ROW($BJ$30:$BJ$32)),BI1744)-29","v":{"$error":"#NUM!"}},{"$error":"#NUM!"},{"$error":"#NUM!"},true,false,{"$error":"#NUM!"}]
[null,null,null,null,null,null,null,null,null,null,null,null,null,null,null,null,null,null,null,null,null,null,null,null,null,null,null,null,null,null,null,null,null,null,null,null,null,null,null,null,null,null,null,null,null,null,null,null,null,null,null,null,false,true,0,1698,{"$f":"SMALL(IF($BB$30:$BB$32<>BC1747,\"\",ROW($BB$30:$BB$32)),BD1747)-29","v":{"$error":"#NUM!"}},{"$error":"#NUM!"},{"$error":"#NUM!"},0,1698,{"$f":"SMALL(IF($BJ$30:$BJ$32<>BH1747,\"\",ROW($BJ$30:$BJ$32)),BI1747)-29","v":{"$error":"#NUM!"}},{"$error":"#NUM!"},{"$error":"#NUM!"},true,false,{"$error":"#NUM!"}]
[null,null,null,null,null,null,null,null,null,null,null,null,null,null,null,null,null,null,null,null,null,null,null,null,null,null,null,null,null,null,null,null,null,null,null,null,null,null,null,null,null,null,null,null,null,null,null,null,null,null,null,null,false,true,0,1701,{"$f":"SMALL(IF($BB$30:$BB$32<>BC1750,\"\",ROW($BB$30:$BB$32)),BD1750)-29","v":{"$error":"#NUM!"}},{"$error":"#NUM!"},{"$error":"#NUM!"},0,1701,{"$f":"SMALL(IF($BJ$30:$BJ$32<>BH1750,\"\",ROW($BJ$30:$BJ$32)),BI1750)-29","v":{"$error":"#NUM!"}},{"$error":"#NUM!"},{"$error":"#NUM!"},true,false,{"$error":"#NUM!"}]
[null,null,null,null,null,null,null,null,null,null,null,null,null,null,null,null,null,null,null,null,null,null,null,null,null,null,null,null,null,null,null,null,null,null,null,null,null,null,null,null,null,null,null,null,null,null,null,null,null,null,null,null,false,true,0,1704,{"$f":"SMALL(IF($BB$30:$BB$32<>BC1753,\"\",ROW($BB$30:$BB$32)),BD1753)-29","v":{"$error":"#NUM!"}},{"$error":"#NUM!"},{"$error":"#NUM!"},0,1704,{"$f":"SMALL(IF($BJ$30:$BJ$32<>BH1753,\"\",ROW($BJ$30:$BJ$32)),BI1753)-29","v":{"$error":"#NUM!"}},{"$error":"#NUM!"},{"$error":"#NUM!"},true,false,{"$error":"#NUM!"}]
[null,null,null,null,null,null,null,null,null,null,null,null,null,null,null,null,null,null,null,null,null,null,null,null,null,null,null,null,null,null,null,null,null,null,null,null,null,null,null,null,null,null,null,null,null,null,null,null,null,null,null,null,false,true,0,1707,{"$f":"SMALL(IF($BB$30:$BB$32<>BC1756,\"\",ROW($BB$30:$BB$32)),BD1756)-29","v":{"$error":"#NUM!"}},{"$error":"#NUM!"},{"$error":"#NUM!"},0,1707,{"$f":"SMALL(IF($BJ$30:$BJ$32<>BH1756,\"\",ROW($BJ$30:$BJ$32)),BI1756)-29","v":{"$error":"#NUM!"}},{"$error":"#NUM!"},{"$error":"#NUM!"},true,false,{"$error":"#NUM!"}]
[null,null,null,null,null,null,null,null,null,null,null,null,null,null,null,null,null,null,null,null,null,null,null,null,null,null,null,null,null,null,null,null,null,null,null,null,null,null,null,null,null,null,null,null,null,null,null,null,null,null,null,null,false,true,0,1710,{"$f":"SMALL(IF($BB$30:$BB$32<>BC1759,\"\",ROW($BB$30:$BB$32)),BD1759)-29","v":{"$error":"#NUM!"}},{"$error":"#NUM!"},{"$error":"#NUM!"},0,1710,{"$f":"SMALL(IF($BJ$30:$BJ$32<>BH1759,\"\",ROW($BJ$30:$BJ$32)),BI1759)-29","v":{"$error":"#NUM!"}},{"$error":"#NUM!"},{"$error":"#NUM!"},true,false,{"$error":"#NUM!"}]
[null,null,null,null,null,null,null,null,null,null,null,null,null,null,null,null,null,null,null,null,null,null,null,null,null,null,null,null,null,null,null,null,null,null,null,null,null,null,null,null,null,null,null,null,null,null,null,null,null,null,null,null,false,true,0,1713,{"$f":"SMALL(IF($BB$30:$BB$32<>BC1762,\"\",ROW($BB$30:$BB$32)),BD1762)-29","v":{"$error":"#NUM!"}},{"$error":"#NUM!"},{"$error":"#NUM!"},0,1713,{"$f":"SMALL(IF($BJ$30:$BJ$32<>BH1762,\"\",ROW($BJ$30:$BJ$32)),BI1762)-29","v":{"$error":"#NUM!"}},{"$error":"#NUM!"},{"$error":"#NUM!"},true,false,{"$error":"#NUM!"}]
[null,null,null,null,null,null,null,null,null,null,null,null,null,null,null,null,null,null,null,null,null,null,null,null,null,null,null,null,null,null,null,null,null,null,null,null,null,null,null,null,null,null,null,null,null,null,null,null,null,null,null,null,false,true,0,1716,{"$f":"SMALL(IF($BB$30:$BB$32<>BC1765,\"\",ROW($BB$30:$BB$32)),BD1765)-29","v":{"$error":"#NUM!"}},{"$error":"#NUM!"},{"$error":"#NUM!"},0,1716,{"$f":"SMALL(IF($BJ$30:$BJ$32<>BH1765,\"\",ROW($BJ$30:$BJ$32)),BI1765)-29","v":{"$error":"#NUM!"}},{"$error":"#NUM!"},{"$error":"#NUM!"},true,false,{"$error":"#NUM!"}]
[null,null,null,null,null,null,null,null,null,null,null,null,null,null,null,null,null,null,null,null,null,null,null,null,null,null,null,null,null,null,null,null,null,null,null,null,null,null,null,null,null,null,null,null,null,null,null,null,null,null,null,null,false,true,0,1717,{"$f":"SMALL(IF($BB$30:$BB$32<>BC1766,\"\",ROW($BB$30:$BB$32)),BD1766)-29","v":{"$error":"#NUM!"}},{"$error":"#NUM!"},{"$error":"#NUM!"},0,1717,{"$f":"SMALL(IF($BJ$30:$BJ$32<>BH1766,\"\",ROW($BJ$30:$BJ$32)),BI1766)-29","v":{"$error":"#NUM!"}},{"$error":"#NUM!"},{"$error":"#NUM!"},true,false,{"$error":"#NUM!"}]
[null,null,null,null,null,null,null,null,null,null,null,null,null,null,null,null,null,null,null,null,null,null,null,null,null,null,null,null,null,null,null,null,null,null,null,null,null,null,null,null,null,null,null,null,null,null,null,null,null,null,null,null,false,true,0,1719,{"$f":"SMALL(IF($BB$30:$BB$32<>BC1768,\"\",ROW($BB$30:$BB$32)),BD1768)-29","v":{"$error":"#NUM!"}},{"$error":"#NUM!"},{"$error":"#NUM!"},0,1719,{"$f":"SMALL(IF($BJ$30:$BJ$32<>BH1768,\"\",ROW($BJ$30:$BJ$32)),BI1768)-29","v":{"$error":"#NUM!"}},{"$error":"#NUM!"},{"$error":"#NUM!"},true,false,{"$error":"#NUM!"}]
[null,null,null,null,null,null,null,null,null,null,null,null,null,null,null,null,null,null,null,null,null,null,null,null,null,null,null,null,null,null,null,null,null,null,null,null,null,null,null,null,null,null,null,null,null,null,null,null,null,null,null,null,false,true,0,1722,{"$f":"SMALL(IF($BB$30:$BB$32<>BC1771,\"\",ROW($BB$30:$BB$32)),BD1771)-29","v":{"$error":"#NUM!"}},{"$error":"#NUM!"},{"$error":"#NUM!"},0,1722,{"$f":"SMALL(IF($BJ$30:$BJ$32<>BH1771,\"\",ROW($BJ$30:$BJ$32)),BI1771)-29","v":{"$error":"#NUM!"}},{"$error":"#NUM!"},{"$error":"#NUM!"},true,false,{"$error":"#NUM!"}]
[null,null,null,null,null,null,null,null,null,null,null,null,null,null,null,null,null,null,null,null,null,null,null,null,null,null,null,null,null,null,null,null,null,null,null,null,null,null,null,null,null,null,null,null,null,null,null,null,null,null,null,null,false,true,0,1725,{"$f":"SMALL(IF($BB$30:$BB$32<>BC1774,\"\",ROW($BB$30:$BB$32)),BD1774)-29","v":{"$error":"#NUM!"}},{"$error":"#NUM!"},{"$error":"#NUM!"},0,1725,{"$f":"SMALL(IF($BJ$30:$BJ$32<>BH1774,\"\",ROW($BJ$30:$BJ$32)),BI1774)-29","v":{"$error":"#NUM!"}},{"$error":"#NUM!"},{"$error":"#NUM!"},true,false,{"$error":"#NUM!"}]
[null,null,null,null,null,null,null,null,null,null,null,null,null,null,null,null,null,null,null,null,null,null,null,null,null,null,null,null,null,null,null,null,null,null,null,null,null,null,null,null,null,null,null,null,null,null,null,null,null,null,null,null,false,true,0,1728,{"$f":"SMALL(IF($BB$30:$BB$32<>BC1777,\"\",ROW($BB$30:$BB$32)),BD1777)-29","v":{"$error":"#NUM!"}},{"$error":"#NUM!"},{"$error":"#NUM!"},0,1728,{"$f":"SMALL(IF($BJ$30:$BJ$32<>BH1777,\"\",ROW($BJ$30:$BJ$32)),BI1777)-29","v":{"$error":"#NUM!"}},{"$error":"#NUM!"},{"$error":"#NUM!"},true,false,{"$error":"#NUM!"}]
[null,null,null,null,null,null,null,null,null,null,null,null,null,null,null,null,null,null,null,null,null,null,null,null,null,null,null,null,null,null,null,null,null,null,null,null,null,null,null,null,null,null,null,null,null,null,null,null,null,null,null,null,false,true,0,1731,{"$f":"SMALL(IF($BB$30:$BB$32<>BC1780,\"\",ROW($BB$30:$BB$32)),BD1780)-29","v":{"$error":"#NUM!"}},{"$error":"#NUM!"},{"$error":"#NUM!"},0,1731,{"$f":"SMALL(IF($BJ$30:$BJ$32<>BH1780,\"\",ROW($BJ$30:$BJ$32)),BI1780)-29","v":{"$error":"#NUM!"}},{"$error":"#NUM!"},{"$error":"#NUM!"},true,false,{"$error":"#NUM!"}]
[null,null,null,null,null,null,null,null,null,null,null,null,null,null,null,null,null,null,null,null,null,null,null,null,null,null,null,null,null,null,null,null,null,null,null,null,null,null,null,null,null,null,null,null,null,null,null,null,null,null,null,null,false,true,0,1734,{"$f":"SMALL(IF($BB$30:$BB$32<>BC1783,\"\",ROW($BB$30:$BB$32)),BD1783)-29","v":{"$error":"#NUM!"}},{"$error":"#NUM!"},{"$error":"#NUM!"},0,1734,{"$f":"SMALL(IF($BJ$30:$BJ$32<>BH1783,\"\",ROW($BJ$30:$BJ$32)),BI1783)-29","v":{"$error":"#NUM!"}},{"$error":"#NUM!"},{"$error":"#NUM!"},true,false,{"$error":"#NUM!"}]
[null,null,null,null,null,null,null,null,null,null,null,null,null,null,null,null,null,null,null,null,null,null,null,null,null,null,null,null,null,null,null,null,null,null,null,null,null,null,null,null,null,null,null,null,null,null,null,null,null,null,null,null,false,true,0,1737,{"$f":"SMALL(IF($BB$30:$BB$32<>BC1786,\"\",ROW($BB$30:$BB$32)),BD1786)-29","v":{"$error":"#NUM!"}},{"$error":"#NUM!"},{"$error":"#NUM!"},0,1737,{"$f":"SMALL(IF($BJ$30:$BJ$32<>BH1786,\"\",ROW($BJ$30:$BJ$32)),BI1786)-29","v":{"$error":"#NUM!"}},{"$error":"#NUM!"},{"$error":"#NUM!"},true,false,{"$error":"#NUM!"}]
[null,null,null,null,null,null,null,null,null,null,null,null,null,null,null,null,null,null,null,null,null,null,null,null,null,null,null,null,null,null,null,null,null,null,null,null,null,null,null,null,null,null,null,null,null,null,null,null,null,null,null,null,false,true,0,1738,{"$f":"SMALL(IF($BB$30:$BB$32<>BC1787,\"\",ROW($BB$30:$BB$32)),BD1787)-29","v":{"$error":"#NUM!"}},{"$error":"#NUM!"},{"$error":"#NUM!"},0,1738,{"$f":"SMALL(IF($BJ$30:$BJ$32<>BH1787,\"\",ROW($BJ$30:$BJ$32)),BI1787)-29","v":{"$error":"#NUM!"}},{"$error":"#NUM!"},{"$error":"#NUM!"},true,false,{"$error":"#NUM!"}]
[null,null,null,null,null,null,null,null,null,null,null,null,null,null,null,null,null,null,null,null,null,null,null,null,null,null,null,null,null,null,null,null,null,null,null,null,null,null,null,null,null,null,null,null,null,null,null,null,null,null,null,null,false,true,0,1740,{"$f":"SMALL(IF($BB$30:$BB$32<>BC1789,\"\",ROW($BB$30:$BB$32)),BD1789)-29","v":{"$error":"#NUM!"}},{"$error":"#NUM!"},{"$error":"#NUM!"},0,1740,{"$f":"SMALL(IF($BJ$30:$BJ$32<>BH1789,\"\",ROW($BJ$30:$BJ$32)),BI1789)-29","v":{"$error":"#NUM!"}},{"$error":"#NUM!"},{"$error":"#NUM!"},true,false,{"$error":"#NUM!"}]
[null,null,null,null,null,null,null,null,null,null,null,null,null,null,null,null,null,null,null,null,null,null,null,null,null,null,null,null,null,null,null,null,null,null,null,null,null,null,null,null,null,null,null,null,null,null,null,null,null,null,null,null,false,true,0,1744,{"$f":"SMALL(IF($BB$30:$BB$32<>BC1793,\"\",ROW($BB$30:$BB$32)),BD1793)-29","v":{"$error":"#NUM!"}},{"$error":"#NUM!"},{"$error":"#NUM!"},0,1744,{"$f":"SMALL(IF($BJ$30:$BJ$32<>BH1793,\"\",ROW($BJ$30:$BJ$32)),BI1793)-29","v":{"$error":"#NUM!"}},{"$error":"#NUM!"},{"$error":"#NUM!"},true,false,{"$error":"#NUM!"}]
[null,null,null,null,null,null,null,null,null,null,null,null,null,null,null,null,null,null,null,null,null,null,null,null,null,null,null,null,null,null,null,null,null,null,null,null,null,null,null,null,null,null,null,null,null,null,null,null,null,null,null,null,false,true,0,1747,{"$f":"SMALL(IF($BB$30:$BB$32<>BC1796,\"\",ROW($BB$30:$BB$32)),BD1796)-29","v":{"$error":"#NUM!"}},{"$error":"#NUM!"},{"$error":"#NUM!"},0,1747,{"$f":"SMALL(IF($BJ$30:$BJ$32<>BH1796,\"\",ROW($BJ$30:$BJ$32)),BI1796)-29","v":{"$error":"#NUM!"}},{"$error":"#NUM!"},{"$error":"#NUM!"},true,false,{"$error":"#NUM!"}]
[null,null,null,null,null,null,null,null,null,null,null,null,null,null,null,null,null,null,null,null,null,null,null,null,null,null,null,null,null,null,null,null,null,null,null,null,null,null,null,null,null,null,null,null,null,null,null,null,null,null,null,null,false,true,0,1749,{"$f":"SMALL(IF($BB$30:$BB$32<>BC1798,\"\",ROW($BB$30:$BB$32)),BD1798)-29","v":{"$error":"#NUM!"}},{"$error":"#NUM!"},{"$error":"#NUM!"},0,1749,{"$f":"SMALL(IF($BJ$30:$BJ$32<>BH1798,\"\",ROW($BJ$30:$BJ$32)),BI1798)-29","v":{"$error":"#NUM!"}},{"$error":"#NUM!"},{"$error":"#NUM!"},true,false,{"$error":"#NUM!"}]
[null,null,null,null,null,null,null,null,null,null,null,null,null,null,null,null,null,null,null,null,null,null,null,null,null,null,null,null,null,null,null,null,null,null,null,null,null,null,null,null,null,null,null,null,null,null,null,null,null,null,null,null,false,true,0,1753,{"$f":"SMALL(IF($BB$30:$BB$32<>BC1802,\"\",ROW($BB$30:$BB$32)),BD1802)-29","v":{"$error":"#NUM!"}},{"$error":"#NUM!"},{"$error":"#NUM!"},0,1753,{"$f":"SMALL(IF($BJ$30:$BJ$32<>BH1802,\"\",ROW($BJ$30:$BJ$32)),BI1802)-29","v":{"$error":"#NUM!"}},{"$error":"#NUM!"},{"$error":"#NUM!"},true,false,{"$error":"#NUM!"}]
[null,null,null,null,null,null,null,null,null,null,null,null,null,null,null,null,null,null,null,null,null,null,null,null,null,null,null,null,null,null,null,null,null,null,null,null,null,null,null,null,null,null,null,null,null,null,null,null,null,null,null,null,false,true,0,1754,{"$f":"SMALL(IF($BB$30:$BB$32<>BC1803,\"\",ROW($BB$30:$BB$32)),BD1803)-29","v":{"$error":"#NUM!"}},{"$error":"#NUM!"},{"$error":"#NUM!"},0,1754,{"$f":"SMALL(IF($BJ$30:$BJ$32<>BH1803,\"\",ROW($BJ$30:$BJ$32)),BI1803)-29","v":{"$error":"#NUM!"}},{"$error":"#NUM!"},{"$error":"#NUM!"},true,false,{"$error":"#NUM!"}]
[null,null,null,null,null,null,null,null,null,null,null,null,null,null,null,null,null,null,null,null,null,null,null,null,null,null,null,null,null,null,null,null,null,null,null,null,null,null,null,null,null,null,null,null,null,null,null,null,null,null,null,null,false,true,0,1758,{"$f":"SMALL(IF($BB$30:$BB$32<>BC1807,\"\",ROW($BB$30:$BB$32)),BD1807)-29","v":{"$error":"#NUM!"}},{"$error":"#NUM!"},{"$error":"#NUM!"},0,1758,{"$f":"SMALL(IF($BJ$30:$BJ$32<>BH1807,\"\",ROW($BJ$30:$BJ$32)),BI1807)-29","v":{"$error":"#NUM!"}},{"$error":"#NUM!"},{"$error":"#NUM!"},true,false,{"$error":"#NUM!"}]
[null,null,null,null,null,null,null,null,null,null,null,null,null,null,null,null,null,null,null,null,null,null,null,null,null,null,null,null,null,null,null,null,null,null,null,null,null,null,null,null,null,null,null,null,null,null,null,null,null,null,null,null,false,true,0,1759,{"$f":"SMALL(IF($BB$30:$BB$32<>BC1808,\"\",ROW($BB$30:$BB$32)),BD1808)-29","v":{"$error":"#NUM!"}},{"$error":"#NUM!"},{"$error":"#NUM!"},0,1759,{"$f":"SMALL(IF($BJ$30:$BJ$32<>BH1808,\"\",ROW($BJ$30:$BJ$32)),BI1808)-29","v":{"$error":"#NUM!"}},{"$error":"#NUM!"},{"$error":"#NUM!"},true,false,{"$error":"#NUM!"}]
[null,null,null,null,null,null,null,null,null,null,null,null,null,null,null,null,null,null,null,null,null,null,null,null,null,null,null,null,null,null,null,null,null,null,null,null,null,null,null,null,null,null,null,null,null,null,null,null,null,null,null,null,false,true,0,1763,{"$f":"SMALL(IF($BB$30:$BB$32<>BC1812,\"\",ROW($BB$30:$BB$32)),BD1812)-29","v":{"$error":"#NUM!"}},{"$error":"#NUM!"},{"$error":"#NUM!"},0,1763,{"$f":"SMALL(IF($BJ$30:$BJ$32<>BH1812,\"\",ROW($BJ$30:$BJ$32)),BI1812)-29","v":{"$error":"#NUM!"}},{"$error":"#NUM!"},{"$error":"#NUM!"},true,false,{"$error":"#NUM!"}]
[null,null,null,null,null,null,null,null,null,null,null,null,null,null,null,null,null,null,null,null,null,null,null,null,null,null,null,null,null,null,null,null,null,null,null,null,null,null,null,null,null,null,null,null,null,null,null,null,null,null,null,null,false,true,0,1765,{"$f":"SMALL(IF($BB$30:$BB$32<>BC1814,\"\",ROW($BB$30:$BB$32)),BD1814)-29","v":{"$error":"#NUM!"}},{"$error":"#NUM!"},{"$error":"#NUM!"},0,1765,{"$f":"SMALL(IF($BJ$30:$BJ$32<>BH1814,\"\",ROW($BJ$30:$BJ$32)),BI1814)-29","v":{"$error":"#NUM!"}},{"$error":"#NUM!"},{"$error":"#NUM!"},true,false,{"$error":"#NUM!"}]
[null,null,null,null,null,null,null,null,null,null,null,null,null,null,null,null,null,null,null,null,null,null,null,null,null,null,null,null,null,null,null,null,null,null,null,null,null,null,null,null,null,null,null,null,null,null,null,null,null,null,null,null,false,true,0,1768,{"$f":"SMALL(IF($BB$30:$BB$32<>BC1817,\"\",ROW($BB$30:$BB$32)),BD1817)-29","v":{"$error":"#NUM!"}},{"$error":"#NUM!"},{"$error":"#NUM!"},0,1768,{"$f":"SMALL(IF($BJ$30:$BJ$32<>BH1817,\"\",ROW($BJ$30:$BJ$32)),BI1817)-29","v":{"$error":"#NUM!"}},{"$error":"#NUM!"},{"$error":"#NUM!"},true,false,{"$error":"#NUM!"}]
[null,null,null,null,null,null,null,null,null,null,null,null,null,null,null,null,null,null,null,null,null,null,null,null,null,null,null,null,null,null,null,null,null,null,null,null,null,null,null,null,null,null,null,null,null,null,null,null,null,null,null,null,false,true,0,1770,{"$f":"SMALL(IF($BB$30:$BB$32<>BC1819,\"\",ROW($BB$30:$BB$32)),BD1819)-29","v":{"$error":"#NUM!"}},{"$error":"#NUM!"},{"$error":"#NUM!"},0,1770,{"$f":"SMALL(IF($BJ$30:$BJ$32<>BH1819,\"\",ROW($BJ$30:$BJ$32)),BI1819)-29","v":{"$error":"#NUM!"}},{"$error":"#NUM!"},{"$error":"#NUM!"},true,false,{"$error":"#NUM!"}]
[null,null,null,null,null,null,null,null,null,null,null,null,null,null,null,null,null,null,null,null,null,null,null,null,null,null,null,null,null,null,null,null,null,null,null,null,null,null,null,null,null,null,null,null,null,null,null,null,null,null,null,null,false,true,0,1774,{"$f":"SMALL(IF($BB$30:$BB$32<>BC1823,\"\",ROW($BB$30:$BB$32)),BD1823)-29","v":{"$error":"#NUM!"}},{"$error":"#NUM!"},{"$error":"#NUM!"},0,1774,{"$f":"SMALL(IF($BJ$30:$BJ$32<>BH1823,\"\",ROW($BJ$30:$BJ$32)),BI1823)-29","v":{"$error":"#NUM!"}},{"$error":"#NUM!"},{"$error":"#NUM!"},true,false,{"$error":"#NUM!"}]
[null,null,null,null,null,null,null,null,null,null,null,null,null,null,null,null,null,null,null,null,null,null,null,null,null,null,null,null,null,null,null,null,null,null,null,null,null,null,null,null,null,null,null,null,null,null,null,null,null,null,null,null,false,true,0,1777,{"$f":"SMALL(IF($BB$30:$BB$32<>BC1826,\"\",ROW($BB$30:$BB$32)),BD1826)-29","v":{"$error":"#NUM!"}},{"$error":"#NUM!"},{"$error":"#NUM!"},0,1777,{"$f":"SMALL(IF($BJ$30:$BJ$32<>BH1826,\"\",ROW($BJ$30:$BJ$32)),BI1826)-29","v":{"$error":"#NUM!"}},{"$error":"#NUM!"},{"$error":"#NUM!"},true,false,{"$error":"#NUM!"}]
[null,null,null,null,null,null,null,null,null,null,null,null,null,null,null,null,null,null,null,null,null,null,null,null,null,null,null,null,null,null,null,null,null,null,null,null,null,null,null,null,null,null,null,null,null,null,null,null,null,null,null,null,false,true,0,1778,{"$f":"SMALL(IF($BB$30:$BB$32<>BC1827,\"\",ROW($BB$30:$BB$32)),BD1827)-29","v":{"$error":"#NUM!"}},{"$error":"#NUM!"},{"$error":"#NUM!"},0,1778,{"$f":"SMALL(IF($BJ$30:$BJ$32<>BH1827,\"\",ROW($BJ$30:$BJ$32)),BI1827)-29","v":{"$error":"#NUM!"}},{"$error":"#NUM!"},{"$error":"#NUM!"},true,false,{"$error":"#NUM!"}]
[null,null,null,null,null,null,null,null,null,null,null,null,null,null,null,null,null,null,null,null,null,null,null,null,null,null,null,null,null,null,null,null,null,null,null,null,null,null,null,null,null,null,null,null,null,null,null,null,null,null,null,null,false,true,0,1779,{"$f":"SMALL(IF($BB$30:$BB$32<>BC1828,\"\",ROW($BB$30:$BB$32)),BD1828)-29","v":{"$error":"#NUM!"}},{"$error":"#NUM!"},{"$error":"#NUM!"},0,1779,{"$f":"SMALL(IF($BJ$30:$BJ$32<>BH1828,\"\",ROW($BJ$30:$BJ$32)),BI1828)-29","v":{"$error":"#NUM!"}},{"$error":"#NUM!"},{"$error":"#NUM!"},true,false,{"$error":"#NUM!"}]
[null,null,null,null,null,null,null,null,null,null,null,null,null,null,null,null,null,null,null,null,null,null,null,null,null,null,null,null,null,null,null,null,null,null,null,null,null,null,null,null,null,null,null,null,null,null,null,null,null,null,null,null,false,true,0,1780,{"$f":"SMALL(IF($BB$30:$BB$32<>BC1829,\"\",ROW($BB$30:$BB$32)),BD1829)-29","v":{"$error":"#NUM!"}},{"$error":"#NUM!"},{"$error":"#NUM!"},0,1780,{"$f":"SMALL(IF($BJ$30:$BJ$32<>BH1829,\"\",ROW($BJ$30:$BJ$32)),BI1829)-29","v":{"$error":"#NUM!"}},{"$error":"#NUM!"},{"$error":"#NUM!"},true,false,{"$error":"#NUM!"}]
[null,null,null,null,null,null,null,null,null,null,null,null,null,null,null,null,null,null,null,null,null,null,null,null,null,null,null,null,null,null,null,null,null,null,null,null,null,null,null,null,null,null,null,null,null,null,null,null,null,null,null,null,false,true,0,1781,{"$f":"SMALL(IF($BB$30:$BB$32<>BC1830,\"\",ROW($BB$30:$BB$32)),BD1830)-29","v":{"$error":"#NUM!"}},{"$error":"#NUM!"},{"$error":"#NUM!"},0,1781,{"$f":"SMALL(IF($BJ$30:$BJ$32<>BH1830,\"\",ROW($BJ$30:$BJ$32)),BI1830)-29","v":{"$error":"#NUM!"}},{"$error":"#NUM!"},{"$error":"#NUM!"},true,false,{"$error":"#NUM!"}]
[null,null,null,null,null,null,null,null,null,null,null,null,null,null,null,null,null,null,null,null,null,null,null,null,null,null,null,null,null,null,null,null,null,null,null,null,null,null,null,null,null,null,null,null,null,null,null,null,null,null,null,null,false,true,0,1782,{"$f":"SMALL(IF($BB$30:$BB$32<>BC1831,\"\",ROW($BB$30:$BB$32)),BD1831)-29","v":{"$error":"#NUM!"}},{"$error":"#NUM!"},{"$error":"#NUM!"},0,1782,{"$f":"SMALL(IF($BJ$30:$BJ$32<>BH1831,\"\",ROW($BJ$30:$BJ$32)),BI1831)-29","v":{"$error":"#NUM!"}},{"$error":"#NUM!"},{"$error":"#NUM!"},true,false,{"$error":"#NUM!"}]
[null,null,null,null,null,null,null,null,null,null,null,null,null,null,null,null,null,null,null,null,null,null,null,null,null,null,null,null,null,null,null,null,null,null,null,null,null,null,null,null,null,null,null,null,null,null,null,null,null,null,null,null,false,true,0,1783,{"$f":"SMALL(IF($BB$30:$BB$32<>BC1832,\"\",ROW($BB$30:$BB$32)),BD1832)-29","v":{"$error":"#NUM!"}},{"$error":"#NUM!"},{"$error":"#NUM!"},0,1783,{"$f":"SMALL(IF($BJ$30:$BJ$32<>BH1832,\"\",ROW($BJ$30:$BJ$32)),BI1832)-29","v":{"$error":"#NUM!"}},{"$error":"#NUM!"},{"$error":"#NUM!"},true,false,{"$error":"#NUM!"}]
[null,null,null,null,null,null,null,null,null,null,null,null,null,null,null,null,null,null,null,null,null,null,null,null,null,null,null,null,null,null,null,null,null,null,null,null,null,null,null,null,null,null,null,null,null,null,null,null,null,null,null,null,false,true,0,1784,{"$f":"SMALL(IF($BB$30:$BB$32<>BC1833,\"\",ROW($BB$30:$BB$32)),BD1833)-29","v":{"$error":"#NUM!"}},{"$error":"#NUM!"},{"$error":"#NUM!"},0,1784,{"$f":"SMALL(IF($BJ$30:$BJ$32<>BH1833,\"\",ROW($BJ$30:$BJ$32)),BI1833)-29","v":{"$error":"#NUM!"}},{"$error":"#NUM!"},{"$error":"#NUM!"},true,false,{"$error":"#NUM!"}]
[null,null,null,null,null,null,null,null,null,null,null,null,null,null,null,null,null,null,null,null,null,null,null,null,null,null,null,null,null,null,null,null,null,null,null,null,null,null,null,null,null,null,null,null,null,null,null,null,null,null,null,null,false,true,0,1785,{"$f":"SMALL(IF($BB$30:$BB$32<>BC1834,\"\",ROW($BB$30:$BB$32)),BD1834)-29","v":{"$error":"#NUM!"}},{"$error":"#NUM!"},{"$error":"#NUM!"},0,1785,{"$f":"SMALL(IF($BJ$30:$BJ$32<>BH1834,\"\",ROW($BJ$30:$BJ$32)),BI1834)-29","v":{"$error":"#NUM!"}},{"$error":"#NUM!"},{"$error":"#NUM!"},true,false,{"$error":"#NUM!"}]
[null,null,null,null,null,null,null,null,null,null,null,null,null,null,null,null,null,null,null,null,null,null,null,null,null,null,null,null,null,null,null,null,null,null,null,null,null,null,null,null,null,null,null,null,null,null,null,null,null,null,null,null,false,true,0,1786,{"$f":"SMALL(IF($BB$30:$BB$32<>BC1835,\"\",ROW($BB$30:$BB$32)),BD1835)-29","v":{"$error":"#NUM!"}},{"$error":"#NUM!"},{"$error":"#NUM!"},0,1786,{"$f":"SMALL(IF($BJ$30:$BJ$32<>BH1835,\"\",ROW($BJ$30:$BJ$32)),BI1835)-29","v":{"$error":"#NUM!"}},{"$error":"#NUM!"},{"$error":"#NUM!"},true,false,{"$error":"#NUM!"}]
[null,null,null,null,null,null,null,null,null,null,null,null,null,null,null,null,null,null,null,null,null,null,null,null,null,null,null,null,null,null,null,null,null,null,null,null,null,null,null,null,null,null,null,null,null,null,null,null,null,null,null,null,false,true,0,1787,{"$f":"SMALL(IF($BB$30:$BB$32<>BC1836,\"\",ROW($BB$30:$BB$32)),BD1836)-29","v":{"$error":"#NUM!"}},{"$error":"#NUM!"},{"$error":"#NUM!"},0,1787,{"$f":"SMALL(IF($BJ$30:$BJ$32<>BH1836,\"\",ROW($BJ$30:$BJ$32)),BI1836)-29","v":{"$error":"#NUM!"}},{"$error":"#NUM!"},{"$error":"#NUM!"},true,false,{"$error":"#NUM!"}]
[null,null,null,null,null,null,null,null,null,null,null,null,null,null,null,null,null,null,null,null,null,null,null,null,null,null,null,null,null,null,null,null,null,null,null,null,null,null,null,null,null,null,null,null,null,null,null,null,null,null,null,null,false,true,0,1788,{"$f":"SMALL(IF($BB$30:$BB$32<>BC1837,\"\",ROW($BB$30:$BB$32)),BD1837)-29","v":{"$error":"#NUM!"}},{"$error":"#NUM!"},{"$error":"#NUM!"},0,1788,{"$f":"SMALL(IF($BJ$30:$BJ$32<>BH1837,\"\",ROW($BJ$30:$BJ$32)),BI1837)-29","v":{"$error":"#NUM!"}},{"$error":"#NUM!"},{"$error":"#NUM!"},true,false,{"$error":"#NUM!"}]
[null,null,null,null,null,null,null,null,null,null,null,null,null,null,null,null,null,null,null,null,null,null,null,null,null,null,null,null,null,null,null,null,null,null,null,null,null,null,null,null,null,null,null,null,null,null,null,null,null,null,null,null,false,true,0,1789,{"$f":"SMALL(IF($BB$30:$BB$32<>BC1838,\"\",ROW($BB$30:$BB$32)),BD1838)-29","v":{"$error":"#NUM!"}},{"$error":"#NUM!"},{"$error":"#NUM!"},0,1789,{"$f":"SMALL(IF($BJ$30:$BJ$32<>BH1838,\"\",ROW($BJ$30:$BJ$32)),BI1838)-29","v":{"$error":"#NUM!"}},{"$error":"#NUM!"},{"$error":"#NUM!"},true,false,{"$error":"#NUM!"}]
[null,null,null,null,null,null,null,null,null,null,null,null,null,null,null,null,null,null,null,null,null,null,null,null,null,null,null,null,null,null,null,null,null,null,null,null,null,null,null,null,null,null,null,null,null,null,null,null,null,null,null,null,false,true,0,1790,{"$f":"SMALL(IF($BB$30:$BB$32<>BC1839,\"\",ROW($BB$30:$BB$32)),BD1839)-29","v":{"$error":"#NUM!"}},{"$error":"#NUM!"},{"$error":"#NUM!"},0,1790,{"$f":"SMALL(IF($BJ$30:$BJ$32<>BH1839,\"\",ROW($BJ$30:$BJ$32)),BI1839)-29","v":{"$error":"#NUM!"}},{"$error":"#NUM!"},{"$error":"#NUM!"},true,false,{"$error":"#NUM!"}]
[null,null,null,null,null,null,null,null,null,null,null,null,null,null,null,null,null,null,null,null,null,null,null,null,null,null,null,null,null,null,null,null,null,null,null,null,null,null,null,null,null,null,null,null,null,null,null,null,null,null,null,null,false,true,0,1791,{"$f":"SMALL(IF($BB$30:$BB$32<>BC1840,\"\",ROW($BB$30:$BB$32)),BD1840)-29","v":{"$error":"#NUM!"}},{"$error":"#NUM!"},{"$error":"#NUM!"},0,1791,{"$f":"SMALL(IF($BJ$30:$BJ$32<>BH1840,\"\",ROW($BJ$30:$BJ$32)),BI1840)-29","v":{"$error":"#NUM!"}},{"$error":"#NUM!"},{"$error":"#NUM!"},true,false,{"$error":"#NUM!"}]
[null,null,null,null,null,null,null,null,null,null,null,null,null,null,null,null,null,null,null,null,null,null,null,null,null,null,null,null,null,null,null,null,null,null,null,null,null,null,null,null,null,null,null,null,null,null,null,null,null,null,null,null,false,true,0,1792,{"$f":"SMALL(IF($BB$30:$BB$32<>BC1841,\"\",ROW($BB$30:$BB$32)),BD1841)-29","v":{"$error":"#NUM!"}},{"$error":"#NUM!"},{"$error":"#NUM!"},0,1792,{"$f":"SMALL(IF($BJ$30:$BJ$32<>BH1841,\"\",ROW($BJ$30:$BJ$32)),BI1841)-29","v":{"$error":"#NUM!"}},{"$error":"#NUM!"},{"$error":"#NUM!"},true,false,{"$error":"#NUM!"}]
[null,null,null,null,null,null,null,null,null,null,null,null,null,null,null,null,null,null,null,null,null,null,null,null,null,null,null,null,null,null,null,null,null,null,null,null,null,null,null,null,null,null,null,null,null,null,null,null,null,null,null,null,false,true,{"$f":"MIN($BB$29:$BB$32)","v":0},1793,{"$f":"SMALL(IF($BB$30:$BB$32<>BC1842,\"\",ROW($BB$30:$BB$32)),BD1842)-29","v":{"$error":"#NUM!"}},{"$f":"INDEX($BD$30:$BD$32,BE1842)","v":{"$error":"#NUM!"}},{"$f":"INDEX($BG$30:$BG$32,BE1842)","v":{"$error":"#NUM!"}},{"$f":"MAX($BJ$29:$BJ$32)","v":0},1793,{"$f":"SMALL(IF($BJ$30:$BJ$32<>BH1842,\"\",ROW($BJ$30:$BJ$32)),BI1842)-29","v":{"$error":"#NUM!"}},{"$f":"INDEX($BL$30:$BL$32,BJ1842)","v":{"$error":"#NUM!"}},{"$f":"INDEX($BO$30:$BO$32,BJ1842)","v":{"$error":"#NUM!"}},true,false,{"$error":"#NUM!"}]
[null,null,null,null,null,null,null,null,null,null,null,null,null,null,null,null,null,null,null,null,null,null,null,null,null,null,null,null,null,null,null,null,null,null,null,null,null,null,null,null,null,null,null,null,null,null,null,null,null,null,null,null,{"$f":"IF(BB1843=FALSE,BF1843)","v":false},{"$f":"ISERR(BF1843)","v":true},0,1794,{"$f":"SMALL(IF($BB$30:$BB$32<>BC1843,\"\",ROW($BB$30:$BB$32)),BD1843)-29","v":{"$error":"#NUM!"}},{"$error":"#NUM!"},{"$error":"#NUM!"},0,1794,{"$f":"SMALL(IF($BJ$30:$BJ$32<>BH1843,\"\",ROW($BJ$30:$BJ$32)),BI1843)-29","v":{"$error":"#NUM!"}},{"$error":"#NUM!"},{"$error":"#NUM!"},{"$f":"ISERR(BK1843)","v":true},{"$f":"IF(BM1843=FALSE,BK1843)","v":false},{"$f":"BL1843","v":{"$error":"#NUM!"}}]
[null,null,null,null,null,null,null,null,null,null,null,null,null,null,null,null,null,null,null,null,null,null,null,null,null,null,null,null,null,null,null,null,null,null,null,null,null,null,null,null,null,null,null,null,null,null,null,null,null,null,null,null,false,true,0,1795,{"$f":"SMALL(IF($BB$30:$BB$32<>BC1844,\"\",ROW($BB$30:$BB$32)),BD1844)-29","v":{"$error":"#NUM!"}},{"$error":"#NUM!"},{"$error":"#NUM!"},0,1795,{"$f":"SMALL(IF($BJ$30:$BJ$32<>BH1844,\"\",ROW($BJ$30:$BJ$32)),BI1844)-29","v":{"$error":"#NUM!"}},{"$error":"#NUM!"},{"$error":"#NUM!"},true,false,{"$error":"#NUM!"}]
[null,null,null,null,null,null,null,null,null,null,null,null,null,null,null,null,null,null,null,null,null,null,null,null,null,null,null,null,null,null,null,null,null,null,null,null,null,null,null,null,null,null,null,null,null,null,null,null,null,null,null,null,false,true,0,1796,{"$f":"SMALL(IF($BB$30:$BB$32<>BC1845,\"\",ROW($BB$30:$BB$32)),BD1845)-29","v":{"$error":"#NUM!"}},{"$error":"#NUM!"},{"$error":"#NUM!"},0,1796,{"$f":"SMALL(IF($BJ$30:$BJ$32<>BH1845,\"\",ROW($BJ$30:$BJ$32)),BI1845)-29","v":{"$error":"#NUM!"}},{"$error":"#NUM!"},{"$error":"#NUM!"},true,false,{"$error":"#NUM!"}]
[null,null,null,null,null,null,null,null,null,null,null,null,null,null,null,null,null,null,null,null,null,null,null,null,null,null,null,null,null,null,null,null,null,null,null,null,null,null,null,null,null,null,null,null,null,null,null,null,null,null,null,null,false,true,0,1797,{"$f":"SMALL(IF($BB$30:$BB$32<>BC1846,\"\",ROW($BB$30:$BB$32)),BD1846)-29","v":{"$error":"#NUM!"}},{"$error":"#NUM!"},{"$error":"#NUM!"},0,1797,{"$f":"SMALL(IF($BJ$30:$BJ$32<>BH1846,\"\",ROW($BJ$30:$BJ$32)),BI1846)-29","v":{"$error":"#NUM!"}},{"$error":"#NUM!"},{"$error":"#NUM!"},true,false,{"$error":"#NUM!"}]
[null,null,null,null,null,null,null,null,null,null,null,null,null,null,null,null,null,null,null,null,null,null,null,null,null,null,null,null,null,null,null,null,null,null,null,null,null,null,null,null,null,null,null,null,null,null,null,null,null,null,null,null,false,true,0,1798,{"$f":"SMALL(IF($BB$30:$BB$32<>BC1847,\"\",ROW($BB$30:$BB$32)),BD1847)-29","v":{"$error":"#NUM!"}},{"$error":"#NUM!"},{"$error":"#NUM!"},0,1798,{"$f":"SMALL(IF($BJ$30:$BJ$32<>BH1847,\"\",ROW($BJ$30:$BJ$32)),BI1847)-29","v":{"$error":"#NUM!"}},{"$error":"#NUM!"},{"$error":"#NUM!"},true,false,{"$error":"#NUM!"}]
[null,null,null,null,null,null,null,null,null,null,null,null,null,null,null,null,null,null,null,null,null,null,null,null,null,null,null,null,null,null,null,null,null,null,null,null,null,null,null,null,null,null,null,null,null,null,null,null,null,null,null,null,false,true,0,1799,{"$f":"SMALL(IF($BB$30:$BB$32<>BC1848,\"\",ROW($BB$30:$BB$32)),BD1848)-29","v":{"$error":"#NUM!"}},{"$error":"#NUM!"},{"$error":"#NUM!"},0,1799,{"$f":"SMALL(IF($BJ$30:$BJ$32<>BH1848,\"\",ROW($BJ$30:$BJ$32)),BI1848)-29","v":{"$error":"#NUM!"}},{"$error":"#NUM!"},{"$error":"#NUM!"},true,false,{"$error":"#NUM!"}]
[null,null,null,null,null,null,null,null,null,null,null,null,null,null,null,null,null,null,null,null,null,null,null,null,null,null,null,null,null,null,null,null,null,null,null,null,null,null,null,null,null,null,null,null,null,null,null,null,null,null,null,null,false,true,0,1800,{"$f":"SMALL(IF($BB$30:$BB$32<>BC1849,\"\",ROW($BB$30:$BB$32)),BD1849)-29","v":{"$error":"#NUM!"}},{"$error":"#NUM!"},{"$error":"#NUM!"},0,1800,{"$f":"SMALL(IF($BJ$30:$BJ$32<>BH1849,\"\",ROW($BJ$30:$BJ$32)),BI1849)-29","v":{"$error":"#NUM!"}},{"$error":"#NUM!"},{"$error":"#NUM!"},true,false,{"$error":"#NUM!"}]
[null,null,null,null,null,null,null,null,null,null,null,null,null,null,null,null,null,null,null,null,null,null,null,null,null,null,null,null,null,null,null,null,null,null,null,null,null,null,null,null,null,null,null,null,null,null,null,null,null,null,null,null,false,true,0,1801,{"$f":"SMALL(IF($BB$30:$BB$32<>BC1850,\"\",ROW($BB$30:$BB$32)),BD1850)-29","v":{"$error":"#NUM!"}},{"$error":"#NUM!"},{"$error":"#NUM!"},0,1801,{"$f":"SMALL(IF($BJ$30:$BJ$32<>BH1850,\"\",ROW($BJ$30:$BJ$32)),BI1850)-29","v":{"$error":"#NUM!"}},{"$error":"#NUM!"},{"$error":"#NUM!"},true,false,{"$error":"#NUM!"}]
[null,null,null,null,null,null,null,null,null,null,null,null,null,null,null,null,null,null,null,null,null,null,null,null,null,null,null,null,null,null,null,null,null,null,null,null,null,null,null,null,null,null,null,null,null,null,null,null,null,null,null,null,false,true,0,1802,{"$f":"SMALL(IF($BB$30:$BB$32<>BC1851,\"\",ROW($BB$30:$BB$32)),BD1851)-29","v":{"$error":"#NUM!"}},{"$error":"#NUM!"},{"$error":"#NUM!"},0,1802,{"$f":"SMALL(IF($BJ$30:$BJ$32<>BH1851,\"\",ROW($BJ$30:$BJ$32)),BI1851)-29","v":{"$error":"#NUM!"}},{"$error":"#NUM!"},{"$error":"#NUM!"},true,false,{"$error":"#NUM!"}]
[null,null,null,null,null,null,null,null,null,null,null,null,null,null,null,null,null,null,null,null,null,null,null,null,null,null,null,null,null,null,null,null,null,null,null,null,null,null,null,null,null,null,null,null,null,null,null,null,null,null,null,null,false,true,0,1803,{"$f":"SMALL(IF($BB$30:$BB$32<>BC1852,\"\",ROW($BB$30:$BB$32)),BD1852)-29","v":{"$error":"#NUM!"}},{"$error":"#NUM!"},{"$error":"#NUM!"},0,1803,{"$f":"SMALL(IF($BJ$30:$BJ$32<>BH1852,\"\",ROW($BJ$30:$BJ$32)),BI1852)-29","v":{"$error":"#NUM!"}},{"$error":"#NUM!"},{"$error":"#NUM!"},true,false,{"$error":"#NUM!"}]
[null,null,null,null,null,null,null,null,null,null,null,null,null,null,null,null,null,null,null,null,null,null,null,null,null,null,null,null,null,null,null,null,null,null,null,null,null,null,null,null,null,null,null,null,null,null,null,null,null,null,null,null,false,true,0,1804,{"$f":"SMALL(IF($BB$30:$BB$32<>BC1853,\"\",ROW($BB$30:$BB$32)),BD1853)-29","v":{"$error":"#NUM!"}},{"$error":"#NUM!"},{"$error":"#NUM!"},0,1804,{"$f":"SMALL(IF($BJ$30:$BJ$32<>BH1853,\"\",ROW($BJ$30:$BJ$32)),BI1853)-29","v":{"$error":"#NUM!"}},{"$error":"#NUM!"},{"$error":"#NUM!"},true,false,{"$error":"#NUM!"}]
[null,null,null,null,null,null,null,null,null,null,null,null,null,null,null,null,null,null,null,null,null,null,null,null,null,null,null,null,null,null,null,null,null,null,null,null,null,null,null,null,null,null,null,null,null,null,null,null,null,null,null,null,false,true,0,1805,{"$f":"SMALL(IF($BB$30:$BB$32<>BC1854,\"\",ROW($BB$30:$BB$32)),BD1854)-29","v":{"$error":"#NUM!"}},{"$error":"#NUM!"},{"$error":"#NUM!"},0,1805,{"$f":"SMALL(IF($BJ$30:$BJ$32<>BH1854,\"\",ROW($BJ$30:$BJ$32)),BI1854)-29","v":{"$error":"#NUM!"}},{"$error":"#NUM!"},{"$error":"#NUM!"},true,false,{"$error":"#NUM!"}]
[null,null,null,null,null,null,null,null,null,null,null,null,null,null,null,null,null,null,null,null,null,null,null,null,null,null,null,null,null,null,null,null,null,null,null,null,null,null,null,null,null,null,null,null,null,null,null,null,null,null,null,null,false,true,0,1806,{"$f":"SMALL(IF($BB$30:$BB$32<>BC1855,\"\",ROW($BB$30:$BB$32)),BD1855)-29","v":{"$error":"#NUM!"}},{"$error":"#NUM!"},{"$error":"#NUM!"},0,1806,{"$f":"SMALL(IF($BJ$30:$BJ$32<>BH1855,\"\",ROW($BJ$30:$BJ$32)),BI1855)-29","v":{"$error":"#NUM!"}},{"$error":"#NUM!"},{"$error":"#NUM!"},true,false,{"$error":"#NUM!"}]
[null,null,null,null,null,null,null,null,null,null,null,null,null,null,null,null,null,null,null,null,null,null,null,null,null,null,null,null,null,null,null,null,null,null,null,null,null,null,null,null,null,null,null,null,null,null,null,null,null,null,null,null,false,true,0,1807,{"$f":"SMALL(IF($BB$30:$BB$32<>BC1856,\"\",ROW($BB$30:$BB$32)),BD1856)-29","v":{"$error":"#NUM!"}},{"$error":"#NUM!"},{"$error":"#NUM!"},0,1807,{"$f":"SMALL(IF($BJ$30:$BJ$32<>BH1856,\"\",ROW($BJ$30:$BJ$32)),BI1856)-29","v":{"$error":"#NUM!"}},{"$error":"#NUM!"},{"$error":"#NUM!"},true,false,{"$error":"#NUM!"}]
[null,null,null,null,null,null,null,null,null,null,null,null,null,null,null,null,null,null,null,null,null,null,null,null,null,null,null,null,null,null,null,null,null,null,null,null,null,null,null,null,null,null,null,null,null,null,null,null,null,null,null,null,false,true,0,1808,{"$f":"SMALL(IF($BB$30:$BB$32<>BC1857,\"\",ROW($BB$30:$BB$32)),BD1857)-29","v":{"$error":"#NUM!"}},{"$error":"#NUM!"},{"$error":"#NUM!"},0,1808,{"$f":"SMALL(IF($BJ$30:$BJ$32<>BH1857,\"\",ROW($BJ$30:$BJ$32)),BI1857)-29","v":{"$error":"#NUM!"}},{"$error":"#NUM!"},{"$error":"#NUM!"},true,false,{"$error":"#NUM!"}]
[null,null,null,null,null,null,null,null,null,null,null,null,null,null,null,null,null,null,null,null,null,null,null,null,null,null,null,null,null,null,null,null,null,null,null,null,null,null,null,null,null,null,null,null,null,null,null,null,null,null,null,null,false,true,0,1809,{"$f":"SMALL(IF($BB$30:$BB$32<>BC1858,\"\",ROW($BB$30:$BB$32)),BD1858)-29","v":{"$error":"#NUM!"}},{"$error":"#NUM!"},{"$error":"#NUM!"},0,1809,{"$f":"SMALL(IF($BJ$30:$BJ$32<>BH1858,\"\",ROW($BJ$30:$BJ$32)),BI1858)-29","v":{"$error":"#NUM!"}},{"$error":"#NUM!"},{"$error":"#NUM!"},true,false,{"$error":"#NUM!"}]
[null,null,null,null,null,null,null,null,null,null,null,null,null,null,null,null,null,null,null,null,null,null,null,null,null,null,null,null,null,null,null,null,null,null,null,null,null,null,null,null,null,null,null,null,null,null,null,null,null,null,null,null,false,true,0,1810,{"$f":"SMALL(IF($BB$30:$BB$32<>BC1859,\"\",ROW($BB$30:$BB$32)),BD1859)-29","v":{"$error":"#NUM!"}},{"$error":"#NUM!"},{"$error":"#NUM!"},0,1810,{"$f":"SMALL(IF($BJ$30:$BJ$32<>BH1859,\"\",ROW($BJ$30:$BJ$32)),BI1859)-29","v":{"$error":"#NUM!"}},{"$error":"#NUM!"},{"$error":"#NUM!"},true,false,{"$error":"#NUM!"}]
[null,null,null,null,null,null,null,null,null,null,null,null,null,null,null,null,null,null,null,null,null,null,null,null,null,null,null,null,null,null,null,null,null,null,null,null,null,null,null,null,null,null,null,null,null,null,null,null,null,null,null,null,false,true,0,1811,{"$f":"SMALL(IF($BB$30:$BB$32<>BC1860,\"\",ROW($BB$30:$BB$32)),BD1860)-29","v":{"$error":"#NUM!"}},{"$error":"#NUM!"},{"$error":"#NUM!"},0,1811,{"$f":"SMALL(IF($BJ$30:$BJ$32<>BH1860,\"\",ROW($BJ$30:$BJ$32)),BI1860)-29","v":{"$error":"#NUM!"}},{"$error":"#NUM!"},{"$error":"#NUM!"},true,false,{"$error":"#NUM!"}]
[null,null,null,null,null,null,null,null,null,null,null,null,null,null,null,null,null,null,null,null,null,null,null,null,null,null,null,null,null,null,null,null,null,null,null,null,null,null,null,null,null,null,null,null,null,null,null,null,null,null,null,null,false,true,0,1812,{"$f":"SMALL(IF($BB$30:$BB$32<>BC1861,\"\",ROW($BB$30:$BB$32)),BD1861)-29","v":{"$error":"#NUM!"}},{"$error":"#NUM!"},{"$error":"#NUM!"},0,1812,{"$f":"SMALL(IF($BJ$30:$BJ$32<>BH1861,\"\",ROW($BJ$30:$BJ$32)),BI1861)-29","v":{"$error":"#NUM!"}},{"$error":"#NUM!"},{"$error":"#NUM!"},true,false,{"$error":"#NUM!"}]
[null,null,null,null,null,null,null,null,null,null,null,null,null,null,null,null,null,null,null,null,null,null,null,null,null,null,null,null,null,null,null,null,null,null,null,null,null,null,null,null,null,null,null,null,null,null,null,null,null,null,null,null,false,true,0,1813,{"$f":"SMALL(IF($BB$30:$BB$32<>BC1862,\"\",ROW($BB$30:$BB$32)),BD1862)-29","v":{"$error":"#NUM!"}},{"$error":"#NUM!"},{"$error":"#NUM!"},0,1813,{"$f":"SMALL(IF($BJ$30:$BJ$32<>BH1862,\"\",ROW($BJ$30:$BJ$32)),BI1862)-29","v":{"$error":"#NUM!"}},{"$error":"#NUM!"},{"$error":"#NUM!"},true,false,{"$error":"#NUM!"}]
[null,null,null,null,null,null,null,null,null,null,null,null,null,null,null,null,null,null,null,null,null,null,null,null,null,null,null,null,null,null,null,null,null,null,null,null,null,null,null,null,null,null,null,null,null,null,null,null,null,null,null,null,false,true,0,1814,{"$f":"SMALL(IF($BB$30:$BB$32<>BC1863,\"\",ROW($BB$30:$BB$32)),BD1863)-29","v":{"$error":"#NUM!"}},{"$error":"#NUM!"},{"$error":"#NUM!"},0,1814,{"$f":"SMALL(IF($BJ$30:$BJ$32<>BH1863,\"\",ROW($BJ$30:$BJ$32)),BI1863)-29","v":{"$error":"#NUM!"}},{"$error":"#NUM!"},{"$error":"#NUM!"},true,false,{"$error":"#NUM!"}]
[null,null,null,null,null,null,null,null,null,null,null,null,null,null,null,null,null,null,null,null,null,null,null,null,null,null,null,null,null,null,null,null,null,null,null,null,null,null,null,null,null,null,null,null,null,null,null,null,null,null,null,null,false,true,0,1815,{"$f":"SMALL(IF($BB$30:$BB$32<>BC1864,\"\",ROW($BB$30:$BB$32)),BD1864)-29","v":{"$error":"#NUM!"}},{"$error":"#NUM!"},{"$error":"#NUM!"},0,1815,{"$f":"SMALL(IF($BJ$30:$BJ$32<>BH1864,\"\",ROW($BJ$30:$BJ$32)),BI1864)-29","v":{"$error":"#NUM!"}},{"$error":"#NUM!"},{"$error":"#NUM!"},true,false,{"$error":"#NUM!"}]
[null,null,null,null,null,null,null,null,null,null,null,null,null,null,null,null,null,null,null,null,null,null,null,null,null,null,null,null,null,null,null,null,null,null,null,null,null,null,null,null,null,null,null,null,null,null,null,null,null,null,null,null,false,true,0,1816,{"$f":"SMALL(IF($BB$30:$BB$32<>BC1865,\"\",ROW($BB$30:$BB$32)),BD1865)-29","v":{"$error":"#NUM!"}},{"$error":"#NUM!"},{"$error":"#NUM!"},0,1816,{"$f":"SMALL(IF($BJ$30:$BJ$32<>BH1865,\"\",ROW($BJ$30:$BJ$32)),BI1865)-29","v":{"$error":"#NUM!"}},{"$error":"#NUM!"},{"$error":"#NUM!"},true,false,{"$error":"#NUM!"}]
[null,null,null,null,null,null,null,null,null,null,null,null,null,null,null,null,null,null,null,null,null,null,null,null,null,null,null,null,null,null,null,null,null,null,null,null,null,null,null,null,null,null,null,null,null,null,null,null,null,null,null,null,false,true,0,1817,{"$f":"SMALL(IF($BB$30:$BB$32<>BC1866,\"\",ROW($BB$30:$BB$32)),BD1866)-29","v":{"$error":"#NUM!"}},{"$error":"#NUM!"},{"$error":"#NUM!"},0,1817,{"$f":"SMALL(IF($BJ$30:$BJ$32<>BH1866,\"\",ROW($BJ$30:$BJ$32)),BI1866)-29","v":{"$error":"#NUM!"}},{"$error":"#NUM!"},{"$error":"#NUM!"},true,false,{"$error":"#NUM!"}]
[null,null,null,null,null,null,null,null,null,null,null,null,null,null,null,null,null,null,null,null,null,null,null,null,null,null,null,null,null,null,null,null,null,null,null,null,null,null,null,null,null,null,null,null,null,null,null,null,null,null,null,null,false,true,0,1818,{"$f":"SMALL(IF($BB$30:$BB$32<>BC1867,\"\",ROW($BB$30:$BB$32)),BD1867)-29","v":{"$error":"#NUM!"}},{"$error":"#NUM!"},{"$error":"#NUM!"},0,1818,{"$f":"SMALL(IF($BJ$30:$BJ$32<>BH1867,\"\",ROW($BJ$30:$BJ$32)),BI1867)-29","v":{"$error":"#NUM!"}},{"$error":"#NUM!"},{"$error":"#NUM!"},true,false,{"$error":"#NUM!"}]
[null,null,null,null,null,null,null,null,null,null,null,null,null,null,null,null,null,null,null,null,null,null,null,null,null,null,null,null,null,null,null,null,null,null,null,null,null,null,null,null,null,null,null,null,null,null,null,null,null,null,null,null,false,true,0,1819,{"$f":"SMALL(IF($BB$30:$BB$32<>BC1868,\"\",ROW($BB$30:$BB$32)),BD1868)-29","v":{"$error":"#NUM!"}},{"$error":"#NUM!"},{"$error":"#NUM!"},0,1819,{"$f":"SMALL(IF($BJ$30:$BJ$32<>BH1868,\"\",ROW($BJ$30:$BJ$32)),BI1868)-29","v":{"$error":"#NUM!"}},{"$error":"#NUM!"},{"$error":"#NUM!"},true,false,{"$error":"#NUM!"}]
[null,null,null,null,null,null,null,null,null,null,null,null,null,null,null,null,null,null,null,null,null,null,null,null,null,null,null,null,null,null,null,null,null,null,null,null,null,null,null,null,null,null,null,null,null,null,null,null,null,null,null,null,false,true,0,1820,{"$f":"SMALL(IF($BB$30:$BB$32<>BC1869,\"\",ROW($BB$30:$BB$32)),BD1869)-29","v":{"$error":"#NUM!"}},{"$error":"#NUM!"},{"$error":"#NUM!"},0,1820,{"$f":"SMALL(IF($BJ$30:$BJ$32<>BH1869,\"\",ROW($BJ$30:$BJ$32)),BI1869)-29","v":{"$error":"#NUM!"}},{"$error":"#NUM!"},{"$error":"#NUM!"},true,false,{"$error":"#NUM!"}]
[null,null,null,null,null,null,null,null,null,null,null,null,null,null,null,null,null,null,null,null,null,null,null,null,null,null,null,null,null,null,null,null,null,null,null,null,null,null,null,null,null,null,null,null,null,null,null,null,null,null,null,null,false,true,0,1821,{"$f":"SMALL(IF($BB$30:$BB$32<>BC1870,\"\",ROW($BB$30:$BB$32)),BD1870)-29","v":{"$error":"#NUM!"}},{"$error":"#NUM!"},{"$error":"#NUM!"},0,1821,{"$f":"SMALL(IF($BJ$30:$BJ$32<>BH1870,\"\",ROW($BJ$30:$BJ$32)),BI1870)-29","v":{"$error":"#NUM!"}},{"$error":"#NUM!"},{"$error":"#NUM!"},true,false,{"$error":"#NUM!"}]
[null,null,null,null,null,null,null,null,null,null,null,null,null,null,null,null,null,null,null,null,null,null,null,null,null,null,null,null,null,null,null,null,null,null,null,null,null,null,null,null,null,null,null,null,null,null,null,null,null,null,null,null,false,true,0,1822,{"$f":"SMALL(IF($BB$30:$BB$32<>BC1871,\"\",ROW($BB$30:$BB$32)),BD1871)-29","v":{"$error":"#NUM!"}},{"$error":"#NUM!"},{"$error":"#NUM!"},0,1822,{"$f":"SMALL(IF($BJ$30:$BJ$32<>BH1871,\"\",ROW($BJ$30:$BJ$32)),BI1871)-29","v":{"$error":"#NUM!"}},{"$error":"#NUM!"},{"$error":"#NUM!"},true,false,{"$error":"#NUM!"}]
[null,null,null,null,null,null,null,null,null,null,null,null,null,null,null,null,null,null,null,null,null,null,null,null,null,null,null,null,null,null,null,null,null,null,null,null,null,null,null,null,null,null,null,null,null,null,null,null,null,null,null,null,false,true,0,1823,{"$f":"SMALL(IF($BB$30:$BB$32<>BC1872,\"\",ROW($BB$30:$BB$32)),BD1872)-29","v":{"$error":"#NUM!"}},{"$error":"#NUM!"},{"$error":"#NUM!"},0,1823,{"$f":"SMALL(IF($BJ$30:$BJ$32<>BH1872,\"\",ROW($BJ$30:$BJ$32)),BI1872)-29","v":{"$error":"#NUM!"}},{"$error":"#NUM!"},{"$error":"#NUM!"},true,false,{"$error":"#NUM!"}]
[null,null,null,null,null,null,null,null,null,null,null,null,null,null,null,null,null,null,null,null,null,null,null,null,null,null,null,null,null,null,null,null,null,null,null,null,null,null,null,null,null,null,null,null,null,null,null,null,null,null,null,null,false,true,0,1824,{"$f":"SMALL(IF($BB$30:$BB$32<>BC1873,\"\",ROW($BB$30:$BB$32)),BD1873)-29","v":{"$error":"#NUM!"}},{"$error":"#NUM!"},{"$error":"#NUM!"},0,1824,{"$f":"SMALL(IF($BJ$30:$BJ$32<>BH1873,\"\",ROW($BJ$30:$BJ$32)),BI1873)-29","v":{"$error":"#NUM!"}},{"$error":"#NUM!"},{"$error":"#NUM!"},true,false,{"$error":"#NUM!"}]
[null,null,null,null,null,null,null,null,null,null,null,null,null,null,null,null,null,null,null,null,null,null,null,null,null,null,null,null,null,null,null,null,null,null,null,null,null,null,null,null,null,null,null,null,null,null,null,null,null,null,null,null,false,true,0,1825,{"$f":"SMALL(IF($BB$30:$BB$32<>BC1874,\"\",ROW($BB$30:$BB$32)),BD1874)-29","v":{"$error":"#NUM!"}},{"$error":"#NUM!"},{"$error":"#NUM!"},0,1825,{"$f":"SMALL(IF($BJ$30:$BJ$32<>BH1874,\"\",ROW($BJ$30:$BJ$32)),BI1874)-29","v":{"$error":"#NUM!"}},{"$error":"#NUM!"},{"$error":"#NUM!"},true,false,{"$error":"#NUM!"}]
[null,null,null,null,null,null,null,null,null,null,null,null,null,null,null,null,null,null,null,null,null,null,null,null,null,null,null,null,null,null,null,null,null,null,null,null,null,null,null,null,null,null,null,null,null,null,null,null,null,null,null,null,false,true,0,1826,{"$f":"SMALL(IF($BB$30:$BB$32<>BC1875,\"\",ROW($BB$30:$BB$32)),BD1875)-29","v":{"$error":"#NUM!"}},{"$error":"#NUM!"},{"$error":"#NUM!"},0,1826,{"$f":"SMALL(IF($BJ$30:$BJ$32<>BH1875,\"\",ROW($BJ$30:$BJ$32)),BI1875)-29","v":{"$error":"#NUM!"}},{"$error":"#NUM!"},{"$error":"#NUM!"},true,false,{"$error":"#NUM!"}]
[null,null,null,null,null,null,null,null,null,null,null,null,null,null,null,null,null,null,null,null,null,null,null,null,null,null,null,null,null,null,null,null,null,null,null,null,null,null,null,null,null,null,null,null,null,null,null,null,null,null,null,null,false,true,0,1827,{"$f":"SMALL(IF($BB$30:$BB$32<>BC1876,\"\",ROW($BB$30:$BB$32)),BD1876)-29","v":{"$error":"#NUM!"}},{"$error":"#NUM!"},{"$error":"#NUM!"},0,1827,{"$f":"SMALL(IF($BJ$30:$BJ$32<>BH1876,\"\",ROW($BJ$30:$BJ$32)),BI1876)-29","v":{"$error":"#NUM!"}},{"$error":"#NUM!"},{"$error":"#NUM!"},true,false,{"$error":"#NUM!"}]
[null,null,null,null,null,null,null,null,null,null,null,null,null,null,null,null,null,null,null,null,null,null,null,null,null,null,null,null,null,null,null,null,null,null,null,null,null,null,null,null,null,null,null,null,null,null,null,null,null,null,null,null,false,true,0,1828,{"$f":"SMALL(IF($BB$30:$BB$32<>BC1877,\"\",ROW($BB$30:$BB$32)),BD1877)-29","v":{"$error":"#NUM!"}},{"$error":"#NUM!"},{"$error":"#NUM!"},0,1828,{"$f":"SMALL(IF($BJ$30:$BJ$32<>BH1877,\"\",ROW($BJ$30:$BJ$32)),BI1877)-29","v":{"$error":"#NUM!"}},{"$error":"#NUM!"},{"$error":"#NUM!"},true,false,{"$error":"#NUM!"}]
[null,null,null,null,null,null,null,null,null,null,null,null,null,null,null,null,null,null,null,null,null,null,null,null,null,null,null,null,null,null,null,null,null,null,null,null,null,null,null,null,null,null,null,null,null,null,null,null,null,null,null,null,false,true,0,1829,{"$f":"SMALL(IF($BB$30:$BB$32<>BC1878,\"\",ROW($BB$30:$BB$32)),BD1878)-29","v":{"$error":"#NUM!"}},{"$error":"#NUM!"},{"$error":"#NUM!"},0,1829,{"$f":"SMALL(IF($BJ$30:$BJ$32<>BH1878,\"\",ROW($BJ$30:$BJ$32)),BI1878)-29","v":{"$error":"#NUM!"}},{"$error":"#NUM!"},{"$error":"#NUM!"},true,false,{"$error":"#NUM!"}]
[null,null,null,null,null,null,null,null,null,null,null,null,null,null,null,null,null,null,null,null,null,null,null,null,null,null,null,null,null,null,null,null,null,null,null,null,null,null,null,null,null,null,null,null,null,null,null,null,null,null,null,null,false,true,0,1830,{"$f":"SMALL(IF($BB$30:$BB$32<>BC1879,\"\",ROW($BB$30:$BB$32)),BD1879)-29","v":{"$error":"#NUM!"}},{"$error":"#NUM!"},{"$error":"#NUM!"},0,1830,{"$f":"SMALL(IF($BJ$30:$BJ$32<>BH1879,\"\",ROW($BJ$30:$BJ$32)),BI1879)-29","v":{"$error":"#NUM!"}},{"$error":"#NUM!"},{"$error":"#NUM!"},true,false,{"$error":"#NUM!"}]
[null,null,null,null,null,null,null,null,null,null,null,null,null,null,null,null,null,null,null,null,null,null,null,null,null,null,null,null,null,null,null,null,null,null,null,null,null,null,null,null,null,null,null,null,null,null,null,null,null,null,null,null,false,true,0,1831,{"$f":"SMALL(IF($BB$30:$BB$32<>BC1880,\"\",ROW($BB$30:$BB$32)),BD1880)-29","v":{"$error":"#NUM!"}},{"$error":"#NUM!"},{"$error":"#NUM!"},0,1831,{"$f":"SMALL(IF($BJ$30:$BJ$32<>BH1880,\"\",ROW($BJ$30:$BJ$32)),BI1880)-29","v":{"$error":"#NUM!"}},{"$error":"#NUM!"},{"$error":"#NUM!"},true,false,{"$error":"#NUM!"}]
[null,null,null,null,null,null,null,null,null,null,null,null,null,null,null,null,null,null,null,null,null,null,null,null,null,null,null,null,null,null,null,null,null,null,null,null,null,null,null,null,null,null,null,null,null,null,null,null,null,null,null,null,false,true,0,1832,{"$f":"SMALL(IF($BB$30:$BB$32<>BC1881,\"\",ROW($BB$30:$BB$32)),BD1881)-29","v":{"$error":"#NUM!"}},{"$error":"#NUM!"},{"$error":"#NUM!"},0,1832,{"$f":"SMALL(IF($BJ$30:$BJ$32<>BH1881,\"\",ROW($BJ$30:$BJ$32)),BI1881)-29","v":{"$error":"#NUM!"}},{"$error":"#NUM!"},{"$error":"#NUM!"},true,false,{"$error":"#NUM!"}]
[null,null,null,null,null,null,null,null,null,null,null,null,null,null,null,null,null,null,null,null,null,null,null,null,null,null,null,null,null,null,null,null,null,null,null,null,null,null,null,null,null,null,null,null,null,null,null,null,null,null,null,null,false,true,0,1833,{"$f":"SMALL(IF($BB$30:$BB$32<>BC1882,\"\",ROW($BB$30:$BB$32)),BD1882)-29","v":{"$error":"#NUM!"}},{"$error":"#NUM!"},{"$error":"#NUM!"},0,1833,{"$f":"SMALL(IF($BJ$30:$BJ$32<>BH1882,\"\",ROW($BJ$30:$BJ$32)),BI1882)-29","v":{"$error":"#NUM!"}},{"$error":"#NUM!"},{"$error":"#NUM!"},true,false,{"$error":"#NUM!"}]
[null,null,null,null,null,null,null,null,null,null,null,null,null,null,null,null,null,null,null,null,null,null,null,null,null,null,null,null,null,null,null,null,null,null,null,null,null,null,null,null,null,null,null,null,null,null,null,null,null,null,null,null,false,true,0,1834,{"$f":"SMALL(IF($BB$30:$BB$32<>BC1883,\"\",ROW($BB$30:$BB$32)),BD1883)-29","v":{"$error":"#NUM!"}},{"$error":"#NUM!"},{"$error":"#NUM!"},0,1834,{"$f":"SMALL(IF($BJ$30:$BJ$32<>BH1883,\"\",ROW($BJ$30:$BJ$32)),BI1883)-29","v":{"$error":"#NUM!"}},{"$error":"#NUM!"},{"$error":"#NUM!"},true,false,{"$error":"#NUM!"}]
[null,null,null,null,null,null,null,null,null,null,null,null,null,null,null,null,null,null,null,null,null,null,null,null,null,null,null,null,null,null,null,null,null,null,null,null,null,null,null,null,null,null,null,null,null,null,null,null,null,null,null,null,false,true,0,1835,{"$f":"SMALL(IF($BB$30:$BB$32<>BC1884,\"\",ROW($BB$30:$BB$32)),BD1884)-29","v":{"$error":"#NUM!"}},{"$error":"#NUM!"},{"$error":"#NUM!"},0,1835,{"$f":"SMALL(IF($BJ$30:$BJ$32<>BH1884,\"\",ROW($BJ$30:$BJ$32)),BI1884)-29","v":{"$error":"#NUM!"}},{"$error":"#NUM!"},{"$error":"#NUM!"},true,false,{"$error":"#NUM!"}]
[null,null,null,null,null,null,null,null,null,null,null,null,null,null,null,null,null,null,null,null,null,null,null,null,null,null,null,null,null,null,null,null,null,null,null,null,null,null,null,null,null,null,null,null,null,null,null,null,null,null,null,null,false,true,0,1836,{"$f":"SMALL(IF($BB$30:$BB$32<>BC1885,\"\",ROW($BB$30:$BB$32)),BD1885)-29","v":{"$error":"#NUM!"}},{"$error":"#NUM!"},{"$error":"#NUM!"},0,1836,{"$f":"SMALL(IF($BJ$30:$BJ$32<>BH1885,\"\",ROW($BJ$30:$BJ$32)),BI1885)-29","v":{"$error":"#NUM!"}},{"$error":"#NUM!"},{"$error":"#NUM!"},true,false,{"$error":"#NUM!"}]
[null,null,null,null,null,null,null,null,null,null,null,null,null,null,null,null,null,null,null,null,null,null,null,null,null,null,null,null,null,null,null,null,null,null,null,null,null,null,null,null,null,null,null,null,null,null,null,null,null,null,null,null,false,true,0,1837,{"$f":"SMALL(IF($BB$30:$BB$32<>BC1886,\"\",ROW($BB$30:$BB$32)),BD1886)-29","v":{"$error":"#NUM!"}},{"$error":"#NUM!"},{"$error":"#NUM!"},0,1837,{"$f":"SMALL(IF($BJ$30:$BJ$32<>BH1886,\"\",ROW($BJ$30:$BJ$32)),BI1886)-29","v":{"$error":"#NUM!"}},{"$error":"#NUM!"},{"$error":"#NUM!"},true,false,{"$error":"#NUM!"}]
[null,null,null,null,null,null,null,null,null,null,null,null,null,null,null,null,null,null,null,null,null,null,null,null,null,null,null,null,null,null,null,null,null,null,null,null,null,null,null,null,null,null,null,null,null,null,null,null,null,null,null,null,false,true,0,1838,{"$f":"SMALL(IF($BB$30:$BB$32<>BC1887,\"\",ROW($BB$30:$BB$32)),BD1887)-29","v":{"$error":"#NUM!"}},{"$error":"#NUM!"},{"$error":"#NUM!"},0,1838,{"$f":"SMALL(IF($BJ$30:$BJ$32<>BH1887,\"\",ROW($BJ$30:$BJ$32)),BI1887)-29","v":{"$error":"#NUM!"}},{"$error":"#NUM!"},{"$error":"#NUM!"},true,false,{"$error":"#NUM!"}]
[null,null,null,null,null,null,null,null,null,null,null,null,null,null,null,null,null,null,null,null,null,null,null,null,null,null,null,null,null,null,null,null,null,null,null,null,null,null,null,null,null,null,null,null,null,null,null,null,null,null,null,null,false,true,0,1839,{"$f":"SMALL(IF($BB$30:$BB$32<>BC1888,\"\",ROW($BB$30:$BB$32)),BD1888)-29","v":{"$error":"#NUM!"}},{"$error":"#NUM!"},{"$error":"#NUM!"},0,1839,{"$f":"SMALL(IF($BJ$30:$BJ$32<>BH1888,\"\",ROW($BJ$30:$BJ$32)),BI1888)-29","v":{"$error":"#NUM!"}},{"$error":"#NUM!"},{"$error":"#NUM!"},true,false,{"$error":"#NUM!"}]
[null,null,null,null,null,null,null,null,null,null,null,null,null,null,null,null,null,null,null,null,null,null,null,null,null,null,null,null,null,null,null,null,null,null,null,null,null,null,null,null,null,null,null,null,null,null,null,null,null,null,null,null,false,true,0,1840,{"$f":"SMALL(IF($BB$30:$BB$32<>BC1889,\"\",ROW($BB$30:$BB$32)),BD1889)-29","v":{"$error":"#NUM!"}},{"$error":"#NUM!"},{"$error":"#NUM!"},0,1840,{"$f":"SMALL(IF($BJ$30:$BJ$32<>BH1889,\"\",ROW($BJ$30:$BJ$32)),BI1889)-29","v":{"$error":"#NUM!"}},{"$error":"#NUM!"},{"$error":"#NUM!"},true,false,{"$error":"#NUM!"}]
[null,null,null,null,null,null,null,null,null,null,null,null,null,null,null,null,null,null,null,null,null,null,null,null,null,null,null,null,null,null,null,null,null,null,null,null,null,null,null,null,null,null,null,null,null,null,null,null,null,null,null,null,false,true,0,1841,{"$f":"SMALL(IF($BB$30:$BB$32<>BC1890,\"\",ROW($BB$30:$BB$32)),BD1890)-29","v":{"$error":"#NUM!"}},{"$error":"#NUM!"},{"$error":"#NUM!"},0,1841,{"$f":"SMALL(IF($BJ$30:$BJ$32<>BH1890,\"\",ROW($BJ$30:$BJ$32)),BI1890)-29","v":{"$error":"#NUM!"}},{"$error":"#NUM!"},{"$error":"#NUM!"},true,false,{"$error":"#NUM!"}]
[null,null,null,null,null,null,null,null,null,null,null,null,null,null,null,null,null,null,null,null,null,null,null,null,null,null,null,null,null,null,null,null,null,null,null,null,null,null,null,null,null,null,null,null,null,null,null,null,null,null,null,null,false,true,0,1842,{"$f":"SMALL(IF($BB$30:$BB$32<>BC1891,\"\",ROW($BB$30:$BB$32)),BD1891)-29","v":{"$error":"#NUM!"}},{"$error":"#NUM!"},{"$error":"#NUM!"},0,1842,{"$f":"SMALL(IF($BJ$30:$BJ$32<>BH1891,\"\",ROW($BJ$30:$BJ$32)),BI1891)-29","v":{"$error":"#NUM!"}},{"$error":"#NUM!"},{"$error":"#NUM!"},true,false,{"$error":"#NUM!"}]
[null,null,null,null,null,null,null,null,null,null,null,null,null,null,null,null,null,null,null,null,null,null,null,null,null,null,null,null,null,null,null,null,null,null,null,null,null,null,null,null,null,null,null,null,null,null,null,null,null,null,null,null,false,true,0,1843,{"$f":"SMALL(IF($BB$30:$BB$32<>BC1892,\"\",ROW($BB$30:$BB$32)),BD1892)-29","v":{"$error":"#NUM!"}},{"$error":"#NUM!"},{"$error":"#NUM!"},0,1843,{"$f":"SMALL(IF($BJ$30:$BJ$32<>BH1892,\"\",ROW($BJ$30:$BJ$32)),BI1892)-29","v":{"$error":"#NUM!"}},{"$error":"#NUM!"},{"$error":"#NUM!"},true,false,{"$error":"#NUM!"}]
[null,null,null,null,null,null,null,null,null,null,null,null,null,null,null,null,null,null,null,null,null,null,null,null,null,null,null,null,null,null,null,null,null,null,null,null,null,null,null,null,null,null,null,null,null,null,null,null,null,null,null,null,false,true,0,1844,{"$f":"SMALL(IF($BB$30:$BB$32<>BC1893,\"\",ROW($BB$30:$BB$32)),BD1893)-29","v":{"$error":"#NUM!"}},{"$error":"#NUM!"},{"$error":"#NUM!"},0,1844,{"$f":"SMALL(IF($BJ$30:$BJ$32<>BH1893,\"\",ROW($BJ$30:$BJ$32)),BI1893)-29","v":{"$error":"#NUM!"}},{"$error":"#NUM!"},{"$error":"#NUM!"},true,false,{"$error":"#NUM!"}]
[null,null,null,null,null,null,null,null,null,null,null,null,null,null,null,null,null,null,null,null,null,null,null,null,null,null,null,null,null,null,null,null,null,null,null,null,null,null,null,null,null,null,null,null,null,null,null,null,null,null,null,null,false,true,0,1845,{"$f":"SMALL(IF($BB$30:$BB$32<>BC1894,\"\",ROW($BB$30:$BB$32)),BD1894)-29","v":{"$error":"#NUM!"}},{"$error":"#NUM!"},{"$error":"#NUM!"},0,1845,{"$f":"SMALL(IF($BJ$30:$BJ$32<>BH1894,\"\",ROW($BJ$30:$BJ$32)),BI1894)-29","v":{"$error":"#NUM!"}},{"$error":"#NUM!"},{"$error":"#NUM!"},true,false,{"$error":"#NUM!"}]
[null,null,null,null,null,null,null,null,null,null,null,null,null,null,null,null,null,null,null,null,null,null,null,null,null,null,null,null,null,null,null,null,null,null,null,null,null,null,null,null,null,null,null,null,null,null,null,null,null,null,null,null,false,true,0,1846,{"$f":"SMALL(IF($BB$30:$BB$32<>BC1895,\"\",ROW($BB$30:$BB$32)),BD1895)-29","v":{"$error":"#NUM!"}},{"$error":"#NUM!"},{"$error":"#NUM!"},0,1846,{"$f":"SMALL(IF($BJ$30:$BJ$32<>BH1895,\"\",ROW($BJ$30:$BJ$32)),BI1895)-29","v":{"$error":"#NUM!"}},{"$error":"#NUM!"},{"$error":"#NUM!"},true,false,{"$error":"#NUM!"}]
[null,null,null,null,null,null,null,null,null,null,null,null,null,null,null,null,null,null,null,null,null,null,null,null,null,null,null,null,null,null,null,null,null,null,null,null,null,null,null,null,null,null,null,null,null,null,null,null,null,null,null,null,false,true,0,1847,{"$f":"SMALL(IF($BB$30:$BB$32<>BC1896,\"\",ROW($BB$30:$BB$32)),BD1896)-29","v":{"$error":"#NUM!"}},{"$error":"#NUM!"},{"$error":"#NUM!"},0,1847,{"$f":"SMALL(IF($BJ$30:$BJ$32<>BH1896,\"\",ROW($BJ$30:$BJ$32)),BI1896)-29","v":{"$error":"#NUM!"}},{"$error":"#NUM!"},{"$error":"#NUM!"},true,false,{"$error":"#NUM!"}]
[null,null,null,null,null,null,null,null,null,null,null,null,null,null,null,null,null,null,null,null,null,null,null,null,null,null,null,null,null,null,null,null,null,null,null,null,null,null,null,null,null,null,null,null,null,null,null,null,null,null,null,null,false,true,0,1848,{"$f":"SMALL(IF($BB$30:$BB$32<>BC1897,\"\",ROW($BB$30:$BB$32)),BD1897)-29","v":{"$error":"#NUM!"}},{"$error":"#NUM!"},{"$error":"#NUM!"},0,1848,{"$f":"SMALL(IF($BJ$30:$BJ$32<>BH1897,\"\",ROW($BJ$30:$BJ$32)),BI1897)-29","v":{"$error":"#NUM!"}},{"$error":"#NUM!"},{"$error":"#NUM!"},true,false,{"$error":"#NUM!"}]
[null,null,null,null,null,null,null,null,null,null,null,null,null,null,null,null,null,null,null,null,null,null,null,null,null,null,null,null,null,null,null,null,null,null,null,null,null,null,null,null,null,null,null,null,null,null,null,null,null,null,null,null,false,true,0,1849,{"$f":"SMALL(IF($BB$30:$BB$32<>BC1898,\"\",ROW($BB$30:$BB$32)),BD1898)-29","v":{"$error":"#NUM!"}},{"$error":"#NUM!"},{"$error":"#NUM!"},0,1849,{"$f":"SMALL(IF($BJ$30:$BJ$32<>BH1898,\"\",ROW($BJ$30:$BJ$32)),BI1898)-29","v":{"$error":"#NUM!"}},{"$error":"#NUM!"},{"$error":"#NUM!"},true,false,{"$error":"#NUM!"}]
[null,null,null,null,null,null,null,null,null,null,null,null,null,null,null,null,null,null,null,null,null,null,null,null,null,null,null,null,null,null,null,null,null,null,null,null,null,null,null,null,null,null,null,null,null,null,null,null,null,null,null,null,false,true,0,1850,{"$f":"SMALL(IF($BB$30:$BB$32<>BC1899,\"\",ROW($BB$30:$BB$32)),BD1899)-29","v":{"$error":"#NUM!"}},{"$error":"#NUM!"},{"$error":"#NUM!"},0,1850,{"$f":"SMALL(IF($BJ$30:$BJ$32<>BH1899,\"\",ROW($BJ$30:$BJ$32)),BI1899)-29","v":{"$error":"#NUM!"}},{"$error":"#NUM!"},{"$error":"#NUM!"},true,false,{"$error":"#NUM!"}]
[null,null,null,null,null,null,null,null,null,null,null,null,null,null,null,null,null,null,null,null,null,null,null,null,null,null,null,null,null,null,null,null,null,null,null,null,null,null,null,null,null,null,null,null,null,null,null,null,null,null,null,null,false,true,0,1851,{"$f":"SMALL(IF($BB$30:$BB$32<>BC1900,\"\",ROW($BB$30:$BB$32)),BD1900)-29","v":{"$error":"#NUM!"}},{"$error":"#NUM!"},{"$error":"#NUM!"},0,1851,{"$f":"SMALL(IF($BJ$30:$BJ$32<>BH1900,\"\",ROW($BJ$30:$BJ$32)),BI1900)-29","v":{"$error":"#NUM!"}},{"$error":"#NUM!"},{"$error":"#NUM!"},true,false,{"$error":"#NUM!"}]
[null,null,null,null,null,null,null,null,null,null,null,null,null,null,null,null,null,null,null,null,null,null,null,null,null,null,null,null,null,null,null,null,null,null,null,null,null,null,null,null,null,null,null,null,null,null,null,null,null,null,null,null,false,true,0,1852,{"$f":"SMALL(IF($BB$30:$BB$32<>BC1901,\"\",ROW($BB$30:$BB$32)),BD1901)-29","v":{"$error":"#NUM!"}},{"$error":"#NUM!"},{"$error":"#NUM!"},0,1852,{"$f":"SMALL(IF($BJ$30:$BJ$32<>BH1901,\"\",ROW($BJ$30:$BJ$32)),BI1901)-29","v":{"$error":"#NUM!"}},{"$error":"#NUM!"},{"$error":"#NUM!"},true,false,{"$error":"#NUM!"}]
[null,null,null,null,null,null,null,null,null,null,null,null,null,null,null,null,null,null,null,null,null,null,null,null,null,null,null,null,null,null,null,null,null,null,null,null,null,null,null,null,null,null,null,null,null,null,null,null,null,null,null,null,false,true,0,1853,{"$f":"SMALL(IF($BB$30:$BB$32<>BC1902,\"\",ROW($BB$30:$BB$32)),BD1902)-29","v":{"$error":"#NUM!"}},{"$error":"#NUM!"},{"$error":"#NUM!"},0,1853,{"$f":"SMALL(IF($BJ$30:$BJ$32<>BH1902,\"\",ROW($BJ$30:$BJ$32)),BI1902)-29","v":{"$error":"#NUM!"}},{"$error":"#NUM!"},{"$error":"#NUM!"},true,false,{"$error":"#NUM!"}]
[null,null,null,null,null,null,null,null,null,null,null,null,null,null,null,null,null,null,null,null,null,null,null,null,null,null,null,null,null,null,null,null,null,null,null,null,null,null,null,null,null,null,null,null,null,null,null,null,null,null,null,null,false,true,0,1854,{"$f":"SMALL(IF($BB$30:$BB$32<>BC1903,\"\",ROW($BB$30:$BB$32)),BD1903)-29","v":{"$error":"#NUM!"}},{"$error":"#NUM!"},{"$error":"#NUM!"},0,1854,{"$f":"SMALL(IF($BJ$30:$BJ$32<>BH1903,\"\",ROW($BJ$30:$BJ$32)),BI1903)-29","v":{"$error":"#NUM!"}},{"$error":"#NUM!"},{"$error":"#NUM!"},true,false,{"$error":"#NUM!"}]
[null,null,null,null,null,null,null,null,null,null,null,null,null,null,null,null,null,null,null,null,null,null,null,null,null,null,null,null,null,null,null,null,null,null,null,null,null,null,null,null,null,null,null,null,null,null,null,null,null,null,null,null,false,true,0,1855,{"$f":"SMALL(IF($BB$30:$BB$32<>BC1904,\"\",ROW($BB$30:$BB$32)),BD1904)-29","v":{"$error":"#NUM!"}},{"$error":"#NUM!"},{"$error":"#NUM!"},0,1855,{"$f":"SMALL(IF($BJ$30:$BJ$32<>BH1904,\"\",ROW($BJ$30:$BJ$32)),BI1904)-29","v":{"$error":"#NUM!"}},{"$error":"#NUM!"},{"$error":"#NUM!"},true,false,{"$error":"#NUM!"}]
[null,null,null,null,null,null,null,null,null,null,null,null,null,null,null,null,null,null,null,null,null,null,null,null,null,null,null,null,null,null,null,null,null,null,null,null,null,null,null,null,null,null,null,null,null,null,null,null,null,null,null,null,false,true,0,1856,{"$f":"SMALL(IF($BB$30:$BB$32<>BC1905,\"\",ROW($BB$30:$BB$32)),BD1905)-29","v":{"$error":"#NUM!"}},{"$error":"#NUM!"},{"$error":"#NUM!"},0,1856,{"$f":"SMALL(IF($BJ$30:$BJ$32<>BH1905,\"\",ROW($BJ$30:$BJ$32)),BI1905)-29","v":{"$error":"#NUM!"}},{"$error":"#NUM!"},{"$error":"#NUM!"},true,false,{"$error":"#NUM!"}]
[null,null,null,null,null,null,null,null,null,null,null,null,null,null,null,null,null,null,null,null,null,null,null,null,null,null,null,null,null,null,null,null,null,null,null,null,null,null,null,null,null,null,null,null,null,null,null,null,null,null,null,null,false,true,{"$f":"MIN($BB$29:$BB$32)","v":0},1857,{"$f":"SMALL(IF($BB$30:$BB$32<>BC1906,\"\",ROW($BB$30:$BB$32)),BD1906)-29","v":{"$error":"#NUM!"}},{"$f":"INDEX($BD$30:$BD$32,BE1906)","v":{"$error":"#NUM!"}},{"$f":"INDEX($BG$30:$BG$32,BE1906)","v":{"$error":"#NUM!"}},{"$f":"MAX($BJ$29:$BJ$32)","v":0},1857,{"$f":"SMALL(IF($BJ$30:$BJ$32<>BH1906,\"\",ROW($BJ$30:$BJ$32)),BI1906)-29","v":{"$error":"#NUM!"}},{"$f":"INDEX($BL$30:$BL$32,BJ1906)","v":{"$error":"#NUM!"}},{"$f":"INDEX($BO$30:$BO$32,BJ1906)","v":{"$error":"#NUM!"}},true,false,{"$error":"#NUM!"}]
[null,null,null,null,null,null,null,null,null,null,null,null,null,null,null,null,null,null,null,null,null,null,null,null,null,null,null,null,null,null,null,null,null,null,null,null,null,null,null,null,null,null,null,null,null,null,null,null,null,null,null,null,{"$f":"IF(BB1907=FALSE,BF1907)","v":false},{"$f":"ISERR(BF1907)","v":true},0,1858,{"$f":"SMALL(IF($BB$30:$BB$32<>BC1907,\"\",ROW($BB$30:$BB$32)),BD1907)-29","v":{"$error":"#NUM!"}},{"$error":"#NUM!"},{"$error":"#NUM!"},0,1858,{"$f":"SMALL(IF($BJ$30:$BJ$32<>BH1907,\"\",ROW($BJ$30:$BJ$32)),BI1907)-29","v":{"$error":"#NUM!"}},{"$error":"#NUM!"},{"$error":"#NUM!"},{"$f":"ISERR(BK1907)","v":true},{"$f":"IF(BM1907=FALSE,BK1907)","v":false},{"$f":"BL1907","v":{"$error":"#NUM!"}}]
[null,null,null,null,null,null,null,null,null,null,null,null,null,null,null,null,null,null,null,null,null,null,null,null,null,null,null,null,null,null,null,null,null,null,null,null,null,null,null,null,null,null,null,null,null,null,null,null,null,null,null,null,false,true,0,1859,{"$f":"SMALL(IF($BB$30:$BB$32<>BC1908,\"\",ROW($BB$30:$BB$32)),BD1908)-29","v":{"$error":"#NUM!"}},{"$error":"#NUM!"},{"$error":"#NUM!"},0,1859,{"$f":"SMALL(IF($BJ$30:$BJ$32<>BH1908,\"\",ROW($BJ$30:$BJ$32)),BI1908)-29","v":{"$error":"#NUM!"}},{"$error":"#NUM!"},{"$error":"#NUM!"},true,false,{"$error":"#NUM!"}]
[null,null,null,null,null,null,null,null,null,null,null,null,null,null,null,null,null,null,null,null,null,null,null,null,null,null,null,null,null,null,null,null,null,null,null,null,null,null,null,null,null,null,null,null,null,null,null,null,null,null,null,null,false,true,0,1860,{"$f":"SMALL(IF($BB$30:$BB$32<>BC1909,\"\",ROW($BB$30:$BB$32)),BD1909)-29","v":{"$error":"#NUM!"}},{"$error":"#NUM!"},{"$error":"#NUM!"},0,1860,{"$f":"SMALL(IF($BJ$30:$BJ$32<>BH1909,\"\",ROW($BJ$30:$BJ$32)),BI1909)-29","v":{"$error":"#NUM!"}},{"$error":"#NUM!"},{"$error":"#NUM!"},true,false,{"$error":"#NUM!"}]
[null,null,null,null,null,null,null,null,null,null,null,null,null,null,null,null,null,null,null,null,null,null,null,null,null,null,null,null,null,null,null,null,null,null,null,null,null,null,null,null,null,null,null,null,null,null,null,null,null,null,null,null,false,true,0,1861,{"$f":"SMALL(IF($BB$30:$BB$32<>BC1910,\"\",ROW($BB$30:$BB$32)),BD1910)-29","v":{"$error":"#NUM!"}},{"$error":"#NUM!"},{"$error":"#NUM!"},0,1861,{"$f":"SMALL(IF($BJ$30:$BJ$32<>BH1910,\"\",ROW($BJ$30:$BJ$32)),BI1910)-29","v":{"$error":"#NUM!"}},{"$error":"#NUM!"},{"$error":"#NUM!"},true,false,{"$error":"#NUM!"}]
[null,null,null,null,null,null,null,null,null,null,null,null,null,null,null,null,null,null,null,null,null,null,null,null,null,null,null,null,null,null,null,null,null,null,null,null,null,null,null,null,null,null,null,null,null,null,null,null,null,null,null,null,false,true,0,1862,{"$f":"SMALL(IF($BB$30:$BB$32<>BC1911,\"\",ROW($BB$30:$BB$32)),BD1911)-29","v":{"$error":"#NUM!"}},{"$error":"#NUM!"},{"$error":"#NUM!"},0,1862,{"$f":"SMALL(IF($BJ$30:$BJ$32<>BH1911,\"\",ROW($BJ$30:$BJ$32)),BI1911)-29","v":{"$error":"#NUM!"}},{"$error":"#NUM!"},{"$error":"#NUM!"},true,false,{"$error":"#NUM!"}]
[null,null,null,null,null,null,null,null,null,null,null,null,null,null,null,null,null,null,null,null,null,null,null,null,null,null,null,null,null,null,null,null,null,null,null,null,null,null,null,null,null,null,null,null,null,null,null,null,null,null,null,null,false,true,0,1863,{"$f":"SMALL(IF($BB$30:$BB$32<>BC1912,\"\",ROW($BB$30:$BB$32)),BD1912)-29","v":{"$error":"#NUM!"}},{"$error":"#NUM!"},{"$error":"#NUM!"},0,1863,{"$f":"SMALL(IF($BJ$30:$BJ$32<>BH1912,\"\",ROW($BJ$30:$BJ$32)),BI1912)-29","v":{"$error":"#NUM!"}},{"$error":"#NUM!"},{"$error":"#NUM!"},true,false,{"$error":"#NUM!"}]
[null,null,null,null,null,null,null,null,null,null,null,null,null,null,null,null,null,null,null,null,null,null,null,null,null,null,null,null,null,null,null,null,null,null,null,null,null,null,null,null,null,null,null,null,null,null,null,null,null,null,null,null,false,true,0,1864,{"$f":"SMALL(IF($BB$30:$BB$32<>BC1913,\"\",ROW($BB$30:$BB$32)),BD1913)-29","v":{"$error":"#NUM!"}},{"$error":"#NUM!"},{"$error":"#NUM!"},0,1864,{"$f":"SMALL(IF($BJ$30:$BJ$32<>BH1913,\"\",ROW($BJ$30:$BJ$32)),BI1913)-29","v":{"$error":"#NUM!"}},{"$error":"#NUM!"},{"$error":"#NUM!"},true,false,{"$error":"#NUM!"}]
[null,null,null,null,null,null,null,null,null,null,null,null,null,null,null,null,null,null,null,null,null,null,null,null,null,null,null,null,null,null,null,null,null,null,null,null,null,null,null,null,null,null,null,null,null,null,null,null,null,null,null,null,false,true,0,1865,{"$f":"SMALL(IF($BB$30:$BB$32<>BC1914,\"\",ROW($BB$30:$BB$32)),BD1914)-29","v":{"$error":"#NUM!"}},{"$error":"#NUM!"},{"$error":"#NUM!"},0,1865,{"$f":"SMALL(IF($BJ$30:$BJ$32<>BH1914,\"\",ROW($BJ$30:$BJ$32)),BI1914)-29","v":{"$error":"#NUM!"}},{"$error":"#NUM!"},{"$error":"#NUM!"},true,false,{"$error":"#NUM!"}]
[null,null,null,null,null,null,null,null,null,null,null,null,null,null,null,null,null,null,null,null,null,null,null,null,null,null,null,null,null,null,null,null,null,null,null,null,null,null,null,null,null,null,null,null,null,null,null,null,null,null,null,null,false,true,0,1866,{"$f":"SMALL(IF($BB$30:$BB$32<>BC1915,\"\",ROW($BB$30:$BB$32)),BD1915)-29","v":{"$error":"#NUM!"}},{"$error":"#NUM!"},{"$error":"#NUM!"},0,1866,{"$f":"SMALL(IF($BJ$30:$BJ$32<>BH1915,\"\",ROW($BJ$30:$BJ$32)),BI1915)-29","v":{"$error":"#NUM!"}},{"$error":"#NUM!"},{"$error":"#NUM!"},true,false,{"$error":"#NUM!"}]
[null,null,null,null,null,null,null,null,null,null,null,null,null,null,null,null,null,null,null,null,null,null,null,null,null,null,null,null,null,null,null,null,null,null,null,null,null,null,null,null,null,null,null,null,null,null,null,null,null,null,null,null,false,true,0,1867,{"$f":"SMALL(IF($BB$30:$BB$32<>BC1916,\"\",ROW($BB$30:$BB$32)),BD1916)-29","v":{"$error":"#NUM!"}},{"$error":"#NUM!"},{"$error":"#NUM!"},0,1867,{"$f":"SMALL(IF($BJ$30:$BJ$32<>BH1916,\"\",ROW($BJ$30:$BJ$32)),BI1916)-29","v":{"$error":"#NUM!"}},{"$error":"#NUM!"},{"$error":"#NUM!"},true,false,{"$error":"#NUM!"}]
[null,null,null,null,null,null,null,null,null,null,null,null,null,null,null,null,null,null,null,null,null,null,null,null,null,null,null,null,null,null,null,null,null,null,null,null,null,null,null,null,null,null,null,null,null,null,null,null,null,null,null,null,false,true,0,1868,{"$f":"SMALL(IF($BB$30:$BB$32<>BC1917,\"\",ROW($BB$30:$BB$32)),BD1917)-29","v":{"$error":"#NUM!"}},{"$error":"#NUM!"},{"$error":"#NUM!"},0,1868,{"$f":"SMALL(IF($BJ$30:$BJ$32<>BH1917,\"\",ROW($BJ$30:$BJ$32)),BI1917)-29","v":{"$error":"#NUM!"}},{"$error":"#NUM!"},{"$error":"#NUM!"},true,false,{"$error":"#NUM!"}]
[null,null,null,null,null,null,null,null,null,null,null,null,null,null,null,null,null,null,null,null,null,null,null,null,null,null,null,null,null,null,null,null,null,null,null,null,null,null,null,null,null,null,null,null,null,null,null,null,null,null,null,null,false,true,0,1869,{"$f":"SMALL(IF($BB$30:$BB$32<>BC1918,\"\",ROW($BB$30:$BB$32)),BD1918)-29","v":{"$error":"#NUM!"}},{"$error":"#NUM!"},{"$error":"#NUM!"},0,1869,{"$f":"SMALL(IF($BJ$30:$BJ$32<>BH1918,\"\",ROW($BJ$30:$BJ$32)),BI1918)-29","v":{"$error":"#NUM!"}},{"$error":"#NUM!"},{"$error":"#NUM!"},true,false,{"$error":"#NUM!"}]
[null,null,null,null,null,null,null,null,null,null,null,null,null,null,null,null,null,null,null,null,null,null,null,null,null,null,null,null,null,null,null,null,null,null,null,null,null,null,null,null,null,null,null,null,null,null,null,null,null,null,null,null,false,true,0,1870,{"$f":"SMALL(IF($BB$30:$BB$32<>BC1919,\"\",ROW($BB$30:$BB$32)),BD1919)-29","v":{"$error":"#NUM!"}},{"$error":"#NUM!"},{"$error":"#NUM!"},0,1870,{"$f":"SMALL(IF($BJ$30:$BJ$32<>BH1919,\"\",ROW($BJ$30:$BJ$32)),BI1919)-29","v":{"$error":"#NUM!"}},{"$error":"#NUM!"},{"$error":"#NUM!"},true,false,{"$error":"#NUM!"}]
[null,null,null,null,null,null,null,null,null,null,null,null,null,null,null,null,null,null,null,null,null,null,null,null,null,null,null,null,null,null,null,null,null,null,null,null,null,null,null,null,null,null,null,null,null,null,null,null,null,null,null,null,false,true,0,1871,{"$f":"SMALL(IF($BB$30:$BB$32<>BC1920,\"\",ROW($BB$30:$BB$32)),BD1920)-29","v":{"$error":"#NUM!"}},{"$error":"#NUM!"},{"$error":"#NUM!"},0,1871,{"$f":"SMALL(IF($BJ$30:$BJ$32<>BH1920,\"\",ROW($BJ$30:$BJ$32)),BI1920)-29","v":{"$error":"#NUM!"}},{"$error":"#NUM!"},{"$error":"#NUM!"},true,false,{"$error":"#NUM!"}]
[null,null,null,null,null,null,null,null,null,null,null,null,null,null,null,null,null,null,null,null,null,null,null,null,null,null,null,null,null,null,null,null,null,null,null,null,null,null,null,null,null,null,null,null,null,null,null,null,null,null,null,null,false,true,0,1872,{"$f":"SMALL(IF($BB$30:$BB$32<>BC1921,\"\",ROW($BB$30:$BB$32)),BD1921)-29","v":{"$error":"#NUM!"}},{"$error":"#NUM!"},{"$error":"#NUM!"},0,1872,{"$f":"SMALL(IF($BJ$30:$BJ$32<>BH1921,\"\",ROW($BJ$30:$BJ$32)),BI1921)-29","v":{"$error":"#NUM!"}},{"$error":"#NUM!"},{"$error":"#NUM!"},true,false,{"$error":"#NUM!"}]
[null,null,null,null,null,null,null,null,null,null,null,null,null,null,null,null,null,null,null,null,null,null,null,null,null,null,null,null,null,null,null,null,null,null,null,null,null,null,null,null,null,null,null,null,null,null,null,null,null,null,null,null,false,true,0,1873,{"$f":"SMALL(IF($BB$30:$BB$32<>BC1922,\"\",ROW($BB$30:$BB$32)),BD1922)-29","v":{"$error":"#NUM!"}},{"$error":"#NUM!"},{"$error":"#NUM!"},0,1873,{"$f":"SMALL(IF($BJ$30:$BJ$32<>BH1922,\"\",ROW($BJ$30:$BJ$32)),BI1922)-29","v":{"$error":"#NUM!"}},{"$error":"#NUM!"},{"$error":"#NUM!"},true,false,{"$error":"#NUM!"}]
[null,null,null,null,null,null,null,null,null,null,null,null,null,null,null,null,null,null,null,null,null,null,null,null,null,null,null,null,null,null,null,null,null,null,null,null,null,null,null,null,null,null,null,null,null,null,null,null,null,null,null,null,false,true,0,1874,{"$f":"SMALL(IF($BB$30:$BB$32<>BC1923,\"\",ROW($BB$30:$BB$32)),BD1923)-29","v":{"$error":"#NUM!"}},{"$error":"#NUM!"},{"$error":"#NUM!"},0,1874,{"$f":"SMALL(IF($BJ$30:$BJ$32<>BH1923,\"\",ROW($BJ$30:$BJ$32)),BI1923)-29","v":{"$error":"#NUM!"}},{"$error":"#NUM!"},{"$error":"#NUM!"},true,false,{"$error":"#NUM!"}]
[null,null,null,null,null,null,null,null,null,null,null,null,null,null,null,null,null,null,null,null,null,null,null,null,null,null,null,null,null,null,null,null,null,null,null,null,null,null,null,null,null,null,null,null,null,null,null,null,null,null,null,null,false,true,0,1875,{"$f":"SMALL(IF($BB$30:$BB$32<>BC1924,\"\",ROW($BB$30:$BB$32)),BD1924)-29","v":{"$error":"#NUM!"}},{"$error":"#NUM!"},{"$error":"#NUM!"},0,1875,{"$f":"SMALL(IF($BJ$30:$BJ$32<>BH1924,\"\",ROW($BJ$30:$BJ$32)),BI1924)-29","v":{"$error":"#NUM!"}},{"$error":"#NUM!"},{"$error":"#NUM!"},true,false,{"$error":"#NUM!"}]
[null,null,null,null,null,null,null,null,null,null,null,null,null,null,null,null,null,null,null,null,null,null,null,null,null,null,null,null,null,null,null,null,null,null,null,null,null,null,null,null,null,null,null,null,null,null,null,null,null,null,null,null,false,true,0,1876,{"$f":"SMALL(IF($BB$30:$BB$32<>BC1925,\"\",ROW($BB$30:$BB$32)),BD1925)-29","v":{"$error":"#NUM!"}},{"$error":"#NUM!"},{"$error":"#NUM!"},0,1876,{"$f":"SMALL(IF($BJ$30:$BJ$32<>BH1925,\"\",ROW($BJ$30:$BJ$32)),BI1925)-29","v":{"$error":"#NUM!"}},{"$error":"#NUM!"},{"$error":"#NUM!"},true,false,{"$error":"#NUM!"}]
[null,null,null,null,null,null,null,null,null,null,null,null,null,null,null,null,null,null,null,null,null,null,null,null,null,null,null,null,null,null,null,null,null,null,null,null,null,null,null,null,null,null,null,null,null,null,null,null,null,null,null,null,false,true,0,1877,{"$f":"SMALL(IF($BB$30:$BB$32<>BC1926,\"\",ROW($BB$30:$BB$32)),BD1926)-29","v":{"$error":"#NUM!"}},{"$error":"#NUM!"},{"$error":"#NUM!"},0,1877,{"$f":"SMALL(IF($BJ$30:$BJ$32<>BH1926,\"\",ROW($BJ$30:$BJ$32)),BI1926)-29","v":{"$error":"#NUM!"}},{"$error":"#NUM!"},{"$error":"#NUM!"},true,false,{"$error":"#NUM!"}]
[null,null,null,null,null,null,null,null,null,null,null,null,null,null,null,null,null,null,null,null,null,null,null,null,null,null,null,null,null,null,null,null,null,null,null,null,null,null,null,null,null,null,null,null,null,null,null,null,null,null,null,null,false,true,0,1878,{"$f":"SMALL(IF($BB$30:$BB$32<>BC1927,\"\",ROW($BB$30:$BB$32)),BD1927)-29","v":{"$error":"#NUM!"}},{"$error":"#NUM!"},{"$error":"#NUM!"},0,1878,{"$f":"SMALL(IF($BJ$30:$BJ$32<>BH1927,\"\",ROW($BJ$30:$BJ$32)),BI1927)-29","v":{"$error":"#NUM!"}},{"$error":"#NUM!"},{"$error":"#NUM!"},true,false,{"$error":"#NUM!"}]
[null,null,null,null,null,null,null,null,null,null,null,null,null,null,null,null,null,null,null,null,null,null,null,null,null,null,null,null,null,null,null,null,null,null,null,null,null,null,null,null,null,null,null,null,null,null,null,null,null,null,null,null,false,true,0,1879,{"$f":"SMALL(IF($BB$30:$BB$32<>BC1928,\"\",ROW($BB$30:$BB$32)),BD1928)-29","v":{"$error":"#NUM!"}},{"$error":"#NUM!"},{"$error":"#NUM!"},0,1879,{"$f":"SMALL(IF($BJ$30:$BJ$32<>BH1928,\"\",ROW($BJ$30:$BJ$32)),BI1928)-29","v":{"$error":"#NUM!"}},{"$error":"#NUM!"},{"$error":"#NUM!"},true,false,{"$error":"#NUM!"}]
[null,null,null,null,null,null,null,null,null,null,null,null,null,null,null,null,null,null,null,null,null,null,null,null,null,null,null,null,null,null,null,null,null,null,null,null,null,null,null,null,null,null,null,null,null,null,null,null,null,null,null,null,false,true,0,1880,{"$f":"SMALL(IF($BB$30:$BB$32<>BC1929,\"\",ROW($BB$30:$BB$32)),BD1929)-29","v":{"$error":"#NUM!"}},{"$error":"#NUM!"},{"$error":"#NUM!"},0,1880,{"$f":"SMALL(IF($BJ$30:$BJ$32<>BH1929,\"\",ROW($BJ$30:$BJ$32)),BI1929)-29","v":{"$error":"#NUM!"}},{"$error":"#NUM!"},{"$error":"#NUM!"},true,false,{"$error":"#NUM!"}]
[null,null,null,null,null,null,null,null,null,null,null,null,null,null,null,null,null,null,null,null,null,null,null,null,null,null,null,null,null,null,null,null,null,null,null,null,null,null,null,null,null,null,null,null,null,null,null,null,null,null,null,null,false,true,0,1881,{"$f":"SMALL(IF($BB$30:$BB$32<>BC1930,\"\",ROW($BB$30:$BB$32)),BD1930)-29","v":{"$error":"#NUM!"}},{"$error":"#NUM!"},{"$error":"#NUM!"},0,1881,{"$f":"SMALL(IF($BJ$30:$BJ$32<>BH1930,\"\",ROW($BJ$30:$BJ$32)),BI1930)-29","v":{"$error":"#NUM!"}},{"$error":"#NUM!"},{"$error":"#NUM!"},true,false,{"$error":"#NUM!"}]
[null,null,null,null,null,null,null,null,null,null,null,null,null,null,null,null,null,null,null,null,null,null,null,null,null,null,null,null,null,null,null,null,null,null,null,null,null,null,null,null,null,null,null,null,null,null,null,null,null,null,null,null,false,true,0,1882,{"$f":"SMALL(IF($BB$30:$BB$32<>BC1931,\"\",ROW($BB$30:$BB$32)),BD1931)-29","v":{"$error":"#NUM!"}},{"$error":"#NUM!"},{"$error":"#NUM!"},0,1882,{"$f":"SMALL(IF($BJ$30:$BJ$32<>BH1931,\"\",ROW($BJ$30:$BJ$32)),BI1931)-29","v":{"$error":"#NUM!"}},{"$error":"#NUM!"},{"$error":"#NUM!"},true,false,{"$error":"#NUM!"}]
[null,null,null,null,null,null,null,null,null,null,null,null,null,null,null,null,null,null,null,null,null,null,null,null,null,null,null,null,null,null,null,null,null,null,null,null,null,null,null,null,null,null,null,null,null,null,null,null,null,null,null,null,false,true,0,1883,{"$f":"SMALL(IF($BB$30:$BB$32<>BC1932,\"\",ROW($BB$30:$BB$32)),BD1932)-29","v":{"$error":"#NUM!"}},{"$error":"#NUM!"},{"$error":"#NUM!"},0,1883,{"$f":"SMALL(IF($BJ$30:$BJ$32<>BH1932,\"\",ROW($BJ$30:$BJ$32)),BI1932)-29","v":{"$error":"#NUM!"}},{"$error":"#NUM!"},{"$error":"#NUM!"},true,false,{"$error":"#NUM!"}]
[null,null,null,null,null,null,null,null,null,null,null,null,null,null,null,null,null,null,null,null,null,null,null,null,null,null,null,null,null,null,null,null,null,null,null,null,null,null,null,null,null,null,null,null,null,null,null,null,null,null,null,null,false,true,0,1884,{"$f":"SMALL(IF($BB$30:$BB$32<>BC1933,\"\",ROW($BB$30:$BB$32)),BD1933)-29","v":{"$error":"#NUM!"}},{"$error":"#NUM!"},{"$error":"#NUM!"},0,1884,{"$f":"SMALL(IF($BJ$30:$BJ$32<>BH1933,\"\",ROW($BJ$30:$BJ$32)),BI1933)-29","v":{"$error":"#NUM!"}},{"$error":"#NUM!"},{"$error":"#NUM!"},true,false,{"$error":"#NUM!"}]
[null,null,null,null,null,null,null,null,null,null,null,null,null,null,null,null,null,null,null,null,null,null,null,null,null,null,null,null,null,null,null,null,null,null,null,null,null,null,null,null,null,null,null,null,null,null,null,null,null,null,null,null,false,true,0,1885,{"$f":"SMALL(IF($BB$30:$BB$32<>BC1934,\"\",ROW($BB$30:$BB$32)),BD1934)-29","v":{"$error":"#NUM!"}},{"$error":"#NUM!"},{"$error":"#NUM!"},0,1885,{"$f":"SMALL(IF($BJ$30:$BJ$32<>BH1934,\"\",ROW($BJ$30:$BJ$32)),BI1934)-29","v":{"$error":"#NUM!"}},{"$error":"#NUM!"},{"$error":"#NUM!"},true,false,{"$error":"#NUM!"}]
[null,null,null,null,null,null,null,null,null,null,null,null,null,null,null,null,null,null,null,null,null,null,null,null,null,null,null,null,null,null,null,null,null,null,null,null,null,null,null,null,null,null,null,null,null,null,null,null,null,null,null,null,false,true,0,1886,{"$f":"SMALL(IF($BB$30:$BB$32<>BC1935,\"\",ROW($BB$30:$BB$32)),BD1935)-29","v":{"$error":"#NUM!"}},{"$error":"#NUM!"},{"$error":"#NUM!"},0,1886,{"$f":"SMALL(IF($BJ$30:$BJ$32<>BH1935,\"\",ROW($BJ$30:$BJ$32)),BI1935)-29","v":{"$error":"#NUM!"}},{"$error":"#NUM!"},{"$error":"#NUM!"},true,false,{"$error":"#NUM!"}]
[null,null,null,null,null,null,null,null,null,null,null,null,null,null,null,null,null,null,null,null,null,null,null,null,null,null,null,null,null,null,null,null,null,null,null,null,null,null,null,null,null,null,null,null,null,null,null,null,null,null,null,null,false,true,0,1887,{"$f":"SMALL(IF($BB$30:$BB$32<>BC1936,\"\",ROW($BB$30:$BB$32)),BD1936)-29","v":{"$error":"#NUM!"}},{"$error":"#NUM!"},{"$error":"#NUM!"},0,1887,{"$f":"SMALL(IF($BJ$30:$BJ$32<>BH1936,\"\",ROW($BJ$30:$BJ$32)),BI1936)-29","v":{"$error":"#NUM!"}},{"$error":"#NUM!"},{"$error":"#NUM!"},true,false,{"$error":"#NUM!"}]
[null,null,null,null,null,null,null,null,null,null,null,null,null,null,null,null,null,null,null,null,null,null,null,null,null,null,null,null,null,null,null,null,null,null,null,null,null,null,null,null,null,null,null,null,null,null,null,null,null,null,null,null,false,true,0,1888,{"$f":"SMALL(IF($BB$30:$BB$32<>BC1937,\"\",ROW($BB$30:$BB$32)),BD1937)-29","v":{"$error":"#NUM!"}},{"$error":"#NUM!"},{"$error":"#NUM!"},0,1888,{"$f":"SMALL(IF($BJ$30:$BJ$32<>BH1937,\"\",ROW($BJ$30:$BJ$32)),BI1937)-29","v":{"$error":"#NUM!"}},{"$error":"#NUM!"},{"$error":"#NUM!"},true,false,{"$error":"#NUM!"}]
[null,null,null,null,null,null,null,null,null,null,null,null,null,null,null,null,null,null,null,null,null,null,null,null,null,null,null,null,null,null,null,null,null,null,null,null,null,null,null,null,null,null,null,null,null,null,null,null,null,null,null,null,false,true,0,1889,{"$f":"SMALL(IF($BB$30:$BB$32<>BC1938,\"\",ROW($BB$30:$BB$32)),BD1938)-29","v":{"$error":"#NUM!"}},{"$error":"#NUM!"},{"$error":"#NUM!"},0,1889,{"$f":"SMALL(IF($BJ$30:$BJ$32<>BH1938,\"\",ROW($BJ$30:$BJ$32)),BI1938)-29","v":{"$error":"#NUM!"}},{"$error":"#NUM!"},{"$error":"#NUM!"},true,false,{"$error":"#NUM!"}]
[null,null,null,null,null,null,null,null,null,null,null,null,null,null,null,null,null,null,null,null,null,null,null,null,null,null,null,null,null,null,null,null,null,null,null,null,null,null,null,null,null,null,null,null,null,null,null,null,null,null,null,null,false,true,0,1890,{"$f":"SMALL(IF($BB$30:$BB$32<>BC1939,\"\",ROW($BB$30:$BB$32)),BD1939)-29","v":{"$error":"#NUM!"}},{"$error":"#NUM!"},{"$error":"#NUM!"},0,1890,{"$f":"SMALL(IF($BJ$30:$BJ$32<>BH1939,\"\",ROW($BJ$30:$BJ$32)),BI1939)-29","v":{"$error":"#NUM!"}},{"$error":"#NUM!"},{"$error":"#NUM!"},true,false,{"$error":"#NUM!"}]
[null,null,null,null,null,null,null,null,null,null,null,null,null,null,null,null,null,null,null,null,null,null,null,null,null,null,null,null,null,null,null,null,null,null,null,null,null,null,null,null,null,null,null,null,null,null,null,null,null,null,null,null,false,true,0,1891,{"$f":"SMALL(IF($BB$30:$BB$32<>BC1940,\"\",ROW($BB$30:$BB$32)),BD1940)-29","v":{"$error":"#NUM!"}},{"$error":"#NUM!"},{"$error":"#NUM!"},0,1891,{"$f":"SMALL(IF($BJ$30:$BJ$32<>BH1940,\"\",ROW($BJ$30:$BJ$32)),BI1940)-29","v":{"$error":"#NUM!"}},{"$error":"#NUM!"},{"$error":"#NUM!"},true,false,{"$error":"#NUM!"}]
[null,null,null,null,null,null,null,null,null,null,null,null,null,null,null,null,null,null,null,null,null,null,null,null,null,null,null,null,null,null,null,null,null,null,null,null,null,null,null,null,null,null,null,null,null,null,null,null,null,null,null,null,false,true,0,1892,{"$f":"SMALL(IF($BB$30:$BB$32<>BC1941,\"\",ROW($BB$30:$BB$32)),BD1941)-29","v":{"$error":"#NUM!"}},{"$error":"#NUM!"},{"$error":"#NUM!"},0,1892,{"$f":"SMALL(IF($BJ$30:$BJ$32<>BH1941,\"\",ROW($BJ$30:$BJ$32)),BI1941)-29","v":{"$error":"#NUM!"}},{"$error":"#NUM!"},{"$error":"#NUM!"},true,false,{"$error":"#NUM!"}]
[null,null,null,null,null,null,null,null,null,null,null,null,null,null,null,null,null,null,null,null,null,null,null,null,null,null,null,null,null,null,null,null,null,null,null,null,null,null,null,null,null,null,null,null,null,null,null,null,null,null,null,null,false,true,0,1893,{"$f":"SMALL(IF($BB$30:$BB$32<>BC1942,\"\",ROW($BB$30:$BB$32)),BD1942)-29","v":{"$error":"#NUM!"}},{"$error":"#NUM!"},{"$error":"#NUM!"},0,1893,{"$f":"SMALL(IF($BJ$30:$BJ$32<>BH1942,\"\",ROW($BJ$30:$BJ$32)),BI1942)-29","v":{"$error":"#NUM!"}},{"$error":"#NUM!"},{"$error":"#NUM!"},true,false,{"$error":"#NUM!"}]
[null,null,null,null,null,null,null,null,null,null,null,null,null,null,null,null,null,null,null,null,null,null,null,null,null,null,null,null,null,null,null,null,null,null,null,null,null,null,null,null,null,null,null,null,null,null,null,null,null,null,null,null,false,true,0,1894,{"$f":"SMALL(IF($BB$30:$BB$32<>BC1943,\"\",ROW($BB$30:$BB$32)),BD1943)-29","v":{"$error":"#NUM!"}},{"$error":"#NUM!"},{"$error":"#NUM!"},0,1894,{"$f":"SMALL(IF($BJ$30:$BJ$32<>BH1943,\"\",ROW($BJ$30:$BJ$32)),BI1943)-29","v":{"$error":"#NUM!"}},{"$error":"#NUM!"},{"$error":"#NUM!"},true,false,{"$error":"#NUM!"}]
[null,null,null,null,null,null,null,null,null,null,null,null,null,null,null,null,null,null,null,null,null,null,null,null,null,null,null,null,null,null,null,null,null,null,null,null,null,null,null,null,null,null,null,null,null,null,null,null,null,null,null,null,false,true,0,1895,{"$f":"SMALL(IF($BB$30:$BB$32<>BC1944,\"\",ROW($BB$30:$BB$32)),BD1944)-29","v":{"$error":"#NUM!"}},{"$error":"#NUM!"},{"$error":"#NUM!"},0,1895,{"$f":"SMALL(IF($BJ$30:$BJ$32<>BH1944,\"\",ROW($BJ$30:$BJ$32)),BI1944)-29","v":{"$error":"#NUM!"}},{"$error":"#NUM!"},{"$error":"#NUM!"},true,false,{"$error":"#NUM!"}]
[null,null,null,null,null,null,null,null,null,null,null,null,null,null,null,null,null,null,null,null,null,null,null,null,null,null,null,null,null,null,null,null,null,null,null,null,null,null,null,null,null,null,null,null,null,null,null,null,null,null,null,null,false,true,0,1896,{"$f":"SMALL(IF($BB$30:$BB$32<>BC1945,\"\",ROW($BB$30:$BB$32)),BD1945)-29","v":{"$error":"#NUM!"}},{"$error":"#NUM!"},{"$error":"#NUM!"},0,1896,{"$f":"SMALL(IF($BJ$30:$BJ$32<>BH1945,\"\",ROW($BJ$30:$BJ$32)),BI1945)-29","v":{"$error":"#NUM!"}},{"$error":"#NUM!"},{"$error":"#NUM!"},true,false,{"$error":"#NUM!"}]
[null,null,null,null,null,null,null,null,null,null,null,null,null,null,null,null,null,null,null,null,null,null,null,null,null,null,null,null,null,null,null,null,null,null,null,null,null,null,null,null,null,null,null,null,null,null,null,null,null,null,null,null,false,true,0,1897,{"$f":"SMALL(IF($BB$30:$BB$32<>BC1946,\"\",ROW($BB$30:$BB$32)),BD1946)-29","v":{"$error":"#NUM!"}},{"$error":"#NUM!"},{"$error":"#NUM!"},0,1897,{"$f":"SMALL(IF($BJ$30:$BJ$32<>BH1946,\"\",ROW($BJ$30:$BJ$32)),BI1946)-29","v":{"$error":"#NUM!"}},{"$error":"#NUM!"},{"$error":"#NUM!"},true,false,{"$error":"#NUM!"}]
[null,null,null,null,null,null,null,null,null,null,null,null,null,null,null,null,null,null,null,null,null,null,null,null,null,null,null,null,null,null,null,null,null,null,null,null,null,null,null,null,null,null,null,null,null,null,null,null,null,null,null,null,false,true,0,1898,{"$f":"SMALL(IF($BB$30:$BB$32<>BC1947,\"\",ROW($BB$30:$BB$32)),BD1947)-29","v":{"$error":"#NUM!"}},{"$error":"#NUM!"},{"$error":"#NUM!"},0,1898,{"$f":"SMALL(IF($BJ$30:$BJ$32<>BH1947,\"\",ROW($BJ$30:$BJ$32)),BI1947)-29","v":{"$error":"#NUM!"}},{"$error":"#NUM!"},{"$error":"#NUM!"},true,false,{"$error":"#NUM!"}]
[null,null,null,null,null,null,null,null,null,null,null,null,null,null,null,null,null,null,null,null,null,null,null,null,null,null,null,null,null,null,null,null,null,null,null,null,null,null,null,null,null,null,null,null,null,null,null,null,null,null,null,null,false,true,0,1899,{"$f":"SMALL(IF($BB$30:$BB$32<>BC1948,\"\",ROW($BB$30:$BB$32)),BD1948)-29","v":{"$error":"#NUM!"}},{"$error":"#NUM!"},{"$error":"#NUM!"},0,1899,{"$f":"SMALL(IF($BJ$30:$BJ$32<>BH1948,\"\",ROW($BJ$30:$BJ$32)),BI1948)-29","v":{"$error":"#NUM!"}},{"$error":"#NUM!"},{"$error":"#NUM!"},true,false,{"$error":"#NUM!"}]
[null,null,null,null,null,null,null,null,null,null,null,null,null,null,null,null,null,null,null,null,null,null,null,null,null,null,null,null,null,null,null,null,null,null,null,null,null,null,null,null,null,null,null,null,null,null,null,null,null,null,null,null,false,true,0,1900,{"$f":"SMALL(IF($BB$30:$BB$32<>BC1949,\"\",ROW($BB$30:$BB$32)),BD1949)-29","v":{"$error":"#NUM!"}},{"$error":"#NUM!"},{"$error":"#NUM!"},0,1900,{"$f":"SMALL(IF($BJ$30:$BJ$32<>BH1949,\"\",ROW($BJ$30:$BJ$32)),BI1949)-29","v":{"$error":"#NUM!"}},{"$error":"#NUM!"},{"$error":"#NUM!"},true,false,{"$error":"#NUM!"}]
[null,null,null,null,null,null,null,null,null,null,null,null,null,null,null,null,null,null,null,null,null,null,null,null,null,null,null,null,null,null,null,null,null,null,null,null,null,null,null,null,null,null,null,null,null,null,null,null,null,null,null,null,false,true,0,1901,{"$f":"SMALL(IF($BB$30:$BB$32<>BC1950,\"\",ROW($BB$30:$BB$32)),BD1950)-29","v":{"$error":"#NUM!"}},{"$error":"#NUM!"},{"$error":"#NUM!"},0,1901,{"$f":"SMALL(IF($BJ$30:$BJ$32<>BH1950,\"\",ROW($BJ$30:$BJ$32)),BI1950)-29","v":{"$error":"#NUM!"}},{"$error":"#NUM!"},{"$error":"#NUM!"},true,false,{"$error":"#NUM!"}]
[null,null,null,null,null,null,null,null,null,null,null,null,null,null,null,null,null,null,null,null,null,null,null,null,null,null,null,null,null,null,null,null,null,null,null,null,null,null,null,null,null,null,null,null,null,null,null,null,null,null,null,null,false,true,0,1902,{"$f":"SMALL(IF($BB$30:$BB$32<>BC1951,\"\",ROW($BB$30:$BB$32)),BD1951)-29","v":{"$error":"#NUM!"}},{"$error":"#NUM!"},{"$error":"#NUM!"},0,1902,{"$f":"SMALL(IF($BJ$30:$BJ$32<>BH1951,\"\",ROW($BJ$30:$BJ$32)),BI1951)-29","v":{"$error":"#NUM!"}},{"$error":"#NUM!"},{"$error":"#NUM!"},true,false,{"$error":"#NUM!"}]

{"sheet":"DAX Lot számláló","index":1,"n_rows":14,"n_cols":10,"rows_kept":14,"cut":false,"hidden":false,"merged":[[13,9,13,10],[6,2,6,11],[7,2,7,11],[8,9,8,10],[9,9,9,10],[11,2,11,11],[12,9,12,10]]}
[]
[]
[]
[]
[]
[]
[null,null,"DAX LOT SZÁMOLÓ"]
[null,null,"Kereskedési napló számlaegyenlege alapján"]
[null,null,null,"SL (pont)","Lot","Kontraktus mérete","EUR/USD árfolyam","RISK $","KK-%","Számla egyenleg $"]
[null,null,null,35,{"$f":"((H10/G10)/D10)/(F10/100)*0.01","v":6.8027210884353734E-2},25,1.05,{"$f":"J10*I10","v":62.5},1.2500000000000001E-2,{"$f":"Munka1!J2","v":5000}]
[]
[null,null,"Egyéb számlákhoz"]
[null,null,null,"SL (pont)","Lot","Kontraktus mérete","EUR/USD árfolyam","RISK $","KK-%","Számla egyenleg $"]
[null,null,null,20,{"$f":"((H14/G14)/D14)/(F14/100)*0.01","v":0.27241770715096481},25,1.0571999999999999,{"$f":"J14*I14","v":144},0.01,14400]